{"text_format":"1","workbook":"xlsx","n_sheets":8,"sheets":["ניהול","א. פתיח","ב. תוכן עניינים","ג. שאלון למילוי מגיש הבקשה","ד. ציוד כללי","ה. ציוד נוסף ","ו. סיכום","ז. סיכום מפורט (לשימוש משרדי)"],"not_rendered":{"charts":0,"images":2,"macros":1,"external_links":0,"defined_names":2,"comments":0,"pivot_tables":0},"unopened":[],"bounds":{"document_bytes":16777216,"sheet_cells":100000,"rows_first":2000,"rows_last":500,"rows_between":2000,"halvings":0,"cell_chars":16384,"cell_head_chars":4096},"cells_cut":0,"cells_raw":0,"read":"whole","date_system":"1900"}

{"sheet":"ניהול","index":0,"n_rows":17,"n_cols":4,"rows_kept":17,"cut":false,"hidden":true,"merged":[]}
["סוג המסגרת",null,"פעולות נעילה/ פתיחה"]
["נא לבחור מתוך הרשימה",null,"כלים","הסבר"]
["דירה",1,null,"הכפתור נועל את הנתונים הנבחרים "]
["נופשון",null,null,"הקובץ  נשלח עם נעילת נתוני התקן ונוסחאות"]
["הוסטל",2,null,"הכפתור פותח את כל הנתונים"]
[null,null,null,"יש להפעיל אותו לאחר  אישור בקשת הגוף"]
[null,null,null,"לצורך נעילת שלב אישור בקשת הגוף"]
[null,3,null,"יש להפעיל את הכפתור אחרי פעולה מס' 2"]
[null,null,null,"ואחרי זה כפתור מס' 1 "]
[null,4,null,"הכפתור נדרש במקרים מיוחדים"]
[null,null,null,"במידה ויש לעשות תיקונים אחרי שלב האישור"]
[null,null,null,"או לצרכים טכניים"]
[null,null,null,"להפעלתו יש לעשות פעולה מס' 2"]
[null,null,null,"ואחרי תיקון נתוני האישור לבצע פעולות  3 ו- 1"]
[null,5,null,"סינון ציוד מוזמן בסעיף \"סיכום מפורט\" אינו מוגן"]
[null,null,null,"מפני שהסינון לא עובד במצב נעול, לכן יש להיזהר "]
[null,null,null,"מכול פעולה מעבר מהפעלת הסינון באמצאות הכפתורים"]

{"sheet":"א. פתיח","index":1,"n_rows":51,"n_cols":2,"rows_kept":51,"cut":false,"hidden":false,"merged":[[39,1,39,7],[38,1,38,10],[33,1,33,10],[34,1,34,10],[35,1,35,10],[36,1,36,10],[37,1,37,10]]}
[]
[]
[]
[]
[]
[]
[]
[]
[]
[null,"גרסה : 1.1.2023"]
[null,"תקן ציוד לדירה, הוסטל או נופשון בקהילה"]
[null,"ציוד לאבזור דירה הוסטל או נופשון"]
[]
[null,"רקע כללי"]
[null,"הסיוע ניתן לציוד.  "]
[]
[null,"עבור דירה או הוסטל-  "]
[null,"מענק צמרת (בלבד)- עד 100,000 ₪ ועד 50%  מהעלות הכוללת, הנמוך מביניהם, אחת ל 7 שנים מתום תשלום ובלבד שהדירה פועלת כבר 5 שנים."]
[null,"יש להיכנס לאתר קרן שלם, פיתוח פיזי מענקים ולפעול בהתאם להנחיות."]
[null,"מצב קישור >> מענק צמרת"]
[]
[null,"עבור נופשון - שתי אופציות לבחירה:"]
[null,"מענק מעלה - עד 60,000 ₪ ובמימון מלא, אחת ל 3 שנים ממועד תשלום אחרון. "]
[null,"מענק צמרת - עד 100,000 ₪ ועד 50% מהעלות הכוללת הנמוך מהשניים, אחת ל 5 שנים ממועד תשלום אחרון."]
[null,"מצב קישור >> מענק מעלה"]
[null,"מצב קישור >> מענק צמרת"]
[]
[null,"מטרת תקן ציוד"]
[null,"לסייע לרשויות או גופים המפעילים מסגרות לבנות את רשימת הציוד בהתאם להיקף ולסוג פעילותם. "]
[null,"התקן מהווה רשימת ציוד מומלצת אשר ניתן לבחור מתוכה את פרטי הציוד הדרושים. "]
[null,"לא נדרש להציג שתי הצעות מחיר למעט בגיליון ציוד נוסף, עבור ציוד שאינו נמצא בתקן."]
[]
[null,"הבהרות"]
[]
[null,"הסיוע בציוד למסגרות דיור הוסטל או נופשון בקהילה  "]
[null,"לתשומת ליבכם, היקף הסיוע נקבע גם לפי מספר האנשים במסגרת וכן לפי מס' מקבלי השרות המוכרים על מש\"ה "]
[null,"עבור הריהוט למסגרות ניתן לבקש  גם ייעוץ מקצועי ע\"י מעצב פנים. ראה סעיף ציוד כללי.  "]
[null,"במידה וקיים צורך בציוד אשר אינו מופיע בתקן, ניתן לבקש בגיליון ה'- ציוד נוסף. "]
[null,"הסכומים המופיעים בטבלאות כוללים מע\"מ בשיעור 17%. "]
[null,"גובה הסיוע כפוף להחלטות ומדיניות הנהלת הקרן המשתנות/מתעדכנות  באתר הקרן."]
[]
[null,"הנחיות למילוי הקובץ:"]
[null,"שלב הגשת הבקשה:"]
[null,"עליכם למלא גיליון ג' בטרם מילוי הגיליונות האחרים"]
[null,"גיליונות ד' עד ה' עליכם למלא רק עמודות הצבועות בירוק"]
[null,"אין לגעת בתאים האחרים- תאים אלו \"נעולים\""]
[]
[null,"שלב הדיווח על ההוצאות:"]
[null,"לאחר אישור הבקשה יוחזר הגיליון עם הפריטים המאושרים "]
[null,"גיליונות ד' עד ה' עליכם למלא רק עמודות הצבועות בכתום "]
[null,"אין לגעת בתאים האחרים- תאים אלו \"נעולים\""]

{"sheet":"ב. תוכן עניינים","index":2,"n_rows":19,"n_cols":3,"rows_kept":19,"cut":false,"hidden":false,"merged":[]}
[]
[]
[]
[]
[]
[]
[]
[null,"תקן ציוד לדירה, הוסטל או נופשון בקהילה"]
[null,"ציוד לאבזור דירה הוסטל או נופשון"]
[null,"תוכן עניינים:"]
[]
[null,"גיליון","תוכן הגיליון"]
[null,"א.","פתיח"]
[null,"ב.","תוכן עניינים"]
[null,"ג.","שאלון למילוי מגיש הבקשה "]
[null,"ד.","ציוד כללי"]
[null,"ה.","ציוד נוסף"]
[null,"ו.","סיכום "]
[null,"ז.","סיכום מפורט (לשימוש משרדי)"]

{"sheet":"ג. שאלון למילוי מגיש הבקשה","index":3,"n_rows":41,"n_cols":5,"rows_kept":41,"cut":false,"hidden":false,"merged":[[18,2,18,3],[30,2,30,3],[36,2,36,3],[28,2,28,3],[26,2,26,3],[24,2,24,3]]}
[]
[]
[]
[]
[]
[]
[]
[null,"תקן ציוד במסגרות דיור, הוסטל, נופשון בקהילה"]
[null," ציוד כללי"]
[null,"שאלון למגיש הבקשה"]
[null,"הערות והסברים למילוי הבקשה"]
[null,"יש למלא את השאלון לעיל לפני מעבר לכתב הכמויות"]
[null,"הגוף המבקש מתבקש למלא פרטים בתאים המסומנים בצבע ירוק בלבד. אין למלא תאים אחרים."]
[null,"כל מחירי התקן כוללים מע\"מ בשיעור של 17%."]
[null,"קרן שלם מיועדת לאנשים עם מש\"ה. במסגרת הנותנת מענה רב נכותי, ההתיחסות הינה בהתאם למספר מקבלי השרות המוכרים עם מש\"ה."]
[]
[]
[]
[null,null,"תאריך הגשת הבקשה"]
[]
[null,null,"שם המסגרת"]
[]
[null,null,"סוג המסגרת",null,"נא לבחור מתוך הרשימה"]
[]
[null,null,"שם הרשות"]
[]
[null,null,"שם הארגון המפעיל"]
[]
[null,null,"כתובת המסגרת"]
[]
[null,null,"שם ושם משפחה איש קשר"]
[]
[null,null,"תפקיד איש קשר"]
[]
[null,null,"נייד איש קשר "]
[]
[null,null,"מייל איש קשר"]
[]
[null,null,"מספר מקבלי השרות"]
[]
[null,null,"כמה מתוכם מוכרים עם מש\"ה (מוגבלות שיכלית התפתחותית)"]

{"sheet":"ד. ציוד כללי","index":4,"n_rows":70,"n_cols":13,"rows_kept":70,"cut":false,"hidden":false,"merged":[[4,9,4,12],[4,5,4,7],[4,1,4,3]]}
[null,{"$f":"'ב. תוכן עניינים'!C16","v":"ציוד כללי"},null,null,null,"שלב הגשת בקשת הגוף:",null,null,null,"שלב הדיווח לתשלום לאחר ביצוע:"]
[null,"שם המסגרת",null,{"$f":"'ג. שאלון למילוי מגיש הבקשה'!E21","v":"00:00:00"},null,"עליכם למלא גיליון ג' טרם מילוי הגיליונות האחרים ",null,null,null,"לאחר אישור הבקשה יוחזר הגיליון עם הפריטים המאושרים"]
[null,"סוג המסגרת",null,{"$f":"'ג. שאלון למילוי מגיש הבקשה'!E23","v":"נא לבחור מתוך הרשימה"},null,"גיליונות ד' עד ה' - יש למלא רק עמודות הצבועות בירוק",null,null,null,"גיליונות ד' עד ה' - יש למלא רק עמודות הצבועות בכתום/ורוד"]
[null,"מספר האנשים שעבורם מיועד הפרויקט",null,{"$f":"'ג. שאלון למילוי מגיש הבקשה'!$E$39","v":0},null,"אין לסמן בתאים האחרים- תאים אלו יהיו נעולים",null,null,null,"אין לסמן בתאים האחרים- תאים אלו יהיו נעולים"]
[null,"תקן",null,null,null,"בקשת הגוף",null,null,null,"דיווח לתשלום לאחר ביצוע"]
[null,"סוג הריהוט / ציוד","תיאור","מחיר ליחידה",null,"כמות מבוקשת","תקציב מבוקש לקבוצה","הערות הגוף",null,"הפריט שנרכש","מס' חשבונית מס","תאריך חשבונית מס","סכום כולל מע\"מ"]
[null,"ריהוט אישי","מיטה",1600,null,null,{"$f":"D7*F7","v":0}]
[null,null,"מזרן ",2200,null,null,{"$f":"D8*F8","v":0}]
[null,null,"ארונית ליד מחטה",500,null,null,0]
[null,null,"ארון ",2400,null,null,0]
[null,null,"שולחן מחשב וכוורת ",2500,null,null,0]
[null,null,"כיסא למחשב ",700,null,null,0]
[null,"ריהוט משותף","ספה לסלון",7000,null,null,0]
[null,null,"שולחן וכורסאות סלון",5000,null,null,0]
[null,null,"פינת אוכל למטבח ",7000,null,null,0]
[null,"מחשוב,","מחשב נייח",3000,null,null,0]
[null,"תקשורת,","מדפסת",800,null,null,0]
[null,"טלוויזיה","טלפון אלחוטי",200,null,null,0]
[null,null,"טאבלט",1500,null,null,0]
[null,null,"מסך פלזמה ",5500,null,null,0]
[null,"ציוד מטבח","מקרר ",5000,null,null,0]
[null,null,"תנור",3000,null,null,0]
[null,null,"מיחם",450,null,null,0]
[null,null,"מיקרוגל  ",900,null,null,0]
[null,null,"מעבד מזון",1700,null,null,0]
[null,null,"קומקום",300,null,null,0]
[null,null,"כלי מטבח",6000,null,null,0]
[null,"מיזוג אוויר","מזגן מגורים 1 כ\"ס",2300,null,null,0]
[null,"כולל התקנה","מזגן מגורים 1.25 כ\"ס",2500,null,null,0]
[null,null,"מזגן מגורים 1.5 כ\"ס",3200,null,null,0]
[null,null,"מזגן מגורים 2 כ\"ס",3200,null,null,0]
[null,null,"מזגן מגורים 2.5 כ\"ס",3600,null,null,0]
[null,null,"מזגן מיני מרכזי 2.5 כ\"ס ",7000,null,null,0]
[null,null,"מזגן מיני מרכזי 3 כ\"ס ",8000,null,null,0]
[null,null,"מזגן מיני מרכזי 3.5 כ\"ס ",9000,null,null,0]
[null,"ציוד חשמל","מכונת כביסה ",3500,null,null,0]
[null,"אחר","מייבש כביסה",2100,null,null,0]
[null,null,"שואב אבק",500,null,null,0]
[null,null,"מגהץ",500,null,null,0]
[null,"תאורה","תאורת סלון",2500,null,null,0]
[null,"(סכומים גלובליים)","תאורת מטבח",500,null,null,0]
[null,null,"תאורת חדרי שינה ",1200,null,null,0]
[null,null,"תאורת חצר ",1000,null,null,0]
[null,null,"תאורת חירום ",500,null,null,0]
[null,"מתקני חצר","שולחן וכסאות ",3500,null,null,0]
[null,null,"ספסל לחצר",2200,null,null,0]
[null,null,"נדנדה",2400,null,null,0]
[null,null,"פרגולה",15000,null,null,0]
[null,null,"שימשיה ",2500,null,null,0]
[null,null,"דשא סינטטי (מחיר למטר)",100,null,null,0]
[null,null,"אדניות וצמחיה",3000,null,null,0]
[null,null,"גדר קנים לחצר לשמירת פרטיות",2400,null,null,0]
[null,"ציוד עזר,","מכשיר הליכה",2500,null,null,0]
[null,"מוצרי טקסטיל,","עציצים",1200,null,null,0]
[null,"אביזרי עיצוב","שעון קיר",450,null,null,0]
[null,null,"סל כביסה  ",450,null,null,0]
[null,null,"ארון שירות ",520,null,null,0]
[null,null,"מתקן כביסה",250,null,null,0]
[null,null,"מראה",200,null,null,0]
[null,null,"קרש גיהוץ כתר",450,null,null,0]
[null,null,"אביזרי נוי לכל הבית ",2500,null,null,0]
[null,"כללי","ארגז כלי עבודה",500,null,null,0]
[null,null,"סולם 4 שלבים",250,null,null,0]
[null,null,"ארון עזרה ראשונה",500,null,null,0]
[null,null,"ארון תרופות",200,null,null,0]
[null,null,"מטף 6 ק\"ג",250,null,null,0]
[null,null,"מתקנים ואביזרים אמבטיה שירותים",1500,null,null,{"$f":"D67*F67","v":0}]
[null,"מוצרי טקסטיל ","מוצרי טקסטיל (סט לאדם אחד)",1500,null,null,0]
[null,"עיצוב פנים","עיצוב פנים",5000,null,null,0]
[null,"סה\"כ ציוד כללי (כולל מע\"מ)",null,null,null,null,{"$f":"SUM(G7:G69)","v":0},{"$f":"B70","v":"סה\"כ ציוד כללי (כולל מע\"מ)"},null,{"$f":"H70","v":"סה\"כ ציוד כללי (כולל מע\"מ)"},null,null,{"$f":"SUM(M7:M69)","v":0}]

{"sheet":"ה. ציוד נוסף ","index":5,"n_rows":29,"n_cols":17,"rows_kept":29,"cut":false,"hidden":false,"merged":[[5,13,5,16],[5,6,5,8],[5,3,5,5],[5,9,5,11]]}
[null,{"$f":"'ב. תוכן עניינים'!C17","v":"ציוד נוסף"},null,null,null,null,null,null,null,"שלב הגשת בקשת הגוף:",null,null,null,"שלב הדיווח לתשלום לאחר ביצוע:"]
[null,"ניתן להכניס בטבלה זאת ציוד שאינו מופיע  בתקן.  יש להציג  2  הצעות מחיר  ולציין  בטורים  K-L  את  ההצעה המועדפת. ",null,null,null,null,null,null,null,"יש למלא גיליון ג' בטרם מילוי הגיליונות האחרים.",null,null,null,"לאחר אישור הבקשה יוחזר הגיליון עם הפריטים המאושרים"]
[null,{"$f":"'ד. ציוד כללי'!B2","v":"שם המסגרת"},null,{"$f":"'ד. ציוד כללי'!D2","v":"00:00:00"},null,"נקלט אוטומטית מהשאלון למילוי מגיש הבקשה",null,null,null,"גיליונות ד' עד ה' -עליכם למלא רק עמודות הצבועות בירוק",null,null,null,"גיליונות ד' עד ה', יש למלא רק עמודות הצבועות בכתום/ורוד"]
[null,{"$f":"'ד. ציוד כללי'!B3","v":"סוג המסגרת"},null,{"$f":"'ד. ציוד כללי'!D3","v":"נא לבחור מתוך הרשימה"},null,null,null,null,null,"אין לגעת בתאים האחרים- תאים אלו יהיו נעולים",null,null,null,"אין לגעת בתאים האחרים- תאים אלו יהיו נעולים"]
[null,{"$f":"'ד. ציוד כללי'!B4","v":"מספר האנשים שעבורם מיועד הפרויקט"},null,{"$f":"'ג. שאלון למילוי מגיש הבקשה'!E39","v":0}]
[null,"ציוד נוסף",null,"הצעה ראשונה ",null,null," הצעה שניה",null,null,"הצעה מועדפת",null,null,null,"דיווח לתשלום"]
[null,"תאור הציוד","כמות מבוקשת","שם ספק 1","מחיר ליחידה ","סכום ","שם הספק 2","מחיר ליחידה ","סכום","הספק המועדף","מחיר ליחידה ","סכום",null,"הפריט שנרכש","מס' חשבונית מס ","תאריך חשבונית מס","סכום כולל מעמ"]
[null,null,null,null,null,{"$f":"C8*E8","v":0},null,null,{"$f":"$C8*H8","v":0},null,null,{"$f":"C8*K8","v":0}]
[null,null,null,null,null,0,null,null,0,null,null,0]
[null,null,null,null,null,0,null,null,0,null,null,0]
[null,null,null,null,null,0,null,null,0,null,null,0]
[null,null,null,null,null,0,null,null,0,null,null,0]
[null,null,null,null,null,0,null,null,0,null,null,0]
[null,null,null,null,null,0,null,null,0,null,null,0]
[null,null,null,null,null,0,null,null,0,null,null,0]
[null,null,null,null,null,0,null,null,0,null,null,0]
[null,null,null,null,null,0,null,null,0,null,null,0]
[null,null,null,null,null,0,null,null,0,null,null,0]
[null,null,null,null,null,0,null,null,0,null,null,0]
[null,null,null,null,null,0,null,null,0,null,null,0]
[null,null,null,null,null,0,null,null,0,null,null,0]
[null,null,null,null,null,0,null,null,0,null,null,0]
[null,null,null,null,null,0,null,null,0,null,null,0]
[null,null,null,null,null,0,null,null,0,null,null,0]
[null,null,null,null,null,0,null,null,0,null,null,0]
[null,null,null,null,null,0,null,null,0,null,null,0]
[null,null,null,null,null,0,null,null,0,null,null,0]
[null,null,null,null,null,0,null,null,0,null,null,0]
[null,"סה\"כ  ציוד נוסף(כולל מע\"מ)",null,null,null,{"$f":"SUM(F8:F28)","v":0},null,null,{"$f":"SUM(I8:I28)","v":0},null,null,{"$f":"SUM(L8:L28)","v":0},null,{"$f":"B29","v":"סה\"כ  ציוד נוסף(כולל מע\"מ)"},null,null,{"$f":"SUM(Q8:Q28)","v":0}]

{"sheet":"ו. סיכום","index":6,"n_rows":35,"n_cols":4,"rows_kept":35,"cut":false,"hidden":false,"merged":[]}
[]
[]
[]
[]
[]
[]
[]
[null,"תקן ציוד דירה, הוסטל, נופשון"]
[null," ציוד כללי"]
[]
[null,"דוח ביצוע מסכם"]
[]
[null,"הנחיות לקבלת תשלום : "]
[null,"יש למלא את ההוצאות בפועל בכל אחד מהגיליונות הרלבנטיים הקודמים. הסכומים יעודכנו אוטומטית בגיליון זה."]
[null,"יש לשלוח את הקובץ הזה במלואו באימייל המצויין מטה."]
[null,"יש להדפיס עמוד זה ולהחתים כנדרש "]
[null,"בנוסף יש לצרף :"]
[null,"צילומי חשבוניות מס / קבלות או כרטסת חתומה ע\"י רו\"ח של ארגון מפעיל/ גזבר הרשות"]
[null,"את הדיווחים  לתשלום  ואת הקובץ במלואו יש לשלוח במייל : limor@kshalem.org.il"]
[null,"באחריות השולח לוודא כי החמרים הגיעו ליעדם "]
[]
[null,{"$f":"'ד. ציוד כללי'!B2","v":"שם המסגרת"},{"$f":"'ד. ציוד כללי'!D2","v":"00:00:00"}]
[null,{"$f":"'ד. ציוד כללי'!B3","v":"סוג המסגרת"},{"$f":"'ד. ציוד כללי'!D3","v":"נא לבחור מתוך הרשימה"}]
[null,{"$f":"'ד. ציוד כללי'!B4","v":"מספר האנשים שעבורם מיועד הפרויקט"},{"$f":"'ד. ציוד כללי'!D4","v":0}]
[]
[null,"ציוד על פי נושאים","סכום מאושר","סכום שבוצע בפועל"]
[null,{"$f":"'ד. ציוד כללי'!B1","v":"ציוד כללי"},{"$f":"'ד. ציוד כללי'!G70","v":0},{"$f":"'ד. ציוד כללי'!M70","v":0}]
[null,{"$f":"'ה. ציוד נוסף '!B1","v":"ציוד נוסף"},{"$f":"'ה. ציוד נוסף '!L29","v":0},{"$f":"'ה. ציוד נוסף '!Q29","v":0}]
[null,"סה\"כ בקשה כולל מע\"מ",{"$f":"SUM(C27:C28)","v":0},{"$f":"SUM(D27:D28)","v":0}]
[]
[null,"מספר פרוייקט קרן שלם"]
[]
[null,"חתימה וחותמת גזבר/רו\"ח"]
[]
[null,"תאריך "]

{"sheet":"ז. סיכום מפורט (לשימוש משרדי)","index":7,"n_rows":96,"n_cols":8,"rows_kept":96,"cut":false,"hidden":false,"merged":[]}
[{"$f":"'ב. תוכן עניינים'!C19","v":"סיכום מפורט (לשימוש משרדי)"}]
["מספר מק\"ט",{"$f":"'ו. סיכום'!C31","v":0}]
[{"$f":"'ד. ציוד כללי'!B2","v":"שם המסגרת"},{"$f":"'ד. ציוד כללי'!D2","v":"00:00:00"}]
[{"$f":"'ד. ציוד כללי'!B3","v":"סוג המסגרת"},{"$f":"'ד. ציוד כללי'!D3","v":"נא לבחור מתוך הרשימה"}]
[{"$f":"'ד. ציוד כללי'!B4","v":"מספר האנשים שעבורם מיועד הפרויקט"},{"$f":"'ד. ציוד כללי'!D4","v":0}]
[null,"בקשה / אישור",null,null,"דיווח לתשלום"]
[{"$f":"'ד. ציוד כללי'!C6","v":"תיאור"},{"$f":"'ד. ציוד כללי'!F6","v":"כמות מבוקשת"},{"$f":"'ד. ציוד כללי'!G6","v":"תקציב מבוקש לקבוצה"},null,{"$f":"'ד. ציוד כללי'!J6","v":"הפריט שנרכש"},{"$f":"'ד. ציוד כללי'!K6","v":"מס' חשבונית מס"},{"$f":"'ד. ציוד כללי'!L6","v":"תאריך חשבונית מס"},{"$f":"'ד. ציוד כללי'!M6","v":"סכום כולל מע\"מ"}]
[{"$f":"'ב. תוכן עניינים'!C16","v":"ציוד כללי"},null,null,null,{"$f":"A8","v":"ציוד כללי"}]
[{"$f":"'ד. ציוד כללי'!C7","v":"מיטה"},{"$f":"'ד. ציוד כללי'!F7","v":0},{"$f":"'ד. ציוד כללי'!G7","v":0},null,{"$f":"'ד. ציוד כללי'!J7","v":0},{"$f":"'ד. ציוד כללי'!K7","v":0},{"$f":"IF(F9=0,\"\",'ד. ציוד כללי'!L7)","v":""},{"$f":"'ד. ציוד כללי'!M7","v":0}]
[{"$f":"'ד. ציוד כללי'!C8","v":"מזרן "},{"$f":"'ד. ציוד כללי'!F8","v":0},{"$f":"'ד. ציוד כללי'!G8","v":0},null,{"$f":"'ד. ציוד כללי'!J8","v":0},{"$f":"'ד. ציוד כללי'!K8","v":0},{"$f":"IF(F10=0,\"\",'ד. ציוד כללי'!L8)","v":""},{"$f":"'ד. ציוד כללי'!M8","v":0}]
[{"$f":"'ד. ציוד כללי'!C9","v":"ארונית ליד מחטה"},{"$f":"'ד. ציוד כללי'!F9","v":0},{"$f":"'ד. ציוד כללי'!G9","v":0},null,{"$f":"'ד. ציוד כללי'!J9","v":0},{"$f":"'ד. ציוד כללי'!K9","v":0},{"$f":"IF(F11=0,\"\",'ד. ציוד כללי'!L9)","v":""},{"$f":"'ד. ציוד כללי'!M9","v":0}]
[{"$f":"'ד. ציוד כללי'!C10","v":"ארון "},{"$f":"'ד. ציוד כללי'!F10","v":0},{"$f":"'ד. ציוד כללי'!G10","v":0},null,{"$f":"'ד. ציוד כללי'!J10","v":0},{"$f":"'ד. ציוד כללי'!K10","v":0},{"$f":"IF(F12=0,\"\",'ד. ציוד כללי'!L10)","v":""},{"$f":"'ד. ציוד כללי'!M10","v":0}]
[{"$f":"'ד. ציוד כללי'!C11","v":"שולחן מחשב וכוורת "},{"$f":"'ד. ציוד כללי'!F11","v":0},{"$f":"'ד. ציוד כללי'!G11","v":0},null,{"$f":"'ד. ציוד כללי'!J11","v":0},{"$f":"'ד. ציוד כללי'!K11","v":0},{"$f":"IF(F13=0,\"\",'ד. ציוד כללי'!L11)","v":""},{"$f":"'ד. ציוד כללי'!M11","v":0}]
[{"$f":"'ד. ציוד כללי'!C12","v":"כיסא למחשב "},{"$f":"'ד. ציוד כללי'!F12","v":0},{"$f":"'ד. ציוד כללי'!G12","v":0},null,{"$f":"'ד. ציוד כללי'!J12","v":0},{"$f":"'ד. ציוד כללי'!K12","v":0},{"$f":"IF(F14=0,\"\",'ד. ציוד כללי'!L12)","v":""},{"$f":"'ד. ציוד כללי'!M12","v":0}]
[{"$f":"'ד. ציוד כללי'!C13","v":"ספה לסלון"},{"$f":"'ד. ציוד כללי'!F13","v":0},{"$f":"'ד. ציוד כללי'!G13","v":0},null,{"$f":"'ד. ציוד כללי'!J13","v":0},{"$f":"'ד. ציוד כללי'!K13","v":0},{"$f":"IF(F15=0,\"\",'ד. ציוד כללי'!L13)","v":""},{"$f":"'ד. ציוד כללי'!M13","v":0}]
[{"$f":"'ד. ציוד כללי'!C14","v":"שולחן וכורסאות סלון"},{"$f":"'ד. ציוד כללי'!F14","v":0},{"$f":"'ד. ציוד כללי'!G14","v":0},null,{"$f":"'ד. ציוד כללי'!J14","v":0},{"$f":"'ד. ציוד כללי'!K14","v":0},{"$f":"IF(F16=0,\"\",'ד. ציוד כללי'!L14)","v":""},{"$f":"'ד. ציוד כללי'!M14","v":0}]
[{"$f":"'ד. ציוד כללי'!C15","v":"פינת אוכל למטבח "},{"$f":"'ד. ציוד כללי'!F15","v":0},{"$f":"'ד. ציוד כללי'!G15","v":0},null,{"$f":"'ד. ציוד כללי'!J15","v":0},{"$f":"'ד. ציוד כללי'!K15","v":0},{"$f":"IF(F17=0,\"\",'ד. ציוד כללי'!L15)","v":""},{"$f":"'ד. ציוד כללי'!M15","v":0}]
[{"$f":"'ד. ציוד כללי'!C16","v":"מחשב נייח"},{"$f":"'ד. ציוד כללי'!F16","v":0},{"$f":"'ד. ציוד כללי'!G16","v":0},null,{"$f":"'ד. ציוד כללי'!J16","v":0},{"$f":"'ד. ציוד כללי'!K16","v":0},{"$f":"IF(F18=0,\"\",'ד. ציוד כללי'!L16)","v":""},{"$f":"'ד. ציוד כללי'!M16","v":0}]
[{"$f":"'ד. ציוד כללי'!C17","v":"מדפסת"},{"$f":"'ד. ציוד כללי'!F17","v":0},{"$f":"'ד. ציוד כללי'!G17","v":0},null,{"$f":"'ד. ציוד כללי'!J17","v":0},{"$f":"'ד. ציוד כללי'!K17","v":0},{"$f":"IF(F19=0,\"\",'ד. ציוד כללי'!L17)","v":""},{"$f":"'ד. ציוד כללי'!M17","v":0}]
[{"$f":"'ד. ציוד כללי'!C18","v":"טלפון אלחוטי"},{"$f":"'ד. ציוד כללי'!F18","v":0},{"$f":"'ד. ציוד כללי'!G18","v":0},null,{"$f":"'ד. ציוד כללי'!J18","v":0},{"$f":"'ד. ציוד כללי'!K18","v":0},{"$f":"IF(F20=0,\"\",'ד. ציוד כללי'!L18)","v":""},{"$f":"'ד. ציוד כללי'!M18","v":0}]
[{"$f":"'ד. ציוד כללי'!C19","v":"טאבלט"},{"$f":"'ד. ציוד כללי'!F19","v":0},{"$f":"'ד. ציוד כללי'!G19","v":0},null,{"$f":"'ד. ציוד כללי'!J19","v":0},{"$f":"'ד. ציוד כללי'!K19","v":0},{"$f":"IF(F21=0,\"\",'ד. ציוד כללי'!L19)","v":""},{"$f":"'ד. ציוד כללי'!M19","v":0}]
[{"$f":"'ד. ציוד כללי'!C20","v":"מסך פלזמה "},{"$f":"'ד. ציוד כללי'!F20","v":0},{"$f":"'ד. ציוד כללי'!G20","v":0},null,{"$f":"'ד. ציוד כללי'!J20","v":0},{"$f":"'ד. ציוד כללי'!K20","v":0},{"$f":"IF(F22=0,\"\",'ד. ציוד כללי'!L20)","v":""},{"$f":"'ד. ציוד כללי'!M20","v":0}]
[{"$f":"'ד. ציוד כללי'!C21","v":"מקרר "},{"$f":"'ד. ציוד כללי'!F21","v":0},{"$f":"'ד. ציוד כללי'!G21","v":0},null,{"$f":"'ד. ציוד כללי'!J21","v":0},{"$f":"'ד. ציוד כללי'!K21","v":0},{"$f":"IF(F23=0,\"\",'ד. ציוד כללי'!L21)","v":""},{"$f":"'ד. ציוד כללי'!M21","v":0}]
[{"$f":"'ד. ציוד כללי'!C22","v":"תנור"},{"$f":"'ד. ציוד כללי'!F22","v":0},{"$f":"'ד. ציוד כללי'!G22","v":0},null,{"$f":"'ד. ציוד כללי'!J22","v":0},{"$f":"'ד. ציוד כללי'!K22","v":0},{"$f":"IF(F24=0,\"\",'ד. ציוד כללי'!L22)","v":""},{"$f":"'ד. ציוד כללי'!M22","v":0}]
[{"$f":"'ד. ציוד כללי'!C23","v":"מיחם"},{"$f":"'ד. ציוד כללי'!F23","v":0},{"$f":"'ד. ציוד כללי'!G23","v":0},null,{"$f":"'ד. ציוד כללי'!J23","v":0},{"$f":"'ד. ציוד כללי'!K23","v":0},{"$f":"IF(F25=0,\"\",'ד. ציוד כללי'!L23)","v":""},{"$f":"'ד. ציוד כללי'!M23","v":0}]
[{"$f":"'ד. ציוד כללי'!C24","v":"מיקרוגל  "},{"$f":"'ד. ציוד כללי'!F24","v":0},{"$f":"'ד. ציוד כללי'!G24","v":0},null,{"$f":"'ד. ציוד כללי'!J24","v":0},{"$f":"'ד. ציוד כללי'!K24","v":0},{"$f":"IF(F26=0,\"\",'ד. ציוד כללי'!L24)","v":""},{"$f":"'ד. ציוד כללי'!M24","v":0}]
[{"$f":"'ד. ציוד כללי'!C25","v":"מעבד מזון"},{"$f":"'ד. ציוד כללי'!F25","v":0},{"$f":"'ד. ציוד כללי'!G25","v":0},null,{"$f":"'ד. ציוד כללי'!J25","v":0},{"$f":"'ד. ציוד כללי'!K25","v":0},{"$f":"IF(F27=0,\"\",'ד. ציוד כללי'!L25)","v":""},{"$f":"'ד. ציוד כללי'!M25","v":0}]
[{"$f":"'ד. ציוד כללי'!C26","v":"קומקום"},{"$f":"'ד. ציוד כללי'!F26","v":0},{"$f":"'ד. ציוד כללי'!G26","v":0},null,{"$f":"'ד. ציוד כללי'!J26","v":0},{"$f":"'ד. ציוד כללי'!K26","v":0},{"$f":"IF(F28=0,\"\",'ד. ציוד כללי'!L26)","v":""},{"$f":"'ד. ציוד כללי'!M26","v":0}]
[{"$f":"'ד. ציוד כללי'!C27","v":"כלי מטבח"},{"$f":"'ד. ציוד כללי'!F27","v":0},{"$f":"'ד. ציוד כללי'!G27","v":0},null,{"$f":"'ד. ציוד כללי'!J27","v":0},{"$f":"'ד. ציוד כללי'!K27","v":0},{"$f":"IF(F29=0,\"\",'ד. ציוד כללי'!L27)","v":""},{"$f":"'ד. ציוד כללי'!M27","v":0}]
[{"$f":"'ד. ציוד כללי'!C28","v":"מזגן מגורים 1 כ\"ס"},{"$f":"'ד. ציוד כללי'!F28","v":0},{"$f":"'ד. ציוד כללי'!G28","v":0},null,{"$f":"'ד. ציוד כללי'!J28","v":0},{"$f":"'ד. ציוד כללי'!K28","v":0},{"$f":"IF(F30=0,\"\",'ד. ציוד כללי'!L28)","v":""},{"$f":"'ד. ציוד כללי'!M28","v":0}]
[{"$f":"'ד. ציוד כללי'!C29","v":"מזגן מגורים 1.25 כ\"ס"},{"$f":"'ד. ציוד כללי'!F29","v":0},{"$f":"'ד. ציוד כללי'!G29","v":0},null,{"$f":"'ד. ציוד כללי'!J29","v":0},{"$f":"'ד. ציוד כללי'!K29","v":0},{"$f":"IF(F31=0,\"\",'ד. ציוד כללי'!L29)","v":""},{"$f":"'ד. ציוד כללי'!M29","v":0}]
[{"$f":"'ד. ציוד כללי'!C30","v":"מזגן מגורים 1.5 כ\"ס"},{"$f":"'ד. ציוד כללי'!F30","v":0},{"$f":"'ד. ציוד כללי'!G30","v":0},null,{"$f":"'ד. ציוד כללי'!J30","v":0},{"$f":"'ד. ציוד כללי'!K30","v":0},{"$f":"IF(F32=0,\"\",'ד. ציוד כללי'!L30)","v":""},{"$f":"'ד. ציוד כללי'!M30","v":0}]
[{"$f":"'ד. ציוד כללי'!C31","v":"מזגן מגורים 2 כ\"ס"},{"$f":"'ד. ציוד כללי'!F31","v":0},{"$f":"'ד. ציוד כללי'!G31","v":0},null,{"$f":"'ד. ציוד כללי'!J31","v":0},{"$f":"'ד. ציוד כללי'!K31","v":0},{"$f":"IF(F33=0,\"\",'ד. ציוד כללי'!L31)","v":""},{"$f":"'ד. ציוד כללי'!M31","v":0}]
[{"$f":"'ד. ציוד כללי'!C32","v":"מזגן מגורים 2.5 כ\"ס"},{"$f":"'ד. ציוד כללי'!F32","v":0},{"$f":"'ד. ציוד כללי'!G32","v":0},null,{"$f":"'ד. ציוד כללי'!J32","v":0},{"$f":"'ד. ציוד כללי'!K32","v":0},{"$f":"IF(F34=0,\"\",'ד. ציוד כללי'!L32)","v":""},{"$f":"'ד. ציוד כללי'!M32","v":0}]
[{"$f":"'ד. ציוד כללי'!C33","v":"מזגן מיני מרכזי 2.5 כ\"ס "},{"$f":"'ד. ציוד כללי'!F33","v":0},{"$f":"'ד. ציוד כללי'!G33","v":0},null,{"$f":"'ד. ציוד כללי'!J33","v":0},{"$f":"'ד. ציוד כללי'!K33","v":0},{"$f":"IF(F35=0,\"\",'ד. ציוד כללי'!L33)","v":""},{"$f":"'ד. ציוד כללי'!M33","v":0}]
[{"$f":"'ד. ציוד כללי'!C34","v":"מזגן מיני מרכזי 3 כ\"ס "},{"$f":"'ד. ציוד כללי'!F34","v":0},{"$f":"'ד. ציוד כללי'!G34","v":0},null,{"$f":"'ד. ציוד כללי'!J34","v":0},{"$f":"'ד. ציוד כללי'!K34","v":0},{"$f":"IF(F36=0,\"\",'ד. ציוד כללי'!L34)","v":""},{"$f":"'ד. ציוד כללי'!M34","v":0}]
[{"$f":"'ד. ציוד כללי'!C35","v":"מזגן מיני מרכזי 3.5 כ\"ס "},{"$f":"'ד. ציוד כללי'!F35","v":0},{"$f":"'ד. ציוד כללי'!G35","v":0},null,{"$f":"'ד. ציוד כללי'!J35","v":0},{"$f":"'ד. ציוד כללי'!K35","v":0},{"$f":"IF(F37=0,\"\",'ד. ציוד כללי'!L35)","v":""},{"$f":"'ד. ציוד כללי'!M35","v":0}]
[{"$f":"'ד. ציוד כללי'!C36","v":"מכונת כביסה "},{"$f":"'ד. ציוד כללי'!F36","v":0},{"$f":"'ד. ציוד כללי'!G36","v":0},null,{"$f":"'ד. ציוד כללי'!J36","v":0},{"$f":"'ד. ציוד כללי'!K36","v":0},{"$f":"IF(F38=0,\"\",'ד. ציוד כללי'!L36)","v":""},{"$f":"'ד. ציוד כללי'!M36","v":0}]
[{"$f":"'ד. ציוד כללי'!C37","v":"מייבש כביסה"},{"$f":"'ד. ציוד כללי'!F37","v":0},{"$f":"'ד. ציוד כללי'!G37","v":0},null,{"$f":"'ד. ציוד כללי'!J37","v":0},{"$f":"'ד. ציוד כללי'!K37","v":0},{"$f":"IF(F39=0,\"\",'ד. ציוד כללי'!L37)","v":""},{"$f":"'ד. ציוד כללי'!M37","v":0}]
[{"$f":"'ד. ציוד כללי'!C38","v":"שואב אבק"},{"$f":"'ד. ציוד כללי'!F38","v":0},{"$f":"'ד. ציוד כללי'!G38","v":0},null,{"$f":"'ד. ציוד כללי'!J38","v":0},{"$f":"'ד. ציוד כללי'!K38","v":0},{"$f":"IF(F40=0,\"\",'ד. ציוד כללי'!L38)","v":""},{"$f":"'ד. ציוד כללי'!M38","v":0}]
[{"$f":"'ד. ציוד כללי'!C39","v":"מגהץ"},{"$f":"'ד. ציוד כללי'!F39","v":0},{"$f":"'ד. ציוד כללי'!G39","v":0},null,{"$f":"'ד. ציוד כללי'!J39","v":0},{"$f":"'ד. ציוד כללי'!K39","v":0},{"$f":"IF(F41=0,\"\",'ד. ציוד כללי'!L39)","v":""},{"$f":"'ד. ציוד כללי'!M39","v":0}]
[{"$f":"'ד. ציוד כללי'!C40","v":"תאורת סלון"},{"$f":"'ד. ציוד כללי'!F40","v":0},{"$f":"'ד. ציוד כללי'!G40","v":0},null,{"$f":"'ד. ציוד כללי'!J40","v":0},{"$f":"'ד. ציוד כללי'!K40","v":0},{"$f":"IF(F42=0,\"\",'ד. ציוד כללי'!L40)","v":""},{"$f":"'ד. ציוד כללי'!M40","v":0}]
[{"$f":"'ד. ציוד כללי'!C41","v":"תאורת מטבח"},{"$f":"'ד. ציוד כללי'!F41","v":0},{"$f":"'ד. ציוד כללי'!G41","v":0},null,{"$f":"'ד. ציוד כללי'!J41","v":0},{"$f":"'ד. ציוד כללי'!K41","v":0},{"$f":"IF(F43=0,\"\",'ד. ציוד כללי'!L41)","v":""},{"$f":"'ד. ציוד כללי'!M41","v":0}]
[{"$f":"'ד. ציוד כללי'!C42","v":"תאורת חדרי שינה "},{"$f":"'ד. ציוד כללי'!F42","v":0},{"$f":"'ד. ציוד כללי'!G42","v":0},null,{"$f":"'ד. ציוד כללי'!J42","v":0},{"$f":"'ד. ציוד כללי'!K42","v":0},{"$f":"IF(F44=0,\"\",'ד. ציוד כללי'!L42)","v":""},{"$f":"'ד. ציוד כללי'!M42","v":0}]
[{"$f":"'ד. ציוד כללי'!C43","v":"תאורת חצר "},{"$f":"'ד. ציוד כללי'!F43","v":0},{"$f":"'ד. ציוד כללי'!G43","v":0},null,{"$f":"'ד. ציוד כללי'!J43","v":0},{"$f":"'ד. ציוד כללי'!K43","v":0},{"$f":"IF(F45=0,\"\",'ד. ציוד כללי'!L43)","v":""},{"$f":"'ד. ציוד כללי'!M43","v":0}]
[{"$f":"'ד. ציוד כללי'!C44","v":"תאורת חירום "},{"$f":"'ד. ציוד כללי'!F44","v":0},{"$f":"'ד. ציוד כללי'!G44","v":0},null,{"$f":"'ד. ציוד כללי'!J44","v":0},{"$f":"'ד. ציוד כללי'!K44","v":0},{"$f":"IF(F46=0,\"\",'ד. ציוד כללי'!L44)","v":""},{"$f":"'ד. ציוד כללי'!M44","v":0}]
[{"$f":"'ד. ציוד כללי'!C45","v":"שולחן וכסאות "},{"$f":"'ד. ציוד כללי'!F45","v":0},{"$f":"'ד. ציוד כללי'!G45","v":0},null,{"$f":"'ד. ציוד כללי'!J45","v":0},{"$f":"'ד. ציוד כללי'!K45","v":0},{"$f":"IF(F47=0,\"\",'ד. ציוד כללי'!L45)","v":""},{"$f":"'ד. ציוד כללי'!M45","v":0}]
[{"$f":"'ד. ציוד כללי'!C46","v":"ספסל לחצר"},{"$f":"'ד. ציוד כללי'!F46","v":0},{"$f":"'ד. ציוד כללי'!G46","v":0},null,{"$f":"'ד. ציוד כללי'!J46","v":0},{"$f":"'ד. ציוד כללי'!K46","v":0},{"$f":"IF(F48=0,\"\",'ד. ציוד כללי'!L46)","v":""},{"$f":"'ד. ציוד כללי'!M46","v":0}]
[{"$f":"'ד. ציוד כללי'!C47","v":"נדנדה"},{"$f":"'ד. ציוד כללי'!F47","v":0},{"$f":"'ד. ציוד כללי'!G47","v":0},null,{"$f":"'ד. ציוד כללי'!J47","v":0},{"$f":"'ד. ציוד כללי'!K47","v":0},{"$f":"IF(F49=0,\"\",'ד. ציוד כללי'!L47)","v":""},{"$f":"'ד. ציוד כללי'!M47","v":0}]
[{"$f":"'ד. ציוד כללי'!C48","v":"פרגולה"},{"$f":"'ד. ציוד כללי'!F48","v":0},{"$f":"'ד. ציוד כללי'!G48","v":0},null,{"$f":"'ד. ציוד כללי'!J48","v":0},{"$f":"'ד. ציוד כללי'!K48","v":0},{"$f":"IF(F50=0,\"\",'ד. ציוד כללי'!L48)","v":""},{"$f":"'ד. ציוד כללי'!M48","v":0}]
[{"$f":"'ד. ציוד כללי'!C49","v":"שימשיה "},{"$f":"'ד. ציוד כללי'!F49","v":0},{"$f":"'ד. ציוד כללי'!G49","v":0},null,{"$f":"'ד. ציוד כללי'!J49","v":0},{"$f":"'ד. ציוד כללי'!K49","v":0},{"$f":"IF(F51=0,\"\",'ד. ציוד כללי'!L49)","v":""},{"$f":"'ד. ציוד כללי'!M49","v":0}]
[{"$f":"'ד. ציוד כללי'!C50","v":"דשא סינטטי (מחיר למטר)"},{"$f":"'ד. ציוד כללי'!F50","v":0},{"$f":"'ד. ציוד כללי'!G50","v":0},null,{"$f":"'ד. ציוד כללי'!J50","v":0},{"$f":"'ד. ציוד כללי'!K50","v":0},{"$f":"IF(F52=0,\"\",'ד. ציוד כללי'!L50)","v":""},{"$f":"'ד. ציוד כללי'!M50","v":0}]
[{"$f":"'ד. ציוד כללי'!C51","v":"אדניות וצמחיה"},{"$f":"'ד. ציוד כללי'!F51","v":0},{"$f":"'ד. ציוד כללי'!G51","v":0},null,{"$f":"'ד. ציוד כללי'!J51","v":0},{"$f":"'ד. ציוד כללי'!K51","v":0},{"$f":"IF(F53=0,\"\",'ד. ציוד כללי'!L51)","v":""},{"$f":"'ד. ציוד כללי'!M51","v":0}]
[{"$f":"'ד. ציוד כללי'!C52","v":"גדר קנים לחצר לשמירת פרטיות"},{"$f":"'ד. ציוד כללי'!F52","v":0},{"$f":"'ד. ציוד כללי'!G52","v":0},null,{"$f":"'ד. ציוד כללי'!J52","v":0},{"$f":"'ד. ציוד כללי'!K52","v":0},{"$f":"IF(F54=0,\"\",'ד. ציוד כללי'!L52)","v":""},{"$f":"'ד. ציוד כללי'!M52","v":0}]
[{"$f":"'ד. ציוד כללי'!C53","v":"מכשיר הליכה"},{"$f":"'ד. ציוד כללי'!F53","v":0},{"$f":"'ד. ציוד כללי'!G53","v":0},null,{"$f":"'ד. ציוד כללי'!J53","v":0},{"$f":"'ד. ציוד כללי'!K53","v":0},{"$f":"IF(F55=0,\"\",'ד. ציוד כללי'!L53)","v":""},{"$f":"'ד. ציוד כללי'!M53","v":0}]
[{"$f":"'ד. ציוד כללי'!C54","v":"עציצים"},{"$f":"'ד. ציוד כללי'!F54","v":0},{"$f":"'ד. ציוד כללי'!G54","v":0},null,{"$f":"'ד. ציוד כללי'!J54","v":0},{"$f":"'ד. ציוד כללי'!K54","v":0},{"$f":"IF(F56=0,\"\",'ד. ציוד כללי'!L54)","v":""},{"$f":"'ד. ציוד כללי'!M54","v":0}]
[{"$f":"'ד. ציוד כללי'!C55","v":"שעון קיר"},{"$f":"'ד. ציוד כללי'!F55","v":0},{"$f":"'ד. ציוד כללי'!G55","v":0},null,{"$f":"'ד. ציוד כללי'!J55","v":0},{"$f":"'ד. ציוד כללי'!K55","v":0},{"$f":"IF(F57=0,\"\",'ד. ציוד כללי'!L55)","v":""},{"$f":"'ד. ציוד כללי'!M55","v":0}]
[{"$f":"'ד. ציוד כללי'!C56","v":"סל כביסה  "},{"$f":"'ד. ציוד כללי'!F56","v":0},{"$f":"'ד. ציוד כללי'!G56","v":0},null,{"$f":"'ד. ציוד כללי'!J56","v":0},{"$f":"'ד. ציוד כללי'!K56","v":0},{"$f":"IF(F58=0,\"\",'ד. ציוד כללי'!L56)","v":""},{"$f":"'ד. ציוד כללי'!M56","v":0}]
[{"$f":"'ד. ציוד כללי'!C57","v":"ארון שירות "},{"$f":"'ד. ציוד כללי'!F57","v":0},{"$f":"'ד. ציוד כללי'!G57","v":0},null,{"$f":"'ד. ציוד כללי'!J57","v":0},{"$f":"'ד. ציוד כללי'!K57","v":0},{"$f":"IF(F59=0,\"\",'ד. ציוד כללי'!L57)","v":""},{"$f":"'ד. ציוד כללי'!M57","v":0}]
[{"$f":"'ד. ציוד כללי'!C58","v":"מתקן כביסה"},{"$f":"'ד. ציוד כללי'!F58","v":0},{"$f":"'ד. ציוד כללי'!G58","v":0},null,{"$f":"'ד. ציוד כללי'!J58","v":0},{"$f":"'ד. ציוד כללי'!K58","v":0},{"$f":"IF(F60=0,\"\",'ד. ציוד כללי'!L58)","v":""},{"$f":"'ד. ציוד כללי'!M58","v":0}]
[{"$f":"'ד. ציוד כללי'!C59","v":"מראה"},{"$f":"'ד. ציוד כללי'!F59","v":0},{"$f":"'ד. ציוד כללי'!G59","v":0},null,{"$f":"'ד. ציוד כללי'!J59","v":0},{"$f":"'ד. ציוד כללי'!K59","v":0},{"$f":"IF(F61=0,\"\",'ד. ציוד כללי'!L59)","v":""},{"$f":"'ד. ציוד כללי'!M59","v":0}]
[{"$f":"'ד. ציוד כללי'!C60","v":"קרש גיהוץ כתר"},{"$f":"'ד. ציוד כללי'!F60","v":0},{"$f":"'ד. ציוד כללי'!G60","v":0},null,{"$f":"'ד. ציוד כללי'!J60","v":0},{"$f":"'ד. ציוד כללי'!K60","v":0},{"$f":"IF(F62=0,\"\",'ד. ציוד כללי'!L60)","v":""},{"$f":"'ד. ציוד כללי'!M60","v":0}]
[{"$f":"'ד. ציוד כללי'!C61","v":"אביזרי נוי לכל הבית "},{"$f":"'ד. ציוד כללי'!F61","v":0},{"$f":"'ד. ציוד כללי'!G61","v":0},null,{"$f":"'ד. ציוד כללי'!J61","v":0},{"$f":"'ד. ציוד כללי'!K61","v":0},{"$f":"IF(F63=0,\"\",'ד. ציוד כללי'!L61)","v":""},{"$f":"'ד. ציוד כללי'!M61","v":0}]
[{"$f":"'ד. ציוד כללי'!C62","v":"ארגז כלי עבודה"},{"$f":"'ד. ציוד כללי'!F62","v":0},{"$f":"'ד. ציוד כללי'!G62","v":0},null,{"$f":"'ד. ציוד כללי'!J62","v":0},{"$f":"'ד. ציוד כללי'!K62","v":0},{"$f":"IF(F64=0,\"\",'ד. ציוד כללי'!L62)","v":""},{"$f":"'ד. ציוד כללי'!M62","v":0}]
[{"$f":"'ד. ציוד כללי'!C63","v":"סולם 4 שלבים"},{"$f":"'ד. ציוד כללי'!F63","v":0},{"$f":"'ד. ציוד כללי'!G63","v":0},null,{"$f":"'ד. ציוד כללי'!J63","v":0},{"$f":"'ד. ציוד כללי'!K63","v":0},{"$f":"IF(F65=0,\"\",'ד. ציוד כללי'!L63)","v":""},{"$f":"'ד. ציוד כללי'!M63","v":0}]
[{"$f":"'ד. ציוד כללי'!C64","v":"ארון עזרה ראשונה"},{"$f":"'ד. ציוד כללי'!F64","v":0},{"$f":"'ד. ציוד כללי'!G64","v":0},null,{"$f":"'ד. ציוד כללי'!J64","v":0},{"$f":"'ד. ציוד כללי'!K64","v":0},{"$f":"IF(F66=0,\"\",'ד. ציוד כללי'!L64)","v":""},{"$f":"'ד. ציוד כללי'!M64","v":0}]
[{"$f":"'ד. ציוד כללי'!C65","v":"ארון תרופות"},{"$f":"'ד. ציוד כללי'!F65","v":0},{"$f":"'ד. ציוד כללי'!G65","v":0},null,{"$f":"'ד. ציוד כללי'!J65","v":0},{"$f":"'ד. ציוד כללי'!K65","v":0},{"$f":"IF(F67=0,\"\",'ד. ציוד כללי'!L65)","v":""},{"$f":"'ד. ציוד כללי'!M65","v":0}]
[{"$f":"'ד. ציוד כללי'!C66","v":"מטף 6 ק\"ג"},{"$f":"'ד. ציוד כללי'!F66","v":0},{"$f":"'ד. ציוד כללי'!G66","v":0},null,{"$f":"'ד. ציוד כללי'!J66","v":0},{"$f":"'ד. ציוד כללי'!K66","v":0},{"$f":"IF(F68=0,\"\",'ד. ציוד כללי'!L66)","v":""},{"$f":"'ד. ציוד כללי'!M66","v":0}]
[{"$f":"'ד. ציוד כללי'!C67","v":"מתקנים ואביזרים אמבטיה שירותים"},{"$f":"'ד. ציוד כללי'!F67","v":0},{"$f":"'ד. ציוד כללי'!G67","v":0},null,{"$f":"'ד. ציוד כללי'!J67","v":0},{"$f":"'ד. ציוד כללי'!K67","v":0},{"$f":"IF(F69=0,\"\",'ד. ציוד כללי'!L67)","v":""},{"$f":"'ד. ציוד כללי'!M67","v":0}]
[{"$f":"'ד. ציוד כללי'!C68","v":"מוצרי טקסטיל (סט לאדם אחד)"},{"$f":"'ד. ציוד כללי'!F68","v":0},{"$f":"'ד. ציוד כללי'!G68","v":0},null,{"$f":"'ד. ציוד כללי'!J68","v":0},{"$f":"'ד. ציוד כללי'!K68","v":0},{"$f":"IF(F70=0,\"\",'ד. ציוד כללי'!L68)","v":""},{"$f":"'ד. ציוד כללי'!M68","v":0}]
[{"$f":"'ד. ציוד כללי'!C69","v":"עיצוב פנים"},{"$f":"'ד. ציוד כללי'!F69","v":0},{"$f":"'ד. ציוד כללי'!G69","v":0},null,{"$f":"'ד. ציוד כללי'!J69","v":0},{"$f":"'ד. ציוד כללי'!K69","v":0},{"$f":"IF(F71=0,\"\",'ד. ציוד כללי'!L69)","v":""},{"$f":"'ד. ציוד כללי'!M69","v":0}]
["סך ציוד כללי כולל מע\"מ",null,{"$f":"SUM(C9:C71)","v":0},null,"סך ציוד כללי כולל מע\"מ",null,null,{"$f":"SUM(H9:H71)","v":0}]
["ציוד נוסף",null,null,null,"ציוד נוסף"]
[{"$f":"'ה. ציוד נוסף '!B8","v":0},{"$f":"'ה. ציוד נוסף '!C8","v":0},{"$f":"'ה. ציוד נוסף '!L8","v":0},null,{"$f":"'ה. ציוד נוסף '!N8","v":0},{"$f":"'ה. ציוד נוסף '!O8","v":0},{"$f":"IF(F74=0,\"\",'ה. ציוד נוסף '!P8)","v":""},{"$f":"'ה. ציוד נוסף '!Q8","v":0}]
[{"$f":"'ה. ציוד נוסף '!B9","v":0},{"$f":"'ה. ציוד נוסף '!C9","v":0},{"$f":"'ה. ציוד נוסף '!L9","v":0},null,{"$f":"'ה. ציוד נוסף '!N9","v":0},{"$f":"'ה. ציוד נוסף '!O9","v":0},{"$f":"IF(F75=0,\"\",'ה. ציוד נוסף '!P9)","v":""},{"$f":"'ה. ציוד נוסף '!Q9","v":0}]
[{"$f":"'ה. ציוד נוסף '!B10","v":0},{"$f":"'ה. ציוד נוסף '!C10","v":0},{"$f":"'ה. ציוד נוסף '!L10","v":0},null,{"$f":"'ה. ציוד נוסף '!N10","v":0},{"$f":"'ה. ציוד נוסף '!O10","v":0},{"$f":"IF(F76=0,\"\",'ה. ציוד נוסף '!P10)","v":""},{"$f":"'ה. ציוד נוסף '!Q10","v":0}]
[{"$f":"'ה. ציוד נוסף '!B11","v":0},{"$f":"'ה. ציוד נוסף '!C11","v":0},{"$f":"'ה. ציוד נוסף '!L11","v":0},null,{"$f":"'ה. ציוד נוסף '!N11","v":0},{"$f":"'ה. ציוד נוסף '!O11","v":0},{"$f":"IF(F77=0,\"\",'ה. ציוד נוסף '!P11)","v":""},{"$f":"'ה. ציוד נוסף '!Q11","v":0}]
[{"$f":"'ה. ציוד נוסף '!B12","v":0},{"$f":"'ה. ציוד נוסף '!C12","v":0},{"$f":"'ה. ציוד נוסף '!L12","v":0},null,{"$f":"'ה. ציוד נוסף '!N12","v":0},{"$f":"'ה. ציוד נוסף '!O12","v":0},{"$f":"IF(F78=0,\"\",'ה. ציוד נוסף '!P12)","v":""},{"$f":"'ה. ציוד נוסף '!Q12","v":0}]
[{"$f":"'ה. ציוד נוסף '!B13","v":0},{"$f":"'ה. ציוד נוסף '!C13","v":0},{"$f":"'ה. ציוד נוסף '!L13","v":0},null,{"$f":"'ה. ציוד נוסף '!N13","v":0},{"$f":"'ה. ציוד נוסף '!O13","v":0},{"$f":"IF(F79=0,\"\",'ה. ציוד נוסף '!P13)","v":""},{"$f":"'ה. ציוד נוסף '!Q13","v":0}]
[{"$f":"'ה. ציוד נוסף '!B14","v":0},{"$f":"'ה. ציוד נוסף '!C14","v":0},{"$f":"'ה. ציוד נוסף '!L14","v":0},null,{"$f":"'ה. ציוד נוסף '!N14","v":0},{"$f":"'ה. ציוד נוסף '!O14","v":0},{"$f":"IF(F80=0,\"\",'ה. ציוד נוסף '!P14)","v":""},{"$f":"'ה. ציוד נוסף '!Q14","v":0}]
[{"$f":"'ה. ציוד נוסף '!B15","v":0},{"$f":"'ה. ציוד נוסף '!C15","v":0},{"$f":"'ה. ציוד נוסף '!L15","v":0},null,{"$f":"'ה. ציוד נוסף '!N15","v":0},{"$f":"'ה. ציוד נוסף '!O15","v":0},{"$f":"IF(F81=0,\"\",'ה. ציוד נוסף '!P15)","v":""},{"$f":"'ה. ציוד נוסף '!Q15","v":0}]
[{"$f":"'ה. ציוד נוסף '!B16","v":0},{"$f":"'ה. ציוד נוסף '!C16","v":0},{"$f":"'ה. ציוד נוסף '!L16","v":0},null,{"$f":"'ה. ציוד נוסף '!N16","v":0},{"$f":"'ה. ציוד נוסף '!O16","v":0},{"$f":"IF(F82=0,\"\",'ה. ציוד נוסף '!P16)","v":""},{"$f":"'ה. ציוד נוסף '!Q16","v":0}]
[{"$f":"'ה. ציוד נוסף '!B17","v":0},{"$f":"'ה. ציוד נוסף '!C17","v":0},{"$f":"'ה. ציוד נוסף '!L17","v":0},null,{"$f":"'ה. ציוד נוסף '!N17","v":0},{"$f":"'ה. ציוד נוסף '!O17","v":0},{"$f":"IF(F83=0,\"\",'ה. ציוד נוסף '!P17)","v":""},{"$f":"'ה. ציוד נוסף '!Q17","v":0}]
[{"$f":"'ה. ציוד נוסף '!B18","v":0},{"$f":"'ה. ציוד נוסף '!C18","v":0},{"$f":"'ה. ציוד נוסף '!L18","v":0},null,{"$f":"'ה. ציוד נוסף '!N18","v":0},{"$f":"'ה. ציוד נוסף '!O18","v":0},{"$f":"IF(F84=0,\"\",'ה. ציוד נוסף '!P18)","v":""},{"$f":"'ה. ציוד נוסף '!Q18","v":0}]
[{"$f":"'ה. ציוד נוסף '!B19","v":0},{"$f":"'ה. ציוד נוסף '!C19","v":0},{"$f":"'ה. ציוד נוסף '!L19","v":0},null,{"$f":"'ה. ציוד נוסף '!N19","v":0},{"$f":"'ה. ציוד נוסף '!O19","v":0},{"$f":"IF(F85=0,\"\",'ה. ציוד נוסף '!P19)","v":""},{"$f":"'ה. ציוד נוסף '!Q19","v":0}]
[{"$f":"'ה. ציוד נוסף '!B20","v":0},{"$f":"'ה. ציוד נוסף '!C20","v":0},{"$f":"'ה. ציוד נוסף '!L20","v":0},null,{"$f":"'ה. ציוד נוסף '!N20","v":0},{"$f":"'ה. ציוד נוסף '!O20","v":0},{"$f":"IF(F86=0,\"\",'ה. ציוד נוסף '!P20)","v":""},{"$f":"'ה. ציוד נוסף '!Q20","v":0}]
[{"$f":"'ה. ציוד נוסף '!B21","v":0},{"$f":"'ה. ציוד נוסף '!C21","v":0},{"$f":"'ה. ציוד נוסף '!L21","v":0},null,{"$f":"'ה. ציוד נוסף '!N21","v":0},{"$f":"'ה. ציוד נוסף '!O21","v":0},{"$f":"IF(F87=0,\"\",'ה. ציוד נוסף '!P21)","v":""},{"$f":"'ה. ציוד נוסף '!Q21","v":0}]
[{"$f":"'ה. ציוד נוסף '!B22","v":0},{"$f":"'ה. ציוד נוסף '!C22","v":0},{"$f":"'ה. ציוד נוסף '!L22","v":0},null,{"$f":"'ה. ציוד נוסף '!N22","v":0},{"$f":"'ה. ציוד נוסף '!O22","v":0},{"$f":"IF(F88=0,\"\",'ה. ציוד נוסף '!P22)","v":""},{"$f":"'ה. ציוד נוסף '!Q22","v":0}]
[{"$f":"'ה. ציוד נוסף '!B23","v":0},{"$f":"'ה. ציוד נוסף '!C23","v":0},{"$f":"'ה. ציוד נוסף '!L23","v":0},null,{"$f":"'ה. ציוד נוסף '!N23","v":0},{"$f":"'ה. ציוד נוסף '!O23","v":0},{"$f":"IF(F89=0,\"\",'ה. ציוד נוסף '!P23)","v":""},{"$f":"'ה. ציוד נוסף '!Q23","v":0}]
[{"$f":"'ה. ציוד נוסף '!B24","v":0},{"$f":"'ה. ציוד נוסף '!C24","v":0},{"$f":"'ה. ציוד נוסף '!L24","v":0},null,{"$f":"'ה. ציוד נוסף '!N24","v":0},{"$f":"'ה. ציוד נוסף '!O24","v":0},{"$f":"IF(F90=0,\"\",'ה. ציוד נוסף '!P24)","v":""},{"$f":"'ה. ציוד נוסף '!Q24","v":0}]
[{"$f":"'ה. ציוד נוסף '!B25","v":0},{"$f":"'ה. ציוד נוסף '!C25","v":0},{"$f":"'ה. ציוד נוסף '!L25","v":0},null,{"$f":"'ה. ציוד נוסף '!N25","v":0},{"$f":"'ה. ציוד נוסף '!O25","v":0},{"$f":"IF(F91=0,\"\",'ה. ציוד נוסף '!P25)","v":""},{"$f":"'ה. ציוד נוסף '!Q25","v":0}]
[{"$f":"'ה. ציוד נוסף '!B26","v":0},{"$f":"'ה. ציוד נוסף '!C26","v":0},{"$f":"'ה. ציוד נוסף '!L26","v":0},null,{"$f":"'ה. ציוד נוסף '!N26","v":0},{"$f":"'ה. ציוד נוסף '!O26","v":0},{"$f":"IF(F92=0,\"\",'ה. ציוד נוסף '!P26)","v":""},{"$f":"'ה. ציוד נוסף '!Q26","v":0}]
[{"$f":"'ה. ציוד נוסף '!B27","v":0},{"$f":"'ה. ציוד נוסף '!C27","v":0},{"$f":"'ה. ציוד נוסף '!L27","v":0},null,{"$f":"'ה. ציוד נוסף '!N27","v":0},{"$f":"'ה. ציוד נוסף '!O27","v":0},{"$f":"IF(F93=0,\"\",'ה. ציוד נוסף '!P27)","v":""},{"$f":"'ה. ציוד נוסף '!Q27","v":0}]
[{"$f":"'ה. ציוד נוסף '!B28","v":0},{"$f":"'ה. ציוד נוסף '!C28","v":0},{"$f":"'ה. ציוד נוסף '!L28","v":0},null,{"$f":"'ה. ציוד נוסף '!N28","v":0},{"$f":"'ה. ציוד נוסף '!O28","v":0},{"$f":"IF(F94=0,\"\",'ה. ציוד נוסף '!P28)","v":""},{"$f":"'ה. ציוד נוסף '!Q28","v":0}]
["סה\"כ ציוד נוסף כולל מע\"מ",null,{"$f":"SUM(C74:C94)","v":0},null,{"$f":"A95","v":"סה\"כ ציוד נוסף כולל מע\"מ"},null,null,0]
["סה\"כ בקשה כולל מע\"מ",null,{"$f":"C72+C95","v":0},null,{"$f":"A96","v":"סה\"כ בקשה כולל מע\"מ"},null,null,{"$f":"H72+H95","v":0}]