{"text_format":"1","workbook":"xlsx","n_sheets":18,"sheets":["ניהול","1 פתיח","2 תוכן עניינים","3 שאלון למילוי מגיש הבקשה","4 ציוד כללי","5 ציוד כיתות","6 פיזיותרפיה","7 ריפוי בעיסוק","8 קלינאית תקשורת","9 אחות ותזונאית","10 ציוד חצר","11 סנוזלן","12 מטבח מחמם","13 מטבח מבשל","14 ציוד לצוות","15 ציוד נוסף","16 סיכום","17 סיכום מפורט (לשימוש משרדי)"],"not_rendered":{"charts":0,"images":2,"macros":1,"external_links":0,"defined_names":2,"comments":0,"pivot_tables":0},"unopened":[],"bounds":{"document_bytes":16777216,"sheet_cells":100000,"rows_first":2000,"rows_last":500,"rows_between":2000,"halvings":0,"cell_chars":16384,"cell_head_chars":4096},"cells_cut":0,"cells_raw":0,"read":"whole","date_system":"1900"}

{"sheet":"ניהול","index":0,"n_rows":17,"n_cols":4,"rows_kept":17,"cut":false,"hidden":true,"merged":[]}
["סוג המסגרת",null,"פעולות נעילה/ פתיחה"]
["נא לבחור מתוך הרשימה:",null,"כלים","הסבר"]
["מעון יום שיקומי - עיכוב התפתחותי",1,null,"הכפתור נועל את הנתונים הנבחרים "]
["מעון יום שיקומי - לקויות תקשורת",null,null,"הקובץ  נשלח עם נעילת נתוני התקן ונוסחאות"]
["מעון יום שיקומי - לקויות ראייה",2,null,"הכפתור פותח את כל הנתונים"]
["מעון יום שיקומי - לקויות שמיעה",null,null,"יש להפעיל אותו לאחר  אישור בקשת הגוף"]
["מעון יום שיקומי - משולב",null,null,"לצורך נעילת שלב אישור בקשת הגוף"]
[null,3,null,"יש להפעיל את הכפתור אחרי פעולה מס' 2"]
[null,null,null,"ואחרי ביצוע פעולה 3  לנעול את הנתונים באמצעות כפתור מס' 1 "]
[null,4,null,"הכפתור נדרש במקרים מיוחדים"]
[null,null,null,"במידה ויש לעשות תיקונים אחרי שלב האישור"]
[null,null,null,"או לצרכים טכניים"]
[null,null,null,"להפעלתו יש לעשות פעולה מס' 2"]
[null,null,null,"ואחרי תיקון נתוני האישור לבצע פעולות  3 ו- 1"]
[null,5,null,"סינון ציוד מוזמן בסעיף \"סיכום מפורט\" אינו מוגן"]
[null,null,null,"מפני שהסינון לא עובד במצב נעול, לכן יש להיזהר "]
[null,null,null,"מכול פעולה מעבר מהפעלת הסינון באמצאות הכפתורים"]

{"sheet":"1 פתיח","index":1,"n_rows":42,"n_cols":2,"rows_kept":42,"cut":false,"hidden":false,"merged":[[30,1,30,7],[29,1,29,10],[25,1,25,10],[26,1,26,10],[27,1,27,10],[28,1,28,10]]}
[]
[]
[]
[]
[]
[]
[]
[]
[]
[null,"גרסה : 12.01.25"]
[null,"תקן ציוד מעון יום שיקומי/ מסיכון לסיכוי"]
[null,"מצב לנוחיותכם תקן ציוד למעון יום שיקומי או למעון מסיכון לסיכוי."]
[]
[null,"רקע כללי"]
[null,"הסיוע ניתן לציוד, יש להיכנס לאתר קרן שלם, פיתוח פיזי מענקים ולפעול בהתאם להנחיות, לנוחיותכם מצב הקישורים:"]
[null,"מסיכון לסיכוי - במסלול מעלה בלבד (עד 50% מהיקף מענק מעלה)"]
[]
[null,"מצב קישור >> מענק מעלה עד 100,000 ₪ "]
[null,"מצב קישור >> מענק צמרת (עד 500,000 ₪ ועד 50% מהעלות הנמוך מביניהם)"]
[null,"מטרת תקן ציוד"]
[null,"לסייע לרשויות או גופים המפעילים מסגרות לבנות את רשימת הציוד בהתאם להיקף ולסוג פעילותם. "]
[null,"תקן ציוד -  מהווה רשימת ציוד עפי גיליונות,  אשר ניתן לבחור מתוכה את פרטי הציוד הדרושים, לא נדרשות שתי הצעות מחיר. "]
[null,"גיליון ציוד נוסף - עבור ציוד שאינו נמצא בתקן, יש לציין שתי הצעות מחיר ושם הספק."]
[]
[null,"הבהרות"]
[]
[null,"לתשומת ליבכם, היקף הסיוע נקבע גם לפי מספר האנשים במסגרת וכן לפי מס' מקבלי השרות המוכרים על מש\"ה והשיקום כמצוין בתקנון הקרן"]
[null,"עבור הריהוט למסגרות ניתן לבקש  גם ייעוץ מקצועי ע\"י מעצב פנים. ראה סעיף ציוד כללי.  "]
[null,"במידה וקיים צורך בציוד אשר אינו מופיע בתקן, ניתן לבקש בגיליון ציוד נוסף. "]
[null,"הסכומים המופיעים בטבלאות כוללים מע\"מ. "]
[null,"גובה הסיוע כפוף להחלטות ומדיניות הנהלת הקרן המשתנות/מתעדכנות  באתר הקרן."]
[]
[null,"הנחיות למילוי הקובץ:"]
[null,"שלב הגשת הבקשה:"]
[null,"עליכם למלא גיליון ג' בטרם מילוי הגיליונות האחרים"]
[null,"גיליונות ד' עד ה' עליכם למלא רק עמודות הצבועות בירוק"]
[null,"אין לגעת בתאים האחרים- תאים אלו \"נעולים\""]
[]
[null,"שלב הדיווח על ההוצאות:"]
[null,"לאחר אישור הבקשה יוחזר הגיליון עם הפריטים המאושרים "]
[null,"גיליונות ד' עד ה' עליכם למלא רק עמודות הצבועות בכתום "]
[null,"אין לגעת בתאים האחרים- תאים אלו \"נעולים\""]

{"sheet":"2 תוכן עניינים","index":2,"n_rows":28,"n_cols":3,"rows_kept":28,"cut":false,"hidden":false,"merged":[]}
[]
[]
[]
[]
[]
[]
[]
[null,"תקן ציוד מעון יום שיקומי"]
[null,"תוכן עניינים:"]
[]
[null,"גיליון","תוכן הגיליון"]
[null,1,"פתיח"]
[null,2,"תוכן עניינים"]
[null,3,"שאלון למילוי מגיש הבקשה "]
[null,4,"ציוד כללי"]
[null,5,"ציוד כיתות"]
[null,6,"פיזיותרפיה"]
[null,7,"ריפוי בעיסוק"]
[null,8,"קלינאית תקשורת"]
[null,9,"אחות ותזונאית"]
[null,10,"ציוד חצר"]
[null,11,"סנוזלן"]
[null,12,"מטבח מחמם"]
[null,13,"מטבח מבשל"]
[null,14,"ציוד לצוות"]
[null,15,"ציוד נוסף"]
[null,16,"סיכום "]
[null,17,"סיכום מפורט (לשימוש משרדי)"]

{"sheet":"3 שאלון למילוי מגיש הבקשה","index":3,"n_rows":46,"n_cols":3,"rows_kept":46,"cut":false,"hidden":false,"merged":[]}
[]
[]
[]
[]
[]
[]
[]
[null,"תקן ציוד מעון יום שיקומי / מסיכון לסיכוי"]
[null," ציוד כללי, טיפולי שיקומי"]
[null,"שאלון למגיש הבקשה"]
[null,"הערות והסברים למילוי הבקשה"]
[null,"יש למלא את השאלון לעיל לפני מעבר לכתב הכמויות"]
[null,"הגוף המבקש מתבקש למלא פרטים בתאים המסומנים בצבע ירוק בלבד. אין למלא תאים אחרים."]
[null,"כל מחירי התקן כוללים מע\"מ."]
[null,"קרן שלם מיועדת לאנשים עם מובלות שכלית התפתחותית, פיזית וחושית כמצויין בתקנון הקרן."]
[]
[]
[null,"תאריך הגשת הבקשה"]
[]
[null,"שם המסגרת"]
[]
[null,"סוג המסגרת","נא לבחור מתוך הרשימה:"]
[]
[null,"שם הרשות"]
[]
[null,"שם הארגון המפעיל"]
[]
[null,"כתובת המסגרת"]
[]
[null,"שם ושם משפחה איש קשר"]
[]
[null,"תפקיד איש קשר"]
[]
[null,"נייד איש קשר "]
[]
[null,"מייל איש קשר"]
[]
[null,"מספר מקבלי השרות"]
[null,"מהם:"]
[null,"עיכוב התפתחותי"]
[]
[null,"לקויות תקשורת"]
[]
[null,"לקויות ראייה"]
[]
[null,"לקויות שמיעה"]

{"sheet":"4 ציוד כללי","index":4,"n_rows":22,"n_cols":13,"rows_kept":22,"cut":false,"hidden":false,"merged":[]}
[null,{"$f":"'2 תוכן עניינים'!C15","v":"ציוד כללי"},null,null,null,"שלב הגשת בקשת הגוף:",null,null,null,"שלב הדיווח לתשלום לאחר ביצוע:"]
[null,"שם המסגרת",{"$f":"'3 שאלון למילוי מגיש הבקשה'!$C$20","v":0},null,null,"עליכם למלא גיליון 3 טרם מילוי הגיליונות האחרים ",null,null,null,"לאחר אישור הבקשה יוחזר הגיליון עם הפריטים המאושרים"]
[null,"מספר מקבלי השרות",{"$f":"'3 שאלון למילוי מגיש הבקשה'!$C$38","v":0},null,null,"גיליונות 4 עד 15 - יש למלא רק עמודות הצבועות בירוק",null,null,null,"גיליונות ד' עד ה' - יש למלא רק עמודות הצבועות בכתום/ורוד"]
[null,null,null,null,null,"אין לסמן בתאים האחרים- תאים אלו יהיו נעולים",null,null,null,"אין לסמן בתאים האחרים- תאים אלו יהיו נעולים"]
[null,"תקן",null,null,null,"בקשת הגוף",null,null,null,"דיווח לתשלום לאחר ביצוע"]
[null,"סוג הריהוט / ציוד","תיאור","מחיר ליחידה",null,"כמות מבוקשת","תקציב מבוקש לקבוצה","הערות הגוף",null,"הפריט שנרכש","מס' חשבונית מס","תאריך חשבונית מס","סכום כולל מע\"מ"]
[null,"חדר שירותים החלפה ורחצה","שידת החתלה / ספסל הושבה",1100,null,null,{"$f":"D7*F7","v":0}]
[null,null,"מתקן רחצה - למעון רב נכותי \n(ניתן לרכוש אחד בלבד)",2000,null,null,{"$f":"D8*F8","v":0}]
[null,null,"ישבנון",300,null,null,0]
[null,"ציוד עזר","מדפסת לייזר צבעונית",300,null,null,0]
[null,null,"מקרן (ברקו)+ מסך",2800,null,null,0]
[null,null,"מכונת למינציה",350,null,null,0]
[null,"ציוד חירום","ציוד עזרה ראשונה",350,null,null,0]
[null,"ציוד מבואה","כורסה",400,null,null,0]
[null,null,"מאחזי יד -סכום גלובלי",1000,null,null,0]
[null,null,"מערכת שמע כיתתית",4000,null,null,0]
[null,"תוספות לפועטות עם לקויות חושיות (שמיעה, ראיה)","מערכת FM אישית (לפעוטות עם שתל כולל LOOP השראתי)",7000,null,null,0]
[null,null,"ציוד הכוונה והתמצאות ללקויי ראייה -סכום גלובלי",3000,null,null,0]
[null,null,"ציוד עם דגש תחושתי - סכום גלובלי",3000,null,null,0]
[null,"עיצוב פנים","סכום מקסימלי - שתי כיתות מעון",15000,null,null,0]
[null,null,"סכום מקסימלי - 4 כיתות מעון ",35000,null,null,0]
[null,"סה\"כ ציוד כללי (כולל מע\"מ)",null,null,null,null,{"$f":"SUM(G7:G21)","v":0},{"$f":"B22","v":"סה\"כ ציוד כללי (כולל מע\"מ)"},null,{"$f":"H22","v":"סה\"כ ציוד כללי (כולל מע\"מ)"},null,null,{"$f":"SUM(M7:M21)","v":0}]

{"sheet":"5 ציוד כיתות","index":5,"n_rows":28,"n_cols":13,"rows_kept":28,"cut":false,"hidden":false,"merged":[]}
[null,{"$f":"'2 תוכן עניינים'!C16","v":"ציוד כיתות"},null,null,null,"שלב הגשת בקשת הגוף:",null,null,null,"שלב הדיווח לתשלום לאחר ביצוע:"]
[null,"שם המסגרת",{"$f":"'3 שאלון למילוי מגיש הבקשה'!$C$20","v":0},null,null,"עליכם למלא גיליון 3 טרם מילוי הגיליונות האחרים ",null,null,null,"לאחר אישור הבקשה יוחזר הגיליון עם הפריטים המאושרים"]
[null,"מספר מקבלי השרות",{"$f":"'3 שאלון למילוי מגיש הבקשה'!$C$38","v":0},null,null,"גיליונות 4 עד 15 - יש למלא רק עמודות הצבועות בירוק",null,null,null,"גיליונות ד' עד ה' - יש למלא רק עמודות הצבועות בכתום/ורוד"]
[null,null,null,null,null,"אין לסמן בתאים האחרים- תאים אלו יהיו נעולים",null,null,null,"אין לסמן בתאים האחרים- תאים אלו יהיו נעולים"]
[null,"תקן",null,null,null,"בקשת הגוף",null,null,null,"דיווח לתשלום לאחר ביצוע"]
[null,"סוג הריהוט / ציוד","תיאור","מחיר ליחידה",null,"כמות מבוקשת","תקציב מבוקש לקבוצה","הערות הגוף",null,"הפריט שנרכש","מס' חשבונית מס","תאריך חשבונית מס","סכום כולל מע\"מ"]
[null,"ריהוט וציוד עזר ","מזרונים אישיים / מיטות",200,null,null,{"$f":"D7*F7","v":0}]
[null,"טיפולי כללי","מתקן לאחסון מזרונים/מיטות",2000,null,null,{"$f":"D8*F8","v":0}]
[null,null,"כסאות גן עם ידיות",300,null,null,0]
[null,null,"כסאות עם רמות תמיכה שונות, יכולת כוונון והתאמה",1150,null,null,0]
[null,null,"כיסא מותאם - מושב אינסרט, תמיכות, ניתן כוונון והתאמה, לילדים עם לקות מוטורית מורכבת.",5500,null,null,0]
[null,null,"כסא מטפל",350,null,null,0]
[null,null,"שולחנות עץ בגבהים שונים",500,null,null,0]
[null,null,"ארון אחסון",2500,null,null,0]
[null,null,"מסך טלוויזיה עם חיבור למחשב",1000,null,null,0]
[null,null,"שטיח PVC",200,null,null,0]
[null,null,"מראה + וילון",700,null,null,0]
[null,null,"מדף כפול",250,null,null,0]
[null,"ציוד תקשורת","אייפד",2800,null,null,0]
[null,null,"ביג מק",1000,null,null,0]
[null,null,"אפליקציה לשימוש בתת\"ח",1500,null,null,0]
[null,"ציוד עזר לאכילה","כלי אוכל מותאמים - לכיתה",1500,null,null,0]
[null,"ציוד עזר לניידות","הליכונים",3100,null,null,0]
[null,null,"עגלה לעידוד הליכה",500,null,null,0]
[null,null,"עמידון",5000,null,null,0]
[null,"ציוד שיקומי כללי","מושגי יסוד, תמונות מצולמות, תחפושות, משחקי תפקידים, גרייה, הרכבהה, פזלים, ספרים, פינת מטבח, פינת רופא וכד' - סכום גלובלי",10000,null,null,0]
[null,"התאמה אקוסטית","התאמה אקוסטית ",15000,null,null,0]
[null,"סה\"כ ציוד כיתות (כולל מע\"מ)",null,null,null,null,{"$f":"SUM(G7:G27)","v":0},{"$f":"B28","v":"סה\"כ ציוד כיתות (כולל מע\"מ)"},null,{"$f":"H28","v":"סה\"כ ציוד כיתות (כולל מע\"מ)"},null,null,{"$f":"SUM(M7:M27)","v":0}]

{"sheet":"6 פיזיותרפיה","index":6,"n_rows":26,"n_cols":13,"rows_kept":26,"cut":false,"hidden":false,"merged":[]}
[null,{"$f":"'2 תוכן עניינים'!C17","v":"פיזיותרפיה"},null,null,null,"שלב הגשת בקשת הגוף:",null,null,null,"שלב הדיווח לתשלום לאחר ביצוע:"]
[null,"שם המסגרת",{"$f":"'3 שאלון למילוי מגיש הבקשה'!$C$20","v":0},null,null,"עליכם למלא גיליון 3 טרם מילוי הגיליונות האחרים ",null,null,null,"לאחר אישור הבקשה יוחזר הגיליון עם הפריטים המאושרים"]
[null,"מספר מקבלי השרות",{"$f":"'3 שאלון למילוי מגיש הבקשה'!$C$38","v":0},null,null,"גיליונות 4 עד 15 - יש למלא רק עמודות הצבועות בירוק",null,null,null,"גיליונות ד' עד ה' - יש למלא רק עמודות הצבועות בכתום/ורוד"]
[null,null,null,null,null,"אין לסמן בתאים האחרים- תאים אלו יהיו נעולים",null,null,null,"אין לסמן בתאים האחרים- תאים אלו יהיו נעולים"]
[null,"תקן",null,null,null,"בקשת הגוף",null,null,null,"דיווח לתשלום לאחר ביצוע"]
[null,"סוג הריהוט / ציוד","תיאור","מחיר ליחידה",null,"כמות מבוקשת","תקציב מבוקש לקבוצה","הערות הגוף",null,"הפריט שנרכש","מס' חשבונית מס","תאריך חשבונית מס","סכום כולל מע\"מ"]
[null,"ציוד עזר","מזרונים טיפוליים",700,null,null,{"$f":"D7*F7","v":0}]
[null,null,"נקודות תליה לתקרה כולל התקנה",300,null,null,{"$f":"D8*F8","v":0}]
[null,null,"סולם שבדי כולל התקנה",1100,null,null,0]
[null,null,"מדף תליה כולל התקנה",1700,null,null,0]
[null,null,"מראה ניידת + וילון או כיסוי",1700,null,null,0]
[null,"ציוד מוטורי","הליכון אחורי עם תמיכות",4500,null,null,0]
[null,"ותחושתי","חבית טיפולית",950,null,null,0]
[null,null,"כדורי פיזיו",250,null,null,0]
[null,null,"גליל",100,null,null,0]
[null,null,"כדורים, חישוקים, שקיות תחושה, מטפחות וכיו\"ב -סכום גלובלי",3000,null,null,0]
[null,null,"סט 5 שרפרפים",450,null,null,0]
[null,null,"לוחות שיווי משקל (2)/ ערכת שיווי משקל",200,null,null,0]
[null,null,"מנהרה קפיצית מתקפלת קפיץ חבוי",200,null,null,0]
[null,null,"נדנדנת בולסטר",700,null,null,0]
[null,null,"מדרגות + שיפוע",1000,null,null,0]
[null,null,"עמידון",7000,null,null,0]
[null,null,"צלחת וסטיבולרית",450,null,null,0]
[null,null,"תלת אופן",300,null,null,0]
[null,"משחקי גרייה","משחקי גרייה שונים ",3000,null,null,0]
[null,"סה\"כ ציוד פיזיותרפיה (כולל מע\"מ)",null,null,null,null,{"$f":"SUM(G7:G25)","v":0},{"$f":"B26","v":"סה\"כ ציוד פיזיותרפיה (כולל מע\"מ)"},null,{"$f":"H26","v":"סה\"כ ציוד פיזיותרפיה (כולל מע\"מ)"},null,null,{"$f":"SUM(M7:M25)","v":0}]

{"sheet":"7 ריפוי בעיסוק","index":7,"n_rows":28,"n_cols":13,"rows_kept":28,"cut":false,"hidden":false,"merged":[]}
[null,{"$f":"'2 תוכן עניינים'!C18","v":"ריפוי בעיסוק"},null,null,null,"שלב הגשת בקשת הגוף:",null,null,null,"שלב הדיווח לתשלום לאחר ביצוע:"]
[null,"שם המסגרת",{"$f":"'3 שאלון למילוי מגיש הבקשה'!$C$20","v":0},null,null,"עליכם למלא גיליון 3 טרם מילוי הגיליונות האחרים ",null,null,null,"לאחר אישור הבקשה יוחזר הגיליון עם הפריטים המאושרים"]
[null,"מספר מקבלי השרות",{"$f":"'3 שאלון למילוי מגיש הבקשה'!$C$38","v":0},null,null,"גיליונות 4 עד 15 - יש למלא רק עמודות הצבועות בירוק",null,null,null,"גיליונות ד' עד ה' - יש למלא רק עמודות הצבועות בכתום/ורוד"]
[null,null,null,null,null,"אין לסמן בתאים האחרים- תאים אלו יהיו נעולים",null,null,null,"אין לסמן בתאים האחרים- תאים אלו יהיו נעולים"]
[null,"תקן",null,null,null,"בקשת הגוף",null,null,null,"דיווח לתשלום לאחר ביצוע"]
[null,"סוג הריהוט / ציוד","תיאור","מחיר ליחידה",null,"כמות מבוקשת","תקציב מבוקש לקבוצה","הערות הגוף",null,"הפריט שנרכש","מס' חשבונית מס","תאריך חשבונית מס","סכום כולל מע\"מ"]
[null,"ריהוט","מזרונים טיפוליים",700,null,null,{"$f":"D7*F7","v":0}]
[null,null,"כסא מתכוונן",1150,null,null,{"$f":"D8*F8","v":0}]
[null,null,"שולחן מתכוונן ",900,null,null,0]
[null,null,"נקודת תליה כולל התקנה",300,null,null,0]
[null,"ציוד מוטורי","נדנת גליידר",650,null,null,0]
[null,"ותחושתי","סקוטר",150,null,null,0]
[null,null,"חבית טיפולית",1000,null,null,0]
[null,null,"סט חמישה ספסלים",500,null,null,0]
[null,null,"קפצית",200,null,null,0]
[null,null,"ערסל בד טיפולי",400,null,null,0]
[null,"ציוד להבעה רגשית","משחקי תפקיד כולל בית בובות ואביזרים- סכום גלובלי ",3000,null,null,0]
[null,null,"ספרים ותקליטורים שונים- סכום גלובלי ",2000,null,null,0]
[null,"ציוד טיפולי כללי","מחשב כולל מדפסת, עזרים ותוכנות",5500,null,null,0]
[null,null,"אייפד",2800,null,null,0]
[null,null,"תכנת תקשורת",1500,null,null,0]
[null,null,"מתגים - סכום גלובלי",2000,null,null,0]
[null,null,"משחקי גרייה שונים - סכום גלובלי",1500,null,null,0]
[null,null,"שמיכה / אפודת תחושה",500,null,null,0]
[null,null,"משחקי מרחב, בנייה והרכבה - סכום גלובלי",1500,null,null,0]
[null,null,"משחקי שפה ומושגי יסוד - סכום גלובלי",2500,null,null,0]
[null,null,"פאזלים ומשחקי מרחב - סכום גלובלי",1500,null,null,0]
[null,"סה\"כ ציוד ריפוי בעיסוק (כולל מע\"מ)",null,null,null,null,{"$f":"SUM(G7:G27)","v":0},{"$f":"B28","v":"סה\"כ ציוד ריפוי בעיסוק (כולל מע\"מ)"},null,{"$f":"H28","v":"סה\"כ ציוד ריפוי בעיסוק (כולל מע\"מ)"},null,null,{"$f":"SUM(M7:M27)","v":0}]

{"sheet":"8 קלינאית תקשורת","index":8,"n_rows":17,"n_cols":13,"rows_kept":17,"cut":false,"hidden":false,"merged":[]}
[null,{"$f":"'2 תוכן עניינים'!C19","v":"קלינאית תקשורת"},null,null,null,"שלב הגשת בקשת הגוף:",null,null,null,"שלב הדיווח לתשלום לאחר ביצוע:"]
[null,"שם המסגרת",{"$f":"'3 שאלון למילוי מגיש הבקשה'!$C$20","v":0},null,null,"עליכם למלא גיליון 3 טרם מילוי הגיליונות האחרים ",null,null,null,"לאחר אישור הבקשה יוחזר הגיליון עם הפריטים המאושרים"]
[null,"מספר מקבלי השרות",{"$f":"'3 שאלון למילוי מגיש הבקשה'!$C$38","v":0},null,null,"גיליונות 4 עד 15 - יש למלא רק עמודות הצבועות בירוק",null,null,null,"גיליונות ד' עד ה' - יש למלא רק עמודות הצבועות בכתום/ורוד"]
[null,null,null,null,null,"אין לסמן בתאים האחרים- תאים אלו יהיו נעולים",null,null,null,"אין לסמן בתאים האחרים- תאים אלו יהיו נעולים"]
[null,"תקן",null,null,null,"בקשת הגוף",null,null,null,"דיווח לתשלום לאחר ביצוע"]
[null,"סוג הריהוט / ציוד","תיאור","מחיר ליחידה",null,"כמות מבוקשת","תקציב מבוקש לקבוצה","הערות הגוף",null,"הפריט שנרכש","מס' חשבונית מס","תאריך חשבונית מס","סכום כולל מע\"מ"]
[null,"מחשוב ותוכנה","אייפד - כולל כיסוי קשיח",2800,null,null,{"$f":"D7*F7","v":0}]
[null,null,"אפליקצית תקשרות",1500,null,null,0]
[null,null,"תוכנת גריד 3 מלאה",5200,null,null,0]
[null,"ציוד טיפולי","כלי מוסיקה שונים",1000,null,null,0]
[null,"כללי","כרטיסיות",1500,null,null,0]
[null,null,"משחקי מושגי יסוד, קטגוריות והעשרה",1500,null,null,0]
[null,null,"מתגים שונים",1000,null,null,0]
[null,null,"ספרים שונים",1000,null,null,0]
[null,"מכשירי  קשר","פלט קולי- מסוגים שונים",950,null,null,0]
[null,"כולי","ביג מק",950,null,null,0]
[null,"סה\"כ ציוד קלינאית תקשורת (כולל מע\"מ)",null,null,null,null,{"$f":"SUM(G7:G16)","v":0},{"$f":"B17","v":"סה\"כ ציוד קלינאית תקשורת (כולל מע\"מ)"},null,{"$f":"H17","v":"סה\"כ ציוד קלינאית תקשורת (כולל מע\"מ)"},null,null,{"$f":"SUM(M7:M16)","v":0}]

{"sheet":"9 אחות ותזונאית","index":9,"n_rows":26,"n_cols":13,"rows_kept":26,"cut":false,"hidden":false,"merged":[]}
[null,{"$f":"'2 תוכן עניינים'!C20","v":"אחות ותזונאית"},null,null,null,"שלב הגשת בקשת הגוף:",null,null,null,"שלב הדיווח לתשלום לאחר ביצוע:"]
[null,"שם המסגרת",{"$f":"'3 שאלון למילוי מגיש הבקשה'!$C$20","v":0},null,null,"עליכם למלא גיליון 3 טרם מילוי הגיליונות האחרים ",null,null,null,"לאחר אישור הבקשה יוחזר הגיליון עם הפריטים המאושרים"]
[null,"מספר מקבלי השרות",{"$f":"'3 שאלון למילוי מגיש הבקשה'!$C$38","v":0},null,null,"גיליונות 4 עד 15 - יש למלא רק עמודות הצבועות בירוק",null,null,null,"גיליונות ד' עד ה' - יש למלא רק עמודות הצבועות בכתום/ורוד"]
[null,null,null,null,null,"אין לסמן בתאים האחרים- תאים אלו יהיו נעולים",null,null,null,"אין לסמן בתאים האחרים- תאים אלו יהיו נעולים"]
[null,"תקן",null,null,null,"בקשת הגוף",null,null,null,"דיווח לתשלום לאחר ביצוע"]
[null,"סוג הריהוט / ציוד","תיאור","מחיר ליחידה",null,"כמות מבוקשת","תקציב מבוקש לקבוצה","הערות הגוף",null,"הפריט שנרכש","מס' חשבונית מס","תאריך חשבונית מס","סכום כולל מע\"מ"]
[null,"כלי בדיקה ","מאוזני משקל  לשקילה בשכיבה עד 20 ק\"ג עם מד אור",1200,null,null,{"$f":"D7*F7","v":0}]
[null,"ומדידה","משקל דיגיטלי רגיל ומד גובה רגיל",2700,null,null,0]
[null,null,"משקל דיגיטלי רגיל",200,null,null,0]
[null,null,"מד גובה לילד מכני",160,null,null,0]
[null,null,"מד חום דיגיטלי",50,null,null,0]
[null,null,"מד טמפרטורה לייזר",100,null,null,0]
[null,null,"מד לחץ דם משולב עם מד טמפרטורה",600,null,null,0]
[null,null,"מד סטורציה",300,null,null,0]
[null,null,"כלים, אביזרים, חומרים (גלובלי)",1000,null,null,0]
[null,"ציוד טיפולי","תיק עזרה ראשונה",500,null,null,0]
[null,"ורפואי","ערכת החייאה",1000,null,null,0]
[null,null,"מזרק אפיפן",400,null,null,0]
[null,null,"מכשיר אינהלציה ",190,null,null,0]
[null,null,"מיטה עם מעקה",700,null,null,0]
[null,null,"סקשן חשמלי ",1500,null,null,0]
[null,null,"מחשיר קנגורו",800,null,null,0]
[null,null,"מחלול חמצן",5000,null,null,0]
[null,null,"מד חום למדידת טמפרטורה של מזון",170,null,null,0]
[null,null,"כלים, אביזרים, חומרים (גלובלי)",1000,null,null,0]
[null,"סה\"כ ציוד אחות ותזונאית (כולל מע\"מ)",null,null,null,null,{"$f":"SUM(G7:G25)","v":0},{"$f":"B26","v":"סה\"כ ציוד אחות ותזונאית (כולל מע\"מ)"},null,{"$f":"H26","v":"סה\"כ ציוד אחות ותזונאית (כולל מע\"מ)"},null,null,{"$f":"SUM(M7:M25)","v":0}]

{"sheet":"10 ציוד חצר","index":10,"n_rows":23,"n_cols":13,"rows_kept":23,"cut":false,"hidden":false,"merged":[]}
[null,{"$f":"'2 תוכן עניינים'!C21","v":"ציוד חצר"},null,null,null,"שלב הגשת בקשת הגוף:",null,null,null,"שלב הדיווח לתשלום לאחר ביצוע:"]
[null,"שם המסגרת",{"$f":"'3 שאלון למילוי מגיש הבקשה'!$C$20","v":0},null,null,"עליכם למלא גיליון 3 טרם מילוי הגיליונות האחרים ",null,null,null,"לאחר אישור הבקשה יוחזר הגיליון עם הפריטים המאושרים"]
[null,"מספר מקבלי השרות",{"$f":"'3 שאלון למילוי מגיש הבקשה'!$C$38","v":0},null,null,"גיליונות 4 עד 15 - יש למלא רק עמודות הצבועות בירוק",null,null,null,"גיליונות ד' עד ה' - יש למלא רק עמודות הצבועות בכתום/ורוד"]
[null,null,null,null,null,"אין לסמן בתאים האחרים- תאים אלו יהיו נעולים",null,null,null,"אין לסמן בתאים האחרים- תאים אלו יהיו נעולים"]
[null,"תקן",null,null,null,"בקשת הגוף",null,null,null,"דיווח לתשלום לאחר ביצוע"]
[null,"סוג הריהוט / ציוד","תיאור","מחיר ליחידה",null,"כמות מבוקשת","תקציב מבוקש לקבוצה","הערות הגוף",null,"הפריט שנרכש","מס' חשבונית מס","תאריך חשבונית מס","סכום כולל מע\"מ"]
[null,"חצר קטנה ","ריצוף תקני",12000,null,null,{"$f":"D7*F7","v":0}]
[null,"עד 50 מ\"ר","הצללה",8000,null,null,{"$f":"D8*F8","v":0}]
[null,null,"מתקן נייח עם גירויים ויזואליים ו/או אודיטוריים",4000,null,null,0]
[null,null,"מתקן משולב הכולל טיפוס, מנהרה, החלקה וגגון",20000,null,null,0]
[null,null,"עלה ורד קפיצי",2000,null,null,0]
[null,null,"בימבות/ אופניים/ מריצות",2000,null,null,0]
[null,"חצר גדולה ","ריצוף תקני",24000,null,null,0]
[null,"מעל 50 מ\"ר","הצללה",14000,null,null,0]
[null,null,"מתקן נייח עם גירויים ויזואליים ו/או אודיטוריים",4000,null,null,0]
[null,null,"מתקן משולב הכולל טיפוס, מנהרה, החלקה וגגון",20000,null,null,0]
[null,null,"שולחן חול ומיים / ארגז חול + כיסוי",1000,null,null,0]
[null,null,"עלה ורד קפיצי",2000,null,null,0]
[null,null,"נדנדה (קן לציפור)",13000,null,null,0]
[null,null,"מתקן נייד",3000,null,null,0]
[null,null,"בימבות/ אופניים/ מריצות",2000,null,null,0]
[null,null,"מחסן",5500,null,null,0]
[null,"סה\"כ ציוד חצר (כולל מע\"מ)",null,null,null,null,{"$f":"SUM(G7:G22)","v":0},{"$f":"B23","v":"סה\"כ ציוד חצר (כולל מע\"מ)"},null,{"$f":"H23","v":"סה\"כ ציוד חצר (כולל מע\"מ)"},null,null,{"$f":"SUM(M7:M22)","v":0}]

{"sheet":"11 סנוזלן","index":11,"n_rows":22,"n_cols":13,"rows_kept":22,"cut":false,"hidden":false,"merged":[]}
[null,{"$f":"'2 תוכן עניינים'!C22","v":"סנוזלן"},null,null,null,"שלב הגשת בקשת הגוף:",null,null,null,"שלב הדיווח לתשלום לאחר ביצוע:"]
[null,"שם המסגרת",{"$f":"'3 שאלון למילוי מגיש הבקשה'!$C$20","v":0},null,null,"עליכם למלא גיליון 3 טרם מילוי הגיליונות האחרים ",null,null,null,"לאחר אישור הבקשה יוחזר הגיליון עם הפריטים המאושרים"]
[null,"מספר מקבלי השרות",{"$f":"'3 שאלון למילוי מגיש הבקשה'!$C$38","v":0},null,null,"גיליונות 4 עד 15 - יש למלא רק עמודות הצבועות בירוק",null,null,null,"גיליונות ד' עד ה' - יש למלא רק עמודות הצבועות בכתום/ורוד"]
[null,null,null,null,null,"אין לסמן בתאים האחרים- תאים אלו יהיו נעולים",null,null,null,"אין לסמן בתאים האחרים- תאים אלו יהיו נעולים"]
[null,"תקן",null,null,null,"בקשת הגוף",null,null,null,"דיווח לתשלום לאחר ביצוע"]
[null,"סוג הריהוט / ציוד","תיאור","מחיר ליחידה",null,"כמות מבוקשת","תקציב מבוקש לקבוצה","הערות הגוף",null,"הפריט שנרכש","מס' חשבונית מס","תאריך חשבונית מס","סכום כולל מע\"מ"]
[null,"ציוד","עמוד בועות",8000,null,null,{"$f":"D7*F7","v":0}]
[null,"סנוזלן","מראות מחוסמות",1750,null,null,{"$f":"D8*F8","v":0}]
[null,null,"בסיס מרופד",1200,null,null,0]
[null,null,"פרוג'קטור",5500,null,null,0]
[null,null,"פופ",850,null,null,0]
[null,null,"מערכת מוסיקה",1600,null,null,0]
[null,null,"ריפוד רצפה  וקירות ל 20 מ\"ר",400,null,null,0]
[null,null,"סיבים אופטיים",6850,null,null,0]
[null,null,"כדור מראות+מקרן",1200,null,null,0]
[null,null,"נדנדה",950,null,null,0]
[null,null,"מתרגם קול לאור",9000,null,null,0]
[null,null,"מתקן גירוי תגובה",5500,null,null,0]
[null,null,"אביזרי עיסוי",2500,null,null,0]
[null,null,"אביזרי גריה קטנים",860,null,null,0]
[null,null,"ארון אחסון לעזרים",2000,null,null,0]
[null,"סה\"כ ציוד סנוזלן (כולל מע\"מ)",null,null,null,null,{"$f":"SUM(G7:G21)","v":0},{"$f":"B22","v":"סה\"כ ציוד סנוזלן (כולל מע\"מ)"},null,{"$f":"H22","v":"סה\"כ ציוד סנוזלן (כולל מע\"מ)"},null,null,{"$f":"SUM(M7:M21)","v":0}]

{"sheet":"12 מטבח מחמם","index":12,"n_rows":32,"n_cols":13,"rows_kept":32,"cut":false,"hidden":false,"merged":[]}
[null,{"$f":"'2 תוכן עניינים'!C23","v":"מטבח מחמם"},null,null,null,"שלב הגשת בקשת הגוף:",null,null,null,"שלב הדיווח לתשלום לאחר ביצוע:"]
[null,"שם המסגרת",{"$f":"'3 שאלון למילוי מגיש הבקשה'!$C$20","v":0},null,null,"עליכם למלא גיליון 3 טרם מילוי הגיליונות האחרים ",null,null,null,"לאחר אישור הבקשה יוחזר הגיליון עם הפריטים המאושרים"]
[null,"מספר מקבלי השרות",{"$f":"'3 שאלון למילוי מגיש הבקשה'!$C$38","v":0},null,null,"גיליונות 4 עד 15 - יש למלא רק עמודות הצבועות בירוק",null,null,null,"גיליונות ד' עד ה' - יש למלא רק עמודות הצבועות בכתום/ורוד"]
[null,null,null,null,null,"אין לסמן בתאים האחרים- תאים אלו יהיו נעולים",null,null,null,"אין לסמן בתאים האחרים- תאים אלו יהיו נעולים"]
[null,"תקן",null,null,null,"בקשת הגוף",null,null,null,"דיווח לתשלום לאחר ביצוע"]
[null,"סוג הריהוט / ציוד","תיאור","מחיר ליחידה",null,"כמות מבוקשת","תקציב מבוקש לקבוצה","הערות הגוף",null,"הפריט שנרכש","מס' חשבונית מס","תאריך חשבונית מס","סכום כולל מע\"מ"]
[null,"ציוד חשמל","כיריים חשמליות ",6000,null,null,{"$f":"D7*F7","v":0}]
[null,null,"תנור אפיה וחימום ",5000,null,null,{"$f":"D8*F8","v":0}]
[null,null,"תנור קומביסטימר",25000,null,null,0]
[null,null,"מקרר ביתי / תעשייתי",12000,null,null,0]
[null,null,"מקפיא",2500,null,null,0]
[null,null,"מדיח כלים חצי תעשייתי / תעשייתי + מרכך מים",15000,null,null,0]
[null,null,"מעבד מזון מקצועי",2500,null,null,0]
[null,null,"מקסר / בלנדר - בייתי / תעשייתי",3000,null,null,0]
[null,null,"מיקרוגל",1000,null,null,0]
[null,null,"מתקן מים",3000,null,null,0]
[null,null,"מחם אוטומטי  6 /  10ל'",500,null,null,0]
[null,null,"עגלת חימום / קרור",15000,null,null,0]
[null,"ריהוט","שולחן כניסה ויציאה  למדיח כלים",7200,null,null,0]
[null,"ציוד נוסף וכלים","סוללה עם מתז עליון על שולחן",1800,null,null,0]
[null,null,"ברז שולחני עם פיה מסתובבת לכיור עבודה",500,null,null,0]
[null,null,"ארון מדפים פתוחים",6000,null,null,0]
[null,null,"מתלה ייבוש לצלחות עם מדף לספלים",1200,null,null,0]
[null,null,"עגלת הגשה",4000]
[null,null,"עגלת עבודה",1500,null,null,0]
[null,null,"עגלה עם מיכל אשפה  80 ליטר",700,null,null,0]
[null,null,"משטחי עבודה",1800,null,null,0]
[null,null,"שולחן כיור",4600,null,null,0]
[null,null,"עגלה עם מיכל אשפה  80 ליטר",700,null,null,0]
[null,null,"ארון אחסון יבש ",3700,null,null,0]
[null,null,"כלי מטבח",10000,null,null,0]
[null,"סה\"כ ציוד מטבח מחמם (כולל מע\"מ)",null,null,null,null,{"$f":"SUM(G7:G31)","v":0},{"$f":"B32","v":"סה\"כ ציוד מטבח מחמם (כולל מע\"מ)"},null,{"$f":"H32","v":"סה\"כ ציוד מטבח מחמם (כולל מע\"מ)"},null,null,{"$f":"SUM(M7:M31)","v":0}]

{"sheet":"13 מטבח מבשל","index":13,"n_rows":34,"n_cols":13,"rows_kept":34,"cut":false,"hidden":false,"merged":[]}
[null,{"$f":"'2 תוכן עניינים'!C24","v":"מטבח מבשל"},null,null,null,"שלב הגשת בקשת הגוף:",null,null,null,"שלב הדיווח לתשלום לאחר ביצוע:"]
[null,"שם המסגרת",{"$f":"'3 שאלון למילוי מגיש הבקשה'!$C$20","v":0},null,null,"עליכם למלא גיליון 3 טרם מילוי הגיליונות האחרים ",null,null,null,"לאחר אישור הבקשה יוחזר הגיליון עם הפריטים המאושרים"]
[null,"מספר מקבלי השרות",{"$f":"'3 שאלון למילוי מגיש הבקשה'!$C$38","v":0},null,null,"גיליונות 4 עד 15 - יש למלא רק עמודות הצבועות בירוק",null,null,null,"גיליונות ד' עד ה' - יש למלא רק עמודות הצבועות בכתום/ורוד"]
[null,null,null,null,null,"אין לסמן בתאים האחרים- תאים אלו יהיו נעולים",null,null,null,"אין לסמן בתאים האחרים- תאים אלו יהיו נעולים"]
[null,"תקן",null,null,null,"בקשת הגוף",null,null,null,"דיווח לתשלום לאחר ביצוע"]
[null,"סוג הריהוט / ציוד","תיאור","מחיר ליחידה",null,"כמות מבוקשת","תקציב מבוקש לקבוצה","הערות הגוף",null,"הפריט שנרכש","מס' חשבונית מס","תאריך חשבונית מס","סכום כולל מע\"מ"]
[null,"ציוד חשמלי","מקרר ארון חד רוחבי",6500,null,null,{"$f":"D7*F7","v":0}]
[null,null,"מקפיא ארון חד רוחבי",7600,null,null,{"$f":"D8*F8","v":0}]
[null,null,"מקרר דלפק",5900,null,null,0]
[null,null,"מדיח כלים חצי תעשייתי / תעשייתי ",15000,null,null,0]
[null,null,"מרכך מים 230 ליטר/שעה",4700,null,null,0]
[null,null,"כיריים חשמליות  / גז  6  להבות",10000,null,null,0]
[null,null,"תנור קומביסטימר",32000,null,null,0]
[null,null,"מקסר / בלנדר - בייתי / תעשייתי",3000,null,null,0]
[null,null,"קוצץ ירקות שולחני",6500,null,null,0]
[null,null,"מעבד מזון תעשייתי",7600,null,null,0]
[null,null,"עגלת חימום / קרור",15000,null,null,0]
[null,null,"מיחם אוטומטי  25 ליטר",4500,null,null,0]
[null,null,"מיקרוגל לעומס בינוני",2800,null,null,0]
[null,null,"מחבת מתהפך 50 ליטר",20000,null,null,0]
[null,null,"ארון חימום תחתון/ מעמד לתנור",7000,null,null,0]
[null,"ריהוט","שולחן כניסה ויציאה  למדיח כלים",7200,null,null,0]
[null,"ציוד נוסף וכלים","סוללה עם מתז עליון על שולחן",1800,null,null,0]
[null,null,"ברז שולחני עם פיה מסתובבת לכיור עבודה",500,null,null,0]
[null,null,"מדף עליון כפול",2000,null,null,0]
[null,null,"מתלה ייבוש לצלחות עם מדף לספלים",1200,null,null,0]
[null,null,"עגלת עבודה",1500,null,null,0]
[null,null,"עגלה עם מיכל אשפה  80 ליטר",700,null,null,0]
[null,null,"משטחי עבודה",1800,null,null,0]
[null,null,"שולחן כיור",4600,null,null,0]
[null,null,"עגלה עם מיכל אשפה  80 ליטר",700,null,null,0]
[null,null,"ארון אחסון יבש ",3700,null,null,0]
[null,null,"כלי מטבח",10000,null,null,0]
[null,"סה\"כ ציוד מטבח מבשל (כולל מע\"מ)",null,null,null,null,{"$f":"SUM(G7:G33)","v":0},{"$f":"B34","v":"סה\"כ ציוד מטבח מבשל (כולל מע\"מ)"},null,{"$f":"H34","v":"סה\"כ ציוד מטבח מבשל (כולל מע\"מ)"},null,null,{"$f":"SUM(M7:M33)","v":0}]

{"sheet":"14 ציוד לצוות","index":14,"n_rows":34,"n_cols":13,"rows_kept":34,"cut":false,"hidden":false,"merged":[]}
[null,{"$f":"'2 תוכן עניינים'!C25","v":"ציוד לצוות"},null,null,null,"שלב הגשת בקשת הגוף:",null,null,null,"שלב הדיווח לתשלום לאחר ביצוע:"]
[null,"שם המסגרת",{"$f":"'3 שאלון למילוי מגיש הבקשה'!C20","v":0},null,null,"עליכם למלא גיליון 3 טרם מילוי הגיליונות האחרים ",null,null,null,"לאחר אישור הבקשה יוחזר הגיליון עם הפריטים המאושרים"]
[null,"מספר אנשי צוות",{"$f":"D34","v":0},null,null,"גיליונות 4 עד 15 - יש למלא רק עמודות הצבועות בירוק",null,null,null,"גיליונות ד' עד ה' - יש למלא רק עמודות הצבועות בכתום/ורוד"]
[null,null,null,null,null,"אין לסמן בתאים האחרים- תאים אלו יהיו נעולים",null,null,null,"אין לסמן בתאים האחרים- תאים אלו יהיו נעולים"]
[null,"תקן",null,null,null,"בקשת הגוף",null,null,null,"דיווח לתשלום לאחר ביצוע"]
[null,"סוג הריהוט / ציוד","תיאור","מחיר ליחידה",null,"כמות מבוקשת","תקציב מבוקש לקבוצה","הערות הגוף",null,"הפריט שנרכש","מס' חשבונית מס","תאריך חשבונית מס","סכום כולל מע\"מ"]
[null,"ריהוט כללי","ארון",2000,null,null,{"$f":"D7*F7","v":0}]
[null,null,"שולחן ",1500,null,null,{"$f":"D8*F8","v":0}]
[null,null,"כיסא אישי",800,null,null,0]
[null,null,"כיסא אורחים/ עבודה",400,null,null,0]
[null,null,"מראה ווילון",700,null,null,0]
[null,null,"אביזרי עיצוב",2000,null,null,0]
[null,"מחשוב, תוכנה, ","מחשב+תוכנות",4000,null,null,0]
[null,"מולטימדיה","מדפסת משולבת",1000,null,null,0]
[null,null,"ציוד תקשורת ומולטימדיה",750,null,null,0]
[null,"סה\"כ ציוד לצוות (כולל מע\"מ)",null,null,null,null,{"$f":"SUM(G7:G15)","v":0},{"$f":"B16","v":"סה\"כ ציוד לצוות (כולל מע\"מ)"},null,{"$f":"H16","v":"סה\"כ ציוד לצוות (כולל מע\"מ)"},null,null,{"$f":"SUM(M7:M15)","v":0}]
[null,null,"נא למלא את פירוט הצוות"]
[null,null,"תפקיד","מס' עובדים"]
[]
[]
[]
[]
[]
[]
[]
[]
[]
[]
[]
[]
[]
[]
[]
[null,null,"סה\"כ",{"$f":"SUM(D19:D33)","v":0}]

{"sheet":"15 ציוד נוסף","index":15,"n_rows":29,"n_cols":17,"rows_kept":29,"cut":false,"hidden":false,"merged":[]}
[null,{"$f":"'2 תוכן עניינים'!C26","v":"ציוד נוסף"},null,null,null,null,null,null,null,"שלב הגשת בקשת הגוף:",null,null,null,"שלב הדיווח לתשלום לאחר ביצוע:"]
[null,"ניתן להכניס בטבלה זאת ציוד שאינו מופיע  בתקן.  יש להציג  2  הצעות מחיר  ולציין  בטורים  K-L  את  ההצעה המועדפת. ",null,null,null,null,null,null,null,"עליכם למלא גיליון 3 טרם מילוי הגיליונות האחרים ",null,null,null,"לאחר אישור הבקשה יוחזר הגיליון עם הפריטים המאושרים"]
[null,"שם המסגרת",{"$f":"'3 שאלון למילוי מגיש הבקשה'!$C$20","v":0},null,null,null,null,null,null,"גיליונות 4 עד 15 - יש למלא רק עמודות הצבועות בירוק",null,null,null,"גיליונות ד' עד ה', יש למלא רק עמודות הצבועות בכתום/ורוד"]
[null,"מספר מקבלי השרות",{"$f":"'3 שאלון למילוי מגיש הבקשה'!$C$38","v":0},null,null,null,null,null,null,"אין לסמן בתאים האחרים- תאים אלו יהיו נעולים",null,null,null,"אין לגעת בתאים האחרים- תאים אלו יהיו נעולים"]
[]
[null,"ציוד נוסף",null,"הצעה ראשונה ",null,null," הצעה שניה",null,null,"הצעה מועדפת",null,null,null,"דיווח לתשלום"]
[null,"שם הפריט","כמות מבוקשת","שם ספק 1","מחיר ליחידה ","סכום ","שם הספק 2","מחיר ליחידה ","סכום","הספק המועדף","מחיר ליחידה ","סכום",null,"הפריט שנרכש","מס' חשבונית מס ","תאריך חשבונית מס","סכום כולל מעמ"]
[null,"טרמפולךינה",4,"מיקי כהן",400,{"$f":"C8*E8","v":1600},"רינת",300,{"$f":"$C8*H8","v":1200},"מיקי",null,{"$f":"C8*K8","v":0}]
[null,"עיצוב פנים ",1,"מיקי כהן",60000,60000,"רינת",75000,75000,"רינת",null,0]
[null,null,null,null,null,0,null,null,0,null,null,0]
[null,null,null,null,null,0,null,null,0,null,null,0]
[null,null,null,null,null,0,null,null,0,null,null,0]
[null,null,null,null,null,0,null,null,0,null,null,0]
[null,null,null,null,null,0,null,null,0,null,null,0]
[null,null,null,null,null,0,null,null,0,null,null,0]
[null,null,null,null,null,0,null,null,0,null,null,0]
[null,null,null,null,null,0,null,null,0,null,null,0]
[null,null,null,null,null,0,null,null,0,null,null,0]
[null,null,null,null,null,0,null,null,0,null,null,0]
[null,null,null,null,null,0,null,null,0,null,null,0]
[null,null,null,null,null,0,null,null,0,null,null,0]
[null,null,null,null,null,0,null,null,0,null,null,0]
[null,null,null,null,null,0,null,null,0,null,null,0]
[null,null,null,null,null,0,null,null,0,null,null,0]
[null,null,null,null,null,0,null,null,0,null,null,0]
[null,null,null,null,null,0,null,null,0,null,null,0]
[null,null,null,null,null,0,null,null,0,null,null,0]
[null,null,null,null,null,0,null,null,0,null,null,0]
[null,"סה\"כ  ציוד נוסף(כולל מע\"מ)",null,null,null,{"$f":"SUM(F8:F28)","v":61600},null,null,{"$f":"SUM(I8:I28)","v":76200},null,null,{"$f":"SUM(L8:L28)","v":0},null,{"$f":"B29","v":"סה\"כ  ציוד נוסף(כולל מע\"מ)"},null,null,{"$f":"SUM(Q8:Q28)","v":0}]

{"sheet":"16 סיכום","index":16,"n_rows":43,"n_cols":5,"rows_kept":43,"cut":false,"hidden":false,"merged":[]}
[]
[]
[]
[]
[]
[]
[]
[null,"תקן ציוד מעון יום שיקומי ומסיכון לסיכוי"]
[]
[null,"דוח ביצוע מסכם"]
[]
[null,"הנחיות לקבלת תשלום : "]
[null,"יש למלא את ההוצאות בפועל בכל אחד מהגיליונות הרלבנטיים הקודמים. הסכומים יעודכנו אוטומטית בגיליון זה."]
[null,"יש לשלוח את הקובץ הזה במלואו באימייל המצויין מטה."]
[null,"יש להדפיס עמוד זה ולהחתים כנדרש "]
[null,"בנוסף יש לצרף :"]
[null,"צילומי חשבוניות מס / קבלות או כרטסת חתומה ע\"י רו\"ח של ארגון מפעיל/ גזבר הרשות"]
[null,"את הדיווחים  לתשלום  ואת הקובץ במלואו יש לשלוח במייל : limor@kshalem.org.il"]
[null,"באחריות השולח לוודא כי החמרים הגיעו ליעדם "]
[]
[null,{"$f":"'4 ציוד כללי'!$B$2","v":"שם המסגרת"},null,{"$f":"'3 שאלון למילוי מגיש הבקשה'!C20","v":0}]
[null,{"$f":"'4 ציוד כללי'!$B$3","v":"מספר מקבלי השרות"},null,{"$f":"'3 שאלון למילוי מגיש הבקשה'!C38","v":0}]
[]
[null,"מס'","ציוד על פי נושאים","סכום מאושר","סכום שבוצע בפועל"]
[null,1,{"$f":"'2 תוכן עניינים'!C15","v":"ציוד כללי"},{"$f":"'4 ציוד כללי'!G22","v":0},{"$f":"'4 ציוד כללי'!M22","v":0}]
[null,2,{"$f":"'2 תוכן עניינים'!C16","v":"ציוד כיתות"},{"$f":"'5 ציוד כיתות'!G28","v":0},{"$f":"'5 ציוד כיתות'!M28","v":0}]
[null,3,{"$f":"'2 תוכן עניינים'!C17","v":"פיזיותרפיה"},{"$f":"'6 פיזיותרפיה'!G26","v":0},{"$f":"'6 פיזיותרפיה'!M26","v":0}]
[null,4,{"$f":"'2 תוכן עניינים'!C18","v":"ריפוי בעיסוק"},{"$f":"'7 ריפוי בעיסוק'!G28","v":0},{"$f":"'7 ריפוי בעיסוק'!M28","v":0}]
[null,5,{"$f":"'2 תוכן עניינים'!C19","v":"קלינאית תקשורת"},{"$f":"'8 קלינאית תקשורת'!G17","v":0},{"$f":"'8 קלינאית תקשורת'!M17","v":0}]
[null,6,{"$f":"'2 תוכן עניינים'!C20","v":"אחות ותזונאית"},{"$f":"'9 אחות ותזונאית'!G26","v":0},{"$f":"'9 אחות ותזונאית'!M26","v":0}]
[null,7,{"$f":"'2 תוכן עניינים'!C21","v":"ציוד חצר"},{"$f":"'10 ציוד חצר'!G23","v":0},{"$f":"'10 ציוד חצר'!M23","v":0}]
[null,8,{"$f":"'2 תוכן עניינים'!C22","v":"סנוזלן"},{"$f":"'11 סנוזלן'!G22","v":0},{"$f":"'11 סנוזלן'!M22","v":0}]
[null,9,{"$f":"'2 תוכן עניינים'!C23","v":"מטבח מחמם"},{"$f":"'12 מטבח מחמם'!G32","v":0},{"$f":"'12 מטבח מחמם'!M32","v":0}]
[null,10,{"$f":"'2 תוכן עניינים'!C24","v":"מטבח מבשל"},{"$f":"'13 מטבח מבשל'!G34","v":0},{"$f":"'13 מטבח מבשל'!M34","v":0}]
[null,11,{"$f":"'2 תוכן עניינים'!C25","v":"ציוד לצוות"},{"$f":"'14 ציוד לצוות'!G16","v":0},{"$f":"'14 ציוד לצוות'!M16","v":0}]
[null,12,{"$f":"'2 תוכן עניינים'!C26","v":"ציוד נוסף"},{"$f":"'15 ציוד נוסף'!L29","v":0},{"$f":"'15 ציוד נוסף'!Q29","v":0}]
[null,null,"סה\"כ בקשה כולל מע\"מ",80,{"$f":"SUM(E25:E36)","v":0}]
[]
[null,null,"מספר פרוייקט קרן שלם"]
[]
[null,null,"חתימה וחותמת גזבר/רו\"ח"]
[]
[null,null,"תאריך "]

{"sheet":"17 סיכום מפורט (לשימוש משרדי)","index":17,"n_rows":251,"n_cols":8,"rows_kept":251,"cut":false,"hidden":false,"merged":[]}
[{"$f":"'2 תוכן עניינים'!C28","v":"סיכום מפורט (לשימוש משרדי)"}]
["מספר מק\"ט",{"$f":"'16 סיכום'!D39","v":0}]
[{"$f":"'4 ציוד כללי'!B2","v":"שם המסגרת"},{"$f":"'3 שאלון למילוי מגיש הבקשה'!C20","v":0}]
[{"$f":"'4 ציוד כללי'!B3","v":"מספר מקבלי השרות"},{"$f":"'3 שאלון למילוי מגיש הבקשה'!C38","v":0}]
[]
[null,"בקשה / אישור",null,null,"דיווח לתשלום"]
[{"$f":"'4 ציוד כללי'!C6","v":"תיאור"},{"$f":"'4 ציוד כללי'!F6","v":"כמות מבוקשת"},{"$f":"'4 ציוד כללי'!G6","v":"תקציב מבוקש לקבוצה"},null,{"$f":"'4 ציוד כללי'!J6","v":"הפריט שנרכש"},{"$f":"'4 ציוד כללי'!K6","v":"מס' חשבונית מס"},{"$f":"'4 ציוד כללי'!L6","v":"תאריך חשבונית מס"},{"$f":"'4 ציוד כללי'!M6","v":"סכום כולל מע\"מ"}]
[{"$f":"'2 תוכן עניינים'!C15","v":"ציוד כללי"},null,null,null,{"$f":"A8","v":"ציוד כללי"}]
[{"$f":"'4 ציוד כללי'!C7","v":"שידת החתלה / ספסל הושבה"},{"$f":"'4 ציוד כללי'!F7","v":0},{"$f":"'4 ציוד כללי'!G7","v":0},null,{"$f":"'4 ציוד כללי'!J7","v":0},{"$f":"'4 ציוד כללי'!K7","v":0},{"$f":"IF(H9=0,\"\",'4 ציוד כללי'!L7)","v":""},{"$f":"'4 ציוד כללי'!M7","v":0}]
[{"$f":"'4 ציוד כללי'!C8","v":"מתקן רחצה - למעון רב נכותי \n(ניתן לרכוש אחד בלבד)"},{"$f":"'4 ציוד כללי'!F8","v":0},{"$f":"'4 ציוד כללי'!G8","v":0},null,{"$f":"'4 ציוד כללי'!J8","v":0},{"$f":"'4 ציוד כללי'!K8","v":0},{"$f":"IF(H10=0,\"\",'4 ציוד כללי'!L8)","v":""},{"$f":"'4 ציוד כללי'!M8","v":0}]
[{"$f":"'4 ציוד כללי'!C9","v":"ישבנון"},{"$f":"'4 ציוד כללי'!F9","v":0},{"$f":"'4 ציוד כללי'!G9","v":0},null,{"$f":"'4 ציוד כללי'!J9","v":0},{"$f":"'4 ציוד כללי'!K9","v":0},{"$f":"IF(H11=0,\"\",'4 ציוד כללי'!L9)","v":""},{"$f":"'4 ציוד כללי'!M9","v":0}]
[{"$f":"'4 ציוד כללי'!C10","v":"מדפסת לייזר צבעונית"},{"$f":"'4 ציוד כללי'!F10","v":0},{"$f":"'4 ציוד כללי'!G10","v":0},null,{"$f":"'4 ציוד כללי'!J10","v":0},{"$f":"'4 ציוד כללי'!K10","v":0},{"$f":"IF(H12=0,\"\",'4 ציוד כללי'!L10)","v":""},{"$f":"'4 ציוד כללי'!M10","v":0}]
[{"$f":"'4 ציוד כללי'!C11","v":"מקרן (ברקו)+ מסך"},{"$f":"'4 ציוד כללי'!F11","v":0},{"$f":"'4 ציוד כללי'!G11","v":0},null,{"$f":"'4 ציוד כללי'!J11","v":0},{"$f":"'4 ציוד כללי'!K11","v":0},{"$f":"IF(H13=0,\"\",'4 ציוד כללי'!L11)","v":""},{"$f":"'4 ציוד כללי'!M11","v":0}]
[{"$f":"'4 ציוד כללי'!C12","v":"מכונת למינציה"},{"$f":"'4 ציוד כללי'!F12","v":0},{"$f":"'4 ציוד כללי'!G12","v":0},null,{"$f":"'4 ציוד כללי'!J12","v":0},{"$f":"'4 ציוד כללי'!K12","v":0},{"$f":"IF(H14=0,\"\",'4 ציוד כללי'!L12)","v":""},{"$f":"'4 ציוד כללי'!M12","v":0}]
[{"$f":"'4 ציוד כללי'!C13","v":"ציוד עזרה ראשונה"},{"$f":"'4 ציוד כללי'!F13","v":0},{"$f":"'4 ציוד כללי'!G13","v":0},null,{"$f":"'4 ציוד כללי'!J13","v":0},{"$f":"'4 ציוד כללי'!K13","v":0},{"$f":"IF(H15=0,\"\",'4 ציוד כללי'!L13)","v":""},{"$f":"'4 ציוד כללי'!M13","v":0}]
[{"$f":"'4 ציוד כללי'!C14","v":"כורסה"},{"$f":"'4 ציוד כללי'!F14","v":0},{"$f":"'4 ציוד כללי'!G14","v":0},null,{"$f":"'4 ציוד כללי'!J14","v":0},{"$f":"'4 ציוד כללי'!K14","v":0},{"$f":"IF(H16=0,\"\",'4 ציוד כללי'!L14)","v":""},{"$f":"'4 ציוד כללי'!M14","v":0}]
[{"$f":"'4 ציוד כללי'!C15","v":"מאחזי יד -סכום גלובלי"},{"$f":"'4 ציוד כללי'!F15","v":0},{"$f":"'4 ציוד כללי'!G15","v":0},null,{"$f":"'4 ציוד כללי'!J15","v":0},{"$f":"'4 ציוד כללי'!K15","v":0},{"$f":"IF(H17=0,\"\",'4 ציוד כללי'!L15)","v":""},{"$f":"'4 ציוד כללי'!M15","v":0}]
[{"$f":"'4 ציוד כללי'!C16","v":"מערכת שמע כיתתית"},{"$f":"'4 ציוד כללי'!F16","v":0},{"$f":"'4 ציוד כללי'!G16","v":0},null,{"$f":"'4 ציוד כללי'!J16","v":0},{"$f":"'4 ציוד כללי'!K16","v":0},{"$f":"IF(H18=0,\"\",'4 ציוד כללי'!L16)","v":""},{"$f":"'4 ציוד כללי'!M16","v":0}]
[{"$f":"'4 ציוד כללי'!C17","v":"מערכת FM אישית (לפעוטות עם שתל כולל LOOP השראתי)"},{"$f":"'4 ציוד כללי'!F17","v":0},{"$f":"'4 ציוד כללי'!G17","v":0},null,{"$f":"'4 ציוד כללי'!J17","v":0},{"$f":"'4 ציוד כללי'!K17","v":0},{"$f":"IF(H19=0,\"\",'4 ציוד כללי'!L17)","v":""},{"$f":"'4 ציוד כללי'!M17","v":0}]
[{"$f":"'4 ציוד כללי'!C18","v":"ציוד הכוונה והתמצאות ללקויי ראייה -סכום גלובלי"},{"$f":"'4 ציוד כללי'!F18","v":0},{"$f":"'4 ציוד כללי'!G18","v":0},null,{"$f":"'4 ציוד כללי'!J18","v":0},{"$f":"'4 ציוד כללי'!K18","v":0},{"$f":"IF(H20=0,\"\",'4 ציוד כללי'!L18)","v":""},{"$f":"'4 ציוד כללי'!M18","v":0}]
[{"$f":"'4 ציוד כללי'!C19","v":"ציוד עם דגש תחושתי - סכום גלובלי"},{"$f":"'4 ציוד כללי'!F19","v":0},{"$f":"'4 ציוד כללי'!G19","v":0},null,{"$f":"'4 ציוד כללי'!J19","v":0},{"$f":"'4 ציוד כללי'!K19","v":0},{"$f":"IF(H21=0,\"\",'4 ציוד כללי'!L19)","v":""},{"$f":"'4 ציוד כללי'!M19","v":0}]
[{"$f":"'4 ציוד כללי'!C20","v":"סכום מקסימלי - שתי כיתות מעון"},{"$f":"'4 ציוד כללי'!F20","v":0},{"$f":"'4 ציוד כללי'!G20","v":0},null,{"$f":"'4 ציוד כללי'!J20","v":0},{"$f":"'4 ציוד כללי'!K20","v":0},{"$f":"IF(H22=0,\"\",'4 ציוד כללי'!L20)","v":""},{"$f":"'4 ציוד כללי'!M20","v":0}]
[{"$f":"'4 ציוד כללי'!C21","v":"סכום מקסימלי - 4 כיתות מעון "},{"$f":"'4 ציוד כללי'!F21","v":0},{"$f":"'4 ציוד כללי'!G21","v":0},null,{"$f":"'4 ציוד כללי'!J21","v":0},{"$f":"'4 ציוד כללי'!K21","v":0},{"$f":"IF(H23=0,\"\",'4 ציוד כללי'!L21)","v":""},{"$f":"'4 ציוד כללי'!M21","v":0}]
[{"$f":"'4 ציוד כללי'!B22","v":"סה\"כ ציוד כללי (כולל מע\"מ)"},null,{"$f":"SUM(C9:C23)","v":0},null,{"$f":"A24","v":"סה\"כ ציוד כללי (כולל מע\"מ)"},null,null,{"$f":"SUM(H9:H23)","v":0}]
[{"$f":"'2 תוכן עניינים'!C16","v":"ציוד כיתות"},null,null,null,{"$f":"A25","v":"ציוד כיתות"}]
[{"$f":"'5 ציוד כיתות'!C7","v":"מזרונים אישיים / מיטות"},{"$f":"'5 ציוד כיתות'!F7","v":0},{"$f":"'5 ציוד כיתות'!G7","v":0},null,{"$f":"'5 ציוד כיתות'!J7","v":0},{"$f":"'5 ציוד כיתות'!K7","v":0},{"$f":"IF(H26=0,\"\",'4 ציוד כללי'!L24)","v":""},{"$f":"'5 ציוד כיתות'!M7","v":0}]
[{"$f":"'5 ציוד כיתות'!C8","v":"מתקן לאחסון מזרונים/מיטות"},{"$f":"'5 ציוד כיתות'!F8","v":0},{"$f":"'5 ציוד כיתות'!G8","v":0},null,{"$f":"'5 ציוד כיתות'!J8","v":0},{"$f":"'5 ציוד כיתות'!K8","v":0},{"$f":"IF(H27=0,\"\",'4 ציוד כללי'!L25)","v":""},{"$f":"'5 ציוד כיתות'!M8","v":0}]
[{"$f":"'5 ציוד כיתות'!C9","v":"כסאות גן עם ידיות"},{"$f":"'5 ציוד כיתות'!F9","v":0},{"$f":"'5 ציוד כיתות'!G9","v":0},null,{"$f":"'5 ציוד כיתות'!J9","v":0},{"$f":"'5 ציוד כיתות'!K9","v":0},{"$f":"IF(H28=0,\"\",'4 ציוד כללי'!L26)","v":""},{"$f":"'5 ציוד כיתות'!M9","v":0}]
[{"$f":"'5 ציוד כיתות'!C10","v":"כסאות עם רמות תמיכה שונות, יכולת כוונון והתאמה"},{"$f":"'5 ציוד כיתות'!F10","v":0},{"$f":"'5 ציוד כיתות'!G10","v":0},null,{"$f":"'5 ציוד כיתות'!J10","v":0},{"$f":"'5 ציוד כיתות'!K10","v":0},{"$f":"IF(H29=0,\"\",'4 ציוד כללי'!L27)","v":""},{"$f":"'5 ציוד כיתות'!M10","v":0}]
[{"$f":"'5 ציוד כיתות'!C11","v":"כיסא מותאם - מושב אינסרט, תמיכות, ניתן כוונון והתאמה, לילדים עם לקות מוטורית מורכבת."},{"$f":"'5 ציוד כיתות'!F11","v":0},{"$f":"'5 ציוד כיתות'!G11","v":0},null,{"$f":"'5 ציוד כיתות'!J11","v":0},{"$f":"'5 ציוד כיתות'!K11","v":0},{"$f":"IF(H30=0,\"\",'4 ציוד כללי'!L28)","v":""},{"$f":"'5 ציוד כיתות'!M11","v":0}]
[{"$f":"'5 ציוד כיתות'!C12","v":"כסא מטפל"},{"$f":"'5 ציוד כיתות'!F12","v":0},{"$f":"'5 ציוד כיתות'!G12","v":0},null,{"$f":"'5 ציוד כיתות'!J12","v":0},{"$f":"'5 ציוד כיתות'!K12","v":0},{"$f":"IF(H31=0,\"\",'4 ציוד כללי'!L29)","v":""},{"$f":"'5 ציוד כיתות'!M12","v":0}]
[{"$f":"'5 ציוד כיתות'!C13","v":"שולחנות עץ בגבהים שונים"},{"$f":"'5 ציוד כיתות'!F13","v":0},{"$f":"'5 ציוד כיתות'!G13","v":0},null,{"$f":"'5 ציוד כיתות'!J13","v":0},{"$f":"'5 ציוד כיתות'!K13","v":0},{"$f":"IF(H32=0,\"\",'4 ציוד כללי'!L30)","v":""},{"$f":"'5 ציוד כיתות'!M13","v":0}]
[{"$f":"'5 ציוד כיתות'!C14","v":"ארון אחסון"},{"$f":"'5 ציוד כיתות'!F14","v":0},{"$f":"'5 ציוד כיתות'!G14","v":0},null,{"$f":"'5 ציוד כיתות'!J14","v":0},{"$f":"'5 ציוד כיתות'!K14","v":0},{"$f":"IF(H33=0,\"\",'4 ציוד כללי'!L31)","v":""},{"$f":"'5 ציוד כיתות'!M14","v":0}]
[{"$f":"'5 ציוד כיתות'!C15","v":"מסך טלוויזיה עם חיבור למחשב"},{"$f":"'5 ציוד כיתות'!F15","v":0},{"$f":"'5 ציוד כיתות'!G15","v":0},null,{"$f":"'5 ציוד כיתות'!J15","v":0},{"$f":"'5 ציוד כיתות'!K15","v":0},{"$f":"IF(H34=0,\"\",'4 ציוד כללי'!L32)","v":""},{"$f":"'5 ציוד כיתות'!M15","v":0}]
[{"$f":"'5 ציוד כיתות'!C16","v":"שטיח PVC"},{"$f":"'5 ציוד כיתות'!F16","v":0},{"$f":"'5 ציוד כיתות'!G16","v":0},null,{"$f":"'5 ציוד כיתות'!J16","v":0},{"$f":"'5 ציוד כיתות'!K16","v":0},{"$f":"IF(H35=0,\"\",'4 ציוד כללי'!L33)","v":""},{"$f":"'5 ציוד כיתות'!M16","v":0}]
[{"$f":"'5 ציוד כיתות'!C17","v":"מראה + וילון"},{"$f":"'5 ציוד כיתות'!F17","v":0},{"$f":"'5 ציוד כיתות'!G17","v":0},null,{"$f":"'5 ציוד כיתות'!J17","v":0},{"$f":"'5 ציוד כיתות'!K17","v":0},{"$f":"IF(H36=0,\"\",'4 ציוד כללי'!L34)","v":""},{"$f":"'5 ציוד כיתות'!M17","v":0}]
[{"$f":"'5 ציוד כיתות'!C18","v":"מדף כפול"},{"$f":"'5 ציוד כיתות'!F18","v":0},{"$f":"'5 ציוד כיתות'!G18","v":0},null,{"$f":"'5 ציוד כיתות'!J18","v":0},{"$f":"'5 ציוד כיתות'!K18","v":0},{"$f":"IF(H37=0,\"\",'4 ציוד כללי'!L35)","v":""},{"$f":"'5 ציוד כיתות'!M18","v":0}]
[{"$f":"'5 ציוד כיתות'!C19","v":"אייפד"},{"$f":"'5 ציוד כיתות'!F19","v":0},{"$f":"'5 ציוד כיתות'!G19","v":0},null,{"$f":"'5 ציוד כיתות'!J19","v":0},{"$f":"'5 ציוד כיתות'!K19","v":0},{"$f":"IF(H38=0,\"\",'4 ציוד כללי'!L36)","v":""},{"$f":"'5 ציוד כיתות'!M19","v":0}]
[{"$f":"'5 ציוד כיתות'!C20","v":"ביג מק"},{"$f":"'5 ציוד כיתות'!F20","v":0},{"$f":"'5 ציוד כיתות'!G20","v":0},null,{"$f":"'5 ציוד כיתות'!J20","v":0},{"$f":"'5 ציוד כיתות'!K20","v":0},{"$f":"IF(H39=0,\"\",'4 ציוד כללי'!L37)","v":""},{"$f":"'5 ציוד כיתות'!M20","v":0}]
[{"$f":"'5 ציוד כיתות'!C21","v":"אפליקציה לשימוש בתת\"ח"},{"$f":"'5 ציוד כיתות'!F21","v":0},{"$f":"'5 ציוד כיתות'!G21","v":0},null,{"$f":"'5 ציוד כיתות'!J21","v":0},{"$f":"'5 ציוד כיתות'!K21","v":0},{"$f":"IF(H40=0,\"\",'4 ציוד כללי'!L38)","v":""},{"$f":"'5 ציוד כיתות'!M21","v":0}]
[{"$f":"'5 ציוד כיתות'!C22","v":"כלי אוכל מותאמים - לכיתה"},{"$f":"'5 ציוד כיתות'!F22","v":0},{"$f":"'5 ציוד כיתות'!G22","v":0},null,{"$f":"'5 ציוד כיתות'!J22","v":0},{"$f":"'5 ציוד כיתות'!K22","v":0},{"$f":"IF(H41=0,\"\",'4 ציוד כללי'!L39)","v":""},{"$f":"'5 ציוד כיתות'!M22","v":0}]
[{"$f":"'5 ציוד כיתות'!C23","v":"הליכונים"},{"$f":"'5 ציוד כיתות'!F23","v":0},{"$f":"'5 ציוד כיתות'!G23","v":0},null,{"$f":"'5 ציוד כיתות'!J23","v":0},{"$f":"'5 ציוד כיתות'!K23","v":0},{"$f":"IF(H42=0,\"\",'4 ציוד כללי'!L40)","v":""},{"$f":"'5 ציוד כיתות'!M23","v":0}]
[{"$f":"'5 ציוד כיתות'!C24","v":"עגלה לעידוד הליכה"},{"$f":"'5 ציוד כיתות'!F24","v":0},{"$f":"'5 ציוד כיתות'!G24","v":0},null,{"$f":"'5 ציוד כיתות'!J24","v":0},{"$f":"'5 ציוד כיתות'!K24","v":0},{"$f":"IF(H43=0,\"\",'4 ציוד כללי'!L41)","v":""},{"$f":"'5 ציוד כיתות'!M24","v":0}]
[{"$f":"'5 ציוד כיתות'!C25","v":"עמידון"},{"$f":"'5 ציוד כיתות'!F25","v":0},{"$f":"'5 ציוד כיתות'!G25","v":0},null,{"$f":"'5 ציוד כיתות'!J25","v":0},{"$f":"'5 ציוד כיתות'!K25","v":0},{"$f":"IF(H44=0,\"\",'4 ציוד כללי'!L42)","v":""},{"$f":"'5 ציוד כיתות'!M25","v":0}]
[{"$f":"'5 ציוד כיתות'!C26","v":"מושגי יסוד, תמונות מצולמות, תחפושות, משחקי תפקידים, גרייה, הרכבהה, פזלים, ספרים, פינת מטבח, פינת רופא וכד' - סכום גלובלי"},{"$f":"'5 ציוד כיתות'!F26","v":0},{"$f":"'5 ציוד כיתות'!G26","v":0},null,{"$f":"'5 ציוד כיתות'!J26","v":0},{"$f":"'5 ציוד כיתות'!K26","v":0},{"$f":"IF(H45=0,\"\",'4 ציוד כללי'!L43)","v":""},{"$f":"'5 ציוד כיתות'!M26","v":0}]
[{"$f":"'5 ציוד כיתות'!C27","v":"התאמה אקוסטית "},{"$f":"'5 ציוד כיתות'!F27","v":0},{"$f":"'5 ציוד כיתות'!G27","v":0},null,{"$f":"'5 ציוד כיתות'!J27","v":0},{"$f":"'5 ציוד כיתות'!K27","v":0},{"$f":"IF(H46=0,\"\",'4 ציוד כללי'!L44)","v":""},{"$f":"'5 ציוד כיתות'!M27","v":0}]
[{"$f":"'5 ציוד כיתות'!B28","v":"סה\"כ ציוד כיתות (כולל מע\"מ)"},null,{"$f":"SUM(C26:C46)","v":0},null,{"$f":"A47","v":"סה\"כ ציוד כיתות (כולל מע\"מ)"},null,null,{"$f":"SUM(H26:H46)","v":0}]
[{"$f":"'2 תוכן עניינים'!C17","v":"פיזיותרפיה"},null,null,null,{"$f":"A48","v":"פיזיותרפיה"}]
[{"$f":"'6 פיזיותרפיה'!C7","v":"מזרונים טיפוליים"},{"$f":"'6 פיזיותרפיה'!F7","v":0},{"$f":"'6 פיזיותרפיה'!G7","v":0},null,{"$f":"'6 פיזיותרפיה'!J7","v":0},{"$f":"'6 פיזיותרפיה'!K7","v":0},{"$f":"IF(H49=0,\"\",'4 ציוד כללי'!L47)","v":""},{"$f":"'6 פיזיותרפיה'!M7","v":0}]
[{"$f":"'6 פיזיותרפיה'!C8","v":"נקודות תליה לתקרה כולל התקנה"},{"$f":"'6 פיזיותרפיה'!F8","v":0},{"$f":"'6 פיזיותרפיה'!G8","v":0},null,{"$f":"'6 פיזיותרפיה'!J8","v":0},{"$f":"'6 פיזיותרפיה'!K8","v":0},{"$f":"IF(H50=0,\"\",'4 ציוד כללי'!L48)","v":""},{"$f":"'6 פיזיותרפיה'!M8","v":0}]
[{"$f":"'6 פיזיותרפיה'!C9","v":"סולם שבדי כולל התקנה"},{"$f":"'6 פיזיותרפיה'!F9","v":0},{"$f":"'6 פיזיותרפיה'!G9","v":0},null,{"$f":"'6 פיזיותרפיה'!J9","v":0},{"$f":"'6 פיזיותרפיה'!K9","v":0},{"$f":"IF(H51=0,\"\",'4 ציוד כללי'!L49)","v":""},{"$f":"'6 פיזיותרפיה'!M9","v":0}]
[{"$f":"'6 פיזיותרפיה'!C10","v":"מדף תליה כולל התקנה"},{"$f":"'6 פיזיותרפיה'!F10","v":0},{"$f":"'6 פיזיותרפיה'!G10","v":0},null,{"$f":"'6 פיזיותרפיה'!J10","v":0},{"$f":"'6 פיזיותרפיה'!K10","v":0},{"$f":"IF(H52=0,\"\",'4 ציוד כללי'!L50)","v":""},{"$f":"'6 פיזיותרפיה'!M10","v":0}]
[{"$f":"'6 פיזיותרפיה'!C11","v":"מראה ניידת + וילון או כיסוי"},{"$f":"'6 פיזיותרפיה'!F11","v":0},{"$f":"'6 פיזיותרפיה'!G11","v":0},null,{"$f":"'6 פיזיותרפיה'!J11","v":0},{"$f":"'6 פיזיותרפיה'!K11","v":0},{"$f":"IF(H53=0,\"\",'4 ציוד כללי'!L51)","v":""},{"$f":"'6 פיזיותרפיה'!M11","v":0}]
[{"$f":"'6 פיזיותרפיה'!C12","v":"הליכון אחורי עם תמיכות"},{"$f":"'6 פיזיותרפיה'!F12","v":0},{"$f":"'6 פיזיותרפיה'!G12","v":0},null,{"$f":"'6 פיזיותרפיה'!J12","v":0},{"$f":"'6 פיזיותרפיה'!K12","v":0},{"$f":"IF(H54=0,\"\",'4 ציוד כללי'!L52)","v":""},{"$f":"'6 פיזיותרפיה'!M12","v":0}]
[{"$f":"'6 פיזיותרפיה'!C13","v":"חבית טיפולית"},{"$f":"'6 פיזיותרפיה'!F13","v":0},{"$f":"'6 פיזיותרפיה'!G13","v":0},null,{"$f":"'6 פיזיותרפיה'!J13","v":0},{"$f":"'6 פיזיותרפיה'!K13","v":0},{"$f":"IF(H55=0,\"\",'4 ציוד כללי'!L53)","v":""},{"$f":"'6 פיזיותרפיה'!M13","v":0}]
[{"$f":"'6 פיזיותרפיה'!C14","v":"כדורי פיזיו"},{"$f":"'6 פיזיותרפיה'!F14","v":0},{"$f":"'6 פיזיותרפיה'!G14","v":0},null,{"$f":"'6 פיזיותרפיה'!J14","v":0},{"$f":"'6 פיזיותרפיה'!K14","v":0},{"$f":"IF(H56=0,\"\",'4 ציוד כללי'!L54)","v":""},{"$f":"'6 פיזיותרפיה'!M14","v":0}]
[{"$f":"'6 פיזיותרפיה'!C15","v":"גליל"},{"$f":"'6 פיזיותרפיה'!F15","v":0},{"$f":"'6 פיזיותרפיה'!G15","v":0},null,{"$f":"'6 פיזיותרפיה'!J15","v":0},{"$f":"'6 פיזיותרפיה'!K15","v":0},{"$f":"IF(H57=0,\"\",'4 ציוד כללי'!L55)","v":""},{"$f":"'6 פיזיותרפיה'!M15","v":0}]
[{"$f":"'6 פיזיותרפיה'!C16","v":"כדורים, חישוקים, שקיות תחושה, מטפחות וכיו\"ב -סכום גלובלי"},{"$f":"'6 פיזיותרפיה'!F16","v":0},{"$f":"'6 פיזיותרפיה'!G16","v":0},null,{"$f":"'6 פיזיותרפיה'!J16","v":0},{"$f":"'6 פיזיותרפיה'!K16","v":0},{"$f":"IF(H58=0,\"\",'4 ציוד כללי'!L56)","v":""},{"$f":"'6 פיזיותרפיה'!M16","v":0}]
[{"$f":"'6 פיזיותרפיה'!C17","v":"סט 5 שרפרפים"},{"$f":"'6 פיזיותרפיה'!F17","v":0},{"$f":"'6 פיזיותרפיה'!G17","v":0},null,{"$f":"'6 פיזיותרפיה'!J17","v":0},{"$f":"'6 פיזיותרפיה'!K17","v":0},{"$f":"IF(H59=0,\"\",'4 ציוד כללי'!L57)","v":""},{"$f":"'6 פיזיותרפיה'!M17","v":0}]
[{"$f":"'6 פיזיותרפיה'!C18","v":"לוחות שיווי משקל (2)/ ערכת שיווי משקל"},{"$f":"'6 פיזיותרפיה'!F18","v":0},{"$f":"'6 פיזיותרפיה'!G18","v":0},null,{"$f":"'6 פיזיותרפיה'!J18","v":0},{"$f":"'6 פיזיותרפיה'!K18","v":0},{"$f":"IF(H60=0,\"\",'4 ציוד כללי'!L58)","v":""},{"$f":"'6 פיזיותרפיה'!M18","v":0}]
[{"$f":"'6 פיזיותרפיה'!C19","v":"מנהרה קפיצית מתקפלת קפיץ חבוי"},{"$f":"'6 פיזיותרפיה'!F19","v":0},{"$f":"'6 פיזיותרפיה'!G19","v":0},null,{"$f":"'6 פיזיותרפיה'!J19","v":0},{"$f":"'6 פיזיותרפיה'!K19","v":0},{"$f":"IF(H61=0,\"\",'4 ציוד כללי'!L59)","v":""},{"$f":"'6 פיזיותרפיה'!M19","v":0}]
[{"$f":"'6 פיזיותרפיה'!C20","v":"נדנדנת בולסטר"},{"$f":"'6 פיזיותרפיה'!F20","v":0},{"$f":"'6 פיזיותרפיה'!G20","v":0},null,{"$f":"'6 פיזיותרפיה'!J20","v":0},{"$f":"'6 פיזיותרפיה'!K20","v":0},{"$f":"IF(H62=0,\"\",'4 ציוד כללי'!L60)","v":""},{"$f":"'6 פיזיותרפיה'!M20","v":0}]
[{"$f":"'6 פיזיותרפיה'!C21","v":"מדרגות + שיפוע"},{"$f":"'6 פיזיותרפיה'!F21","v":0},{"$f":"'6 פיזיותרפיה'!G21","v":0},null,{"$f":"'6 פיזיותרפיה'!J21","v":0},{"$f":"'6 פיזיותרפיה'!K21","v":0},{"$f":"IF(H63=0,\"\",'4 ציוד כללי'!L61)","v":""},{"$f":"'6 פיזיותרפיה'!M21","v":0}]
[{"$f":"'6 פיזיותרפיה'!C22","v":"עמידון"},{"$f":"'6 פיזיותרפיה'!F22","v":0},{"$f":"'6 פיזיותרפיה'!G22","v":0},null,{"$f":"'6 פיזיותרפיה'!J22","v":0},{"$f":"'6 פיזיותרפיה'!K22","v":0},{"$f":"IF(H64=0,\"\",'4 ציוד כללי'!L62)","v":""},{"$f":"'6 פיזיותרפיה'!M22","v":0}]
[{"$f":"'6 פיזיותרפיה'!C23","v":"צלחת וסטיבולרית"},{"$f":"'6 פיזיותרפיה'!F23","v":0},{"$f":"'6 פיזיותרפיה'!G23","v":0},null,{"$f":"'6 פיזיותרפיה'!J23","v":0},{"$f":"'6 פיזיותרפיה'!K23","v":0},{"$f":"IF(H65=0,\"\",'4 ציוד כללי'!L63)","v":""},{"$f":"'6 פיזיותרפיה'!M23","v":0}]
[{"$f":"'6 פיזיותרפיה'!C24","v":"תלת אופן"},{"$f":"'6 פיזיותרפיה'!F24","v":0},{"$f":"'6 פיזיותרפיה'!G24","v":0},null,{"$f":"'6 פיזיותרפיה'!J24","v":0},{"$f":"'6 פיזיותרפיה'!K24","v":0},{"$f":"IF(H66=0,\"\",'4 ציוד כללי'!L64)","v":""},{"$f":"'6 פיזיותרפיה'!M24","v":0}]
[{"$f":"'6 פיזיותרפיה'!C25","v":"משחקי גרייה שונים "},{"$f":"'6 פיזיותרפיה'!F25","v":0},{"$f":"'6 פיזיותרפיה'!G25","v":0},null,{"$f":"'6 פיזיותרפיה'!J25","v":0},{"$f":"'6 פיזיותרפיה'!K25","v":0},{"$f":"IF(H67=0,\"\",'4 ציוד כללי'!L65)","v":""},{"$f":"'6 פיזיותרפיה'!M25","v":0}]
[{"$f":"'6 פיזיותרפיה'!B26","v":"סה\"כ ציוד פיזיותרפיה (כולל מע\"מ)"},null,{"$f":"SUM(C49:C67)","v":0},null,{"$f":"A68","v":"סה\"כ ציוד פיזיותרפיה (כולל מע\"מ)"},null,null,{"$f":"SUM(H49:H67)","v":0}]
[{"$f":"'2 תוכן עניינים'!C18","v":"ריפוי בעיסוק"},null,null,null,{"$f":"A69","v":"ריפוי בעיסוק"}]
[{"$f":"'7 ריפוי בעיסוק'!C7","v":"מזרונים טיפוליים"},{"$f":"'7 ריפוי בעיסוק'!F7","v":0},{"$f":"'7 ריפוי בעיסוק'!G7","v":0},null,{"$f":"'7 ריפוי בעיסוק'!J7","v":0},{"$f":"'7 ריפוי בעיסוק'!K7","v":0},{"$f":"IF(H70=0,\"\",'4 ציוד כללי'!L68)","v":""},{"$f":"'7 ריפוי בעיסוק'!M7","v":0}]
[{"$f":"'7 ריפוי בעיסוק'!C8","v":"כסא מתכוונן"},{"$f":"'7 ריפוי בעיסוק'!F8","v":0},{"$f":"'7 ריפוי בעיסוק'!G8","v":0},null,{"$f":"'7 ריפוי בעיסוק'!J8","v":0},{"$f":"'7 ריפוי בעיסוק'!K8","v":0},{"$f":"IF(H71=0,\"\",'4 ציוד כללי'!L69)","v":""},{"$f":"'7 ריפוי בעיסוק'!M8","v":0}]
[{"$f":"'7 ריפוי בעיסוק'!C9","v":"שולחן מתכוונן "},{"$f":"'7 ריפוי בעיסוק'!F9","v":0},{"$f":"'7 ריפוי בעיסוק'!G9","v":0},null,{"$f":"'7 ריפוי בעיסוק'!J9","v":0},{"$f":"'7 ריפוי בעיסוק'!K9","v":0},{"$f":"IF(H72=0,\"\",'4 ציוד כללי'!L70)","v":""},{"$f":"'7 ריפוי בעיסוק'!M9","v":0}]
[{"$f":"'7 ריפוי בעיסוק'!C10","v":"נקודת תליה כולל התקנה"},{"$f":"'7 ריפוי בעיסוק'!F10","v":0},{"$f":"'7 ריפוי בעיסוק'!G10","v":0},null,{"$f":"'7 ריפוי בעיסוק'!J10","v":0},{"$f":"'7 ריפוי בעיסוק'!K10","v":0},{"$f":"IF(H73=0,\"\",'4 ציוד כללי'!L71)","v":""},{"$f":"'7 ריפוי בעיסוק'!M10","v":0}]
[{"$f":"'7 ריפוי בעיסוק'!C11","v":"נדנת גליידר"},{"$f":"'7 ריפוי בעיסוק'!F11","v":0},{"$f":"'7 ריפוי בעיסוק'!G11","v":0},null,{"$f":"'7 ריפוי בעיסוק'!J11","v":0},{"$f":"'7 ריפוי בעיסוק'!K11","v":0},{"$f":"IF(H74=0,\"\",'4 ציוד כללי'!L72)","v":""},{"$f":"'7 ריפוי בעיסוק'!M11","v":0}]
[{"$f":"'7 ריפוי בעיסוק'!C12","v":"סקוטר"},{"$f":"'7 ריפוי בעיסוק'!F12","v":0},{"$f":"'7 ריפוי בעיסוק'!G12","v":0},null,{"$f":"'7 ריפוי בעיסוק'!J12","v":0},{"$f":"'7 ריפוי בעיסוק'!K12","v":0},{"$f":"IF(H75=0,\"\",'4 ציוד כללי'!L73)","v":""},{"$f":"'7 ריפוי בעיסוק'!M12","v":0}]
[{"$f":"'7 ריפוי בעיסוק'!C13","v":"חבית טיפולית"},{"$f":"'7 ריפוי בעיסוק'!F13","v":0},{"$f":"'7 ריפוי בעיסוק'!G13","v":0},null,{"$f":"'7 ריפוי בעיסוק'!J13","v":0},{"$f":"'7 ריפוי בעיסוק'!K13","v":0},{"$f":"IF(H76=0,\"\",'4 ציוד כללי'!L74)","v":""},{"$f":"'7 ריפוי בעיסוק'!M13","v":0}]
[{"$f":"'7 ריפוי בעיסוק'!C14","v":"סט חמישה ספסלים"},{"$f":"'7 ריפוי בעיסוק'!F14","v":0},{"$f":"'7 ריפוי בעיסוק'!G14","v":0},null,{"$f":"'7 ריפוי בעיסוק'!J14","v":0},{"$f":"'7 ריפוי בעיסוק'!K14","v":0},{"$f":"IF(H77=0,\"\",'4 ציוד כללי'!L75)","v":""},{"$f":"'7 ריפוי בעיסוק'!M14","v":0}]
[{"$f":"'7 ריפוי בעיסוק'!C15","v":"קפצית"},{"$f":"'7 ריפוי בעיסוק'!F15","v":0},{"$f":"'7 ריפוי בעיסוק'!G15","v":0},null,{"$f":"'7 ריפוי בעיסוק'!J15","v":0},{"$f":"'7 ריפוי בעיסוק'!K15","v":0},{"$f":"IF(H78=0,\"\",'4 ציוד כללי'!L76)","v":""},{"$f":"'7 ריפוי בעיסוק'!M15","v":0}]
[{"$f":"'7 ריפוי בעיסוק'!C16","v":"ערסל בד טיפולי"},{"$f":"'7 ריפוי בעיסוק'!F16","v":0},{"$f":"'7 ריפוי בעיסוק'!G16","v":0},null,{"$f":"'7 ריפוי בעיסוק'!J16","v":0},{"$f":"'7 ריפוי בעיסוק'!K16","v":0},{"$f":"IF(H79=0,\"\",'4 ציוד כללי'!L77)","v":""},{"$f":"'7 ריפוי בעיסוק'!M16","v":0}]
[{"$f":"'7 ריפוי בעיסוק'!C17","v":"משחקי תפקיד כולל בית בובות ואביזרים- סכום גלובלי "},{"$f":"'7 ריפוי בעיסוק'!F17","v":0},{"$f":"'7 ריפוי בעיסוק'!G17","v":0},null,{"$f":"'7 ריפוי בעיסוק'!J17","v":0},{"$f":"'7 ריפוי בעיסוק'!K17","v":0},{"$f":"IF(H80=0,\"\",'4 ציוד כללי'!L78)","v":""},{"$f":"'7 ריפוי בעיסוק'!M17","v":0}]
[{"$f":"'7 ריפוי בעיסוק'!C18","v":"ספרים ותקליטורים שונים- סכום גלובלי "},{"$f":"'7 ריפוי בעיסוק'!F18","v":0},{"$f":"'7 ריפוי בעיסוק'!G18","v":0},null,{"$f":"'7 ריפוי בעיסוק'!J18","v":0},{"$f":"'7 ריפוי בעיסוק'!K18","v":0},{"$f":"IF(H81=0,\"\",'4 ציוד כללי'!L79)","v":""},{"$f":"'7 ריפוי בעיסוק'!M18","v":0}]
[{"$f":"'7 ריפוי בעיסוק'!C19","v":"מחשב כולל מדפסת, עזרים ותוכנות"},{"$f":"'7 ריפוי בעיסוק'!F19","v":0},{"$f":"'7 ריפוי בעיסוק'!G19","v":0},null,{"$f":"'7 ריפוי בעיסוק'!J19","v":0},{"$f":"'7 ריפוי בעיסוק'!K19","v":0},{"$f":"IF(H82=0,\"\",'4 ציוד כללי'!L80)","v":""},{"$f":"'7 ריפוי בעיסוק'!M19","v":0}]
[{"$f":"'7 ריפוי בעיסוק'!C20","v":"אייפד"},{"$f":"'7 ריפוי בעיסוק'!F20","v":0},{"$f":"'7 ריפוי בעיסוק'!G20","v":0},null,{"$f":"'7 ריפוי בעיסוק'!J20","v":0},{"$f":"'7 ריפוי בעיסוק'!K20","v":0},{"$f":"IF(H83=0,\"\",'4 ציוד כללי'!L81)","v":""},{"$f":"'7 ריפוי בעיסוק'!M20","v":0}]
[{"$f":"'7 ריפוי בעיסוק'!C21","v":"תכנת תקשורת"},{"$f":"'7 ריפוי בעיסוק'!F21","v":0},{"$f":"'7 ריפוי בעיסוק'!G21","v":0},null,{"$f":"'7 ריפוי בעיסוק'!J21","v":0},{"$f":"'7 ריפוי בעיסוק'!K21","v":0},{"$f":"IF(H84=0,\"\",'4 ציוד כללי'!L82)","v":""},{"$f":"'7 ריפוי בעיסוק'!M21","v":0}]
[{"$f":"'7 ריפוי בעיסוק'!C22","v":"מתגים - סכום גלובלי"},{"$f":"'7 ריפוי בעיסוק'!F22","v":0},{"$f":"'7 ריפוי בעיסוק'!G22","v":0},null,{"$f":"'7 ריפוי בעיסוק'!J22","v":0},{"$f":"'7 ריפוי בעיסוק'!K22","v":0},{"$f":"IF(H85=0,\"\",'4 ציוד כללי'!L83)","v":""},{"$f":"'7 ריפוי בעיסוק'!M22","v":0}]
[{"$f":"'7 ריפוי בעיסוק'!C23","v":"משחקי גרייה שונים - סכום גלובלי"},{"$f":"'7 ריפוי בעיסוק'!F23","v":0},{"$f":"'7 ריפוי בעיסוק'!G23","v":0},null,{"$f":"'7 ריפוי בעיסוק'!J23","v":0},{"$f":"'7 ריפוי בעיסוק'!K23","v":0},{"$f":"IF(H86=0,\"\",'4 ציוד כללי'!L84)","v":""},{"$f":"'7 ריפוי בעיסוק'!M23","v":0}]
[{"$f":"'7 ריפוי בעיסוק'!C24","v":"שמיכה / אפודת תחושה"},{"$f":"'7 ריפוי בעיסוק'!F24","v":0},{"$f":"'7 ריפוי בעיסוק'!G24","v":0},null,{"$f":"'7 ריפוי בעיסוק'!J24","v":0},{"$f":"'7 ריפוי בעיסוק'!K24","v":0},{"$f":"IF(H87=0,\"\",'4 ציוד כללי'!L85)","v":""},{"$f":"'7 ריפוי בעיסוק'!M24","v":0}]
[{"$f":"'7 ריפוי בעיסוק'!C25","v":"משחקי מרחב, בנייה והרכבה - סכום גלובלי"},{"$f":"'7 ריפוי בעיסוק'!F25","v":0},{"$f":"'7 ריפוי בעיסוק'!G25","v":0},null,{"$f":"'7 ריפוי בעיסוק'!J25","v":0},{"$f":"'7 ריפוי בעיסוק'!K25","v":0},{"$f":"IF(H88=0,\"\",'4 ציוד כללי'!L86)","v":""},{"$f":"'7 ריפוי בעיסוק'!M25","v":0}]
[{"$f":"'7 ריפוי בעיסוק'!C26","v":"משחקי שפה ומושגי יסוד - סכום גלובלי"},{"$f":"'7 ריפוי בעיסוק'!F26","v":0},{"$f":"'7 ריפוי בעיסוק'!G26","v":0},null,{"$f":"'7 ריפוי בעיסוק'!J26","v":0},{"$f":"'7 ריפוי בעיסוק'!K26","v":0},{"$f":"IF(H89=0,\"\",'4 ציוד כללי'!L87)","v":""},{"$f":"'7 ריפוי בעיסוק'!M26","v":0}]
[{"$f":"'7 ריפוי בעיסוק'!C27","v":"פאזלים ומשחקי מרחב - סכום גלובלי"},{"$f":"'7 ריפוי בעיסוק'!F27","v":0},{"$f":"'7 ריפוי בעיסוק'!G27","v":0},null,{"$f":"'7 ריפוי בעיסוק'!J27","v":0},{"$f":"'7 ריפוי בעיסוק'!K27","v":0},{"$f":"IF(H90=0,\"\",'4 ציוד כללי'!L88)","v":""},{"$f":"'7 ריפוי בעיסוק'!M27","v":0}]
[{"$f":"'7 ריפוי בעיסוק'!B28","v":"סה\"כ ציוד ריפוי בעיסוק (כולל מע\"מ)"},null,{"$f":"SUM(C70:C90)","v":0},null,{"$f":"A91","v":"סה\"כ ציוד ריפוי בעיסוק (כולל מע\"מ)"},null,null,{"$f":"SUM(H70:H90)","v":0}]
[{"$f":"'2 תוכן עניינים'!C19","v":"קלינאית תקשורת"},null,null,null,{"$f":"A92","v":"קלינאית תקשורת"}]
[{"$f":"'8 קלינאית תקשורת'!C7","v":"אייפד - כולל כיסוי קשיח"},{"$f":"'8 קלינאית תקשורת'!F7","v":0},{"$f":"'8 קלינאית תקשורת'!G7","v":0},null,{"$f":"'8 קלינאית תקשורת'!J7","v":0},{"$f":"'8 קלינאית תקשורת'!K7","v":0},{"$f":"IF(H93=0,\"\",'4 ציוד כללי'!L91)","v":""},{"$f":"'8 קלינאית תקשורת'!M7","v":0}]
[{"$f":"'8 קלינאית תקשורת'!C8","v":"אפליקצית תקשרות"},{"$f":"'8 קלינאית תקשורת'!F8","v":0},{"$f":"'8 קלינאית תקשורת'!G8","v":0},null,{"$f":"'8 קלינאית תקשורת'!J8","v":0},{"$f":"'8 קלינאית תקשורת'!K8","v":0},{"$f":"IF(H94=0,\"\",'4 ציוד כללי'!L92)","v":""},{"$f":"'8 קלינאית תקשורת'!M8","v":0}]
[{"$f":"'8 קלינאית תקשורת'!C9","v":"תוכנת גריד 3 מלאה"},{"$f":"'8 קלינאית תקשורת'!F9","v":0},{"$f":"'8 קלינאית תקשורת'!G9","v":0},null,{"$f":"'8 קלינאית תקשורת'!J9","v":0},{"$f":"'8 קלינאית תקשורת'!K9","v":0},{"$f":"IF(H95=0,\"\",'4 ציוד כללי'!L93)","v":""},{"$f":"'8 קלינאית תקשורת'!M9","v":0}]
[{"$f":"'8 קלינאית תקשורת'!C10","v":"כלי מוסיקה שונים"},{"$f":"'8 קלינאית תקשורת'!F10","v":0},{"$f":"'8 קלינאית תקשורת'!G10","v":0},null,{"$f":"'8 קלינאית תקשורת'!J10","v":0},{"$f":"'8 קלינאית תקשורת'!K10","v":0},{"$f":"IF(H96=0,\"\",'4 ציוד כללי'!L94)","v":""},{"$f":"'8 קלינאית תקשורת'!M10","v":0}]
[{"$f":"'8 קלינאית תקשורת'!C11","v":"כרטיסיות"},{"$f":"'8 קלינאית תקשורת'!F11","v":0},{"$f":"'8 קלינאית תקשורת'!G11","v":0},null,{"$f":"'8 קלינאית תקשורת'!J11","v":0},{"$f":"'8 קלינאית תקשורת'!K11","v":0},{"$f":"IF(H97=0,\"\",'4 ציוד כללי'!L95)","v":""},{"$f":"'8 קלינאית תקשורת'!M11","v":0}]
[{"$f":"'8 קלינאית תקשורת'!C12","v":"משחקי מושגי יסוד, קטגוריות והעשרה"},{"$f":"'8 קלינאית תקשורת'!F12","v":0},{"$f":"'8 קלינאית תקשורת'!G12","v":0},null,{"$f":"'8 קלינאית תקשורת'!J12","v":0},{"$f":"'8 קלינאית תקשורת'!K12","v":0},{"$f":"IF(H98=0,\"\",'4 ציוד כללי'!L96)","v":""},{"$f":"'8 קלינאית תקשורת'!M12","v":0}]
[{"$f":"'8 קלינאית תקשורת'!C13","v":"מתגים שונים"},{"$f":"'8 קלינאית תקשורת'!F13","v":0},{"$f":"'8 קלינאית תקשורת'!G13","v":0},null,{"$f":"'8 קלינאית תקשורת'!J13","v":0},{"$f":"'8 קלינאית תקשורת'!K13","v":0},{"$f":"IF(H99=0,\"\",'4 ציוד כללי'!L97)","v":""},{"$f":"'8 קלינאית תקשורת'!M13","v":0}]
[{"$f":"'8 קלינאית תקשורת'!C14","v":"ספרים שונים"},{"$f":"'8 קלינאית תקשורת'!F14","v":0},{"$f":"'8 קלינאית תקשורת'!G14","v":0},null,{"$f":"'8 קלינאית תקשורת'!J14","v":0},{"$f":"'8 קלינאית תקשורת'!K14","v":0},{"$f":"IF(H100=0,\"\",'4 ציוד כללי'!L98)","v":""},{"$f":"'8 קלינאית תקשורת'!M14","v":0}]
[{"$f":"'8 קלינאית תקשורת'!C15","v":"פלט קולי- מסוגים שונים"},{"$f":"'8 קלינאית תקשורת'!F15","v":0},{"$f":"'8 קלינאית תקשורת'!G15","v":0},null,{"$f":"'8 קלינאית תקשורת'!J15","v":0},{"$f":"'8 קלינאית תקשורת'!K15","v":0},{"$f":"IF(H101=0,\"\",'4 ציוד כללי'!L99)","v":""},{"$f":"'8 קלינאית תקשורת'!M15","v":0}]
[{"$f":"'8 קלינאית תקשורת'!C16","v":"ביג מק"},{"$f":"'8 קלינאית תקשורת'!F16","v":0},{"$f":"'8 קלינאית תקשורת'!G16","v":0},null,{"$f":"'8 קלינאית תקשורת'!J16","v":0},{"$f":"'8 קלינאית תקשורת'!K16","v":0},{"$f":"IF(H102=0,\"\",'4 ציוד כללי'!L100)","v":""},{"$f":"'8 קלינאית תקשורת'!M16","v":0}]
[{"$f":"'8 קלינאית תקשורת'!B17","v":"סה\"כ ציוד קלינאית תקשורת (כולל מע\"מ)"},null,{"$f":"SUM(C93:C102)","v":0},null,{"$f":"A103","v":"סה\"כ ציוד קלינאית תקשורת (כולל מע\"מ)"},null,null,{"$f":"SUM(H93:H102)","v":0}]
[{"$f":"'2 תוכן עניינים'!C20","v":"אחות ותזונאית"},null,null,null,{"$f":"A104","v":"אחות ותזונאית"}]
[{"$f":"'9 אחות ותזונאית'!C7","v":"מאוזני משקל  לשקילה בשכיבה עד 20 ק\"ג עם מד אור"},{"$f":"'9 אחות ותזונאית'!F7","v":0},{"$f":"'9 אחות ותזונאית'!G7","v":0},null,{"$f":"'9 אחות ותזונאית'!J7","v":0},{"$f":"'9 אחות ותזונאית'!K7","v":0},{"$f":"IF(H105=0,\"\",'4 ציוד כללי'!L103)","v":""},{"$f":"'9 אחות ותזונאית'!M7","v":0}]
[{"$f":"'9 אחות ותזונאית'!C8","v":"משקל דיגיטלי רגיל ומד גובה רגיל"},{"$f":"'9 אחות ותזונאית'!F8","v":0},{"$f":"'9 אחות ותזונאית'!G8","v":0},null,{"$f":"'9 אחות ותזונאית'!J8","v":0},{"$f":"'9 אחות ותזונאית'!K8","v":0},{"$f":"IF(H106=0,\"\",'4 ציוד כללי'!L104)","v":""},{"$f":"'9 אחות ותזונאית'!M8","v":0}]
[{"$f":"'9 אחות ותזונאית'!C9","v":"משקל דיגיטלי רגיל"},{"$f":"'9 אחות ותזונאית'!F9","v":0},{"$f":"'9 אחות ותזונאית'!G9","v":0},null,{"$f":"'9 אחות ותזונאית'!J9","v":0},{"$f":"'9 אחות ותזונאית'!K9","v":0},{"$f":"IF(H107=0,\"\",'4 ציוד כללי'!L105)","v":""},{"$f":"'9 אחות ותזונאית'!M9","v":0}]
[{"$f":"'9 אחות ותזונאית'!C10","v":"מד גובה לילד מכני"},{"$f":"'9 אחות ותזונאית'!F10","v":0},{"$f":"'9 אחות ותזונאית'!G10","v":0},null,{"$f":"'9 אחות ותזונאית'!J10","v":0},{"$f":"'9 אחות ותזונאית'!K10","v":0},{"$f":"IF(H108=0,\"\",'4 ציוד כללי'!L106)","v":""},{"$f":"'9 אחות ותזונאית'!M10","v":0}]
[{"$f":"'9 אחות ותזונאית'!C11","v":"מד חום דיגיטלי"},{"$f":"'9 אחות ותזונאית'!F11","v":0},{"$f":"'9 אחות ותזונאית'!G11","v":0},null,{"$f":"'9 אחות ותזונאית'!J11","v":0},{"$f":"'9 אחות ותזונאית'!K11","v":0},{"$f":"IF(H109=0,\"\",'4 ציוד כללי'!L107)","v":""},{"$f":"'9 אחות ותזונאית'!M11","v":0}]
[{"$f":"'9 אחות ותזונאית'!C12","v":"מד טמפרטורה לייזר"},{"$f":"'9 אחות ותזונאית'!F12","v":0},{"$f":"'9 אחות ותזונאית'!G12","v":0},null,{"$f":"'9 אחות ותזונאית'!J12","v":0},{"$f":"'9 אחות ותזונאית'!K12","v":0},{"$f":"IF(H110=0,\"\",'4 ציוד כללי'!L108)","v":""},{"$f":"'9 אחות ותזונאית'!M12","v":0}]
[{"$f":"'9 אחות ותזונאית'!C13","v":"מד לחץ דם משולב עם מד טמפרטורה"},{"$f":"'9 אחות ותזונאית'!F13","v":0},{"$f":"'9 אחות ותזונאית'!G13","v":0},null,{"$f":"'9 אחות ותזונאית'!J13","v":0},{"$f":"'9 אחות ותזונאית'!K13","v":0},{"$f":"IF(H111=0,\"\",'4 ציוד כללי'!L109)","v":""},{"$f":"'9 אחות ותזונאית'!M13","v":0}]
[{"$f":"'9 אחות ותזונאית'!C14","v":"מד סטורציה"},{"$f":"'9 אחות ותזונאית'!F14","v":0},{"$f":"'9 אחות ותזונאית'!G14","v":0},null,{"$f":"'9 אחות ותזונאית'!J14","v":0},{"$f":"'9 אחות ותזונאית'!K14","v":0},{"$f":"IF(H112=0,\"\",'4 ציוד כללי'!L110)","v":""},{"$f":"'9 אחות ותזונאית'!M14","v":0}]
[{"$f":"'9 אחות ותזונאית'!C15","v":"כלים, אביזרים, חומרים (גלובלי)"},{"$f":"'9 אחות ותזונאית'!F15","v":0},{"$f":"'9 אחות ותזונאית'!G15","v":0},null,{"$f":"'9 אחות ותזונאית'!J15","v":0},{"$f":"'9 אחות ותזונאית'!K15","v":0},{"$f":"IF(H113=0,\"\",'4 ציוד כללי'!L111)","v":""},{"$f":"'9 אחות ותזונאית'!M15","v":0}]
[{"$f":"'9 אחות ותזונאית'!C16","v":"תיק עזרה ראשונה"},{"$f":"'9 אחות ותזונאית'!F16","v":0},{"$f":"'9 אחות ותזונאית'!G16","v":0},null,{"$f":"'9 אחות ותזונאית'!J16","v":0},{"$f":"'9 אחות ותזונאית'!K16","v":0},{"$f":"IF(H114=0,\"\",'4 ציוד כללי'!L112)","v":""},{"$f":"'9 אחות ותזונאית'!M16","v":0}]
[{"$f":"'9 אחות ותזונאית'!C17","v":"ערכת החייאה"},{"$f":"'9 אחות ותזונאית'!F17","v":0},{"$f":"'9 אחות ותזונאית'!G17","v":0},null,{"$f":"'9 אחות ותזונאית'!J17","v":0},{"$f":"'9 אחות ותזונאית'!K17","v":0},{"$f":"IF(H115=0,\"\",'4 ציוד כללי'!L113)","v":""},{"$f":"'9 אחות ותזונאית'!M17","v":0}]
[{"$f":"'9 אחות ותזונאית'!C18","v":"מזרק אפיפן"},{"$f":"'9 אחות ותזונאית'!F18","v":0},{"$f":"'9 אחות ותזונאית'!G18","v":0},null,{"$f":"'9 אחות ותזונאית'!J18","v":0},{"$f":"'9 אחות ותזונאית'!K18","v":0},{"$f":"IF(H116=0,\"\",'4 ציוד כללי'!L114)","v":""},{"$f":"'9 אחות ותזונאית'!M18","v":0}]
[{"$f":"'9 אחות ותזונאית'!C19","v":"מכשיר אינהלציה "},{"$f":"'9 אחות ותזונאית'!F19","v":0},{"$f":"'9 אחות ותזונאית'!G19","v":0},null,{"$f":"'9 אחות ותזונאית'!J19","v":0},{"$f":"'9 אחות ותזונאית'!K19","v":0},{"$f":"IF(H117=0,\"\",'4 ציוד כללי'!L115)","v":""},{"$f":"'9 אחות ותזונאית'!M19","v":0}]
[{"$f":"'9 אחות ותזונאית'!C20","v":"מיטה עם מעקה"},{"$f":"'9 אחות ותזונאית'!F20","v":0},{"$f":"'9 אחות ותזונאית'!G20","v":0},null,{"$f":"'9 אחות ותזונאית'!J20","v":0},{"$f":"'9 אחות ותזונאית'!K20","v":0},{"$f":"IF(H118=0,\"\",'4 ציוד כללי'!L116)","v":""},{"$f":"'9 אחות ותזונאית'!M20","v":0}]
[{"$f":"'9 אחות ותזונאית'!C21","v":"סקשן חשמלי "},{"$f":"'9 אחות ותזונאית'!F21","v":0},{"$f":"'9 אחות ותזונאית'!G21","v":0},null,{"$f":"'9 אחות ותזונאית'!J21","v":0},{"$f":"'9 אחות ותזונאית'!K21","v":0},{"$f":"IF(H119=0,\"\",'4 ציוד כללי'!L117)","v":""},{"$f":"'9 אחות ותזונאית'!M21","v":0}]
[{"$f":"'9 אחות ותזונאית'!C22","v":"מחשיר קנגורו"},{"$f":"'9 אחות ותזונאית'!F22","v":0},{"$f":"'9 אחות ותזונאית'!G22","v":0},null,{"$f":"'9 אחות ותזונאית'!J22","v":0},{"$f":"'9 אחות ותזונאית'!K22","v":0},{"$f":"IF(H120=0,\"\",'4 ציוד כללי'!L118)","v":""},{"$f":"'9 אחות ותזונאית'!M22","v":0}]
[{"$f":"'9 אחות ותזונאית'!C23","v":"מחלול חמצן"},{"$f":"'9 אחות ותזונאית'!F23","v":0},{"$f":"'9 אחות ותזונאית'!G23","v":0},null,{"$f":"'9 אחות ותזונאית'!J23","v":0},{"$f":"'9 אחות ותזונאית'!K23","v":0},{"$f":"IF(H121=0,\"\",'4 ציוד כללי'!L119)","v":""},{"$f":"'9 אחות ותזונאית'!M23","v":0}]
[{"$f":"'9 אחות ותזונאית'!C24","v":"מד חום למדידת טמפרטורה של מזון"},{"$f":"'9 אחות ותזונאית'!F24","v":0},{"$f":"'9 אחות ותזונאית'!G24","v":0},null,{"$f":"'9 אחות ותזונאית'!J24","v":0},{"$f":"'9 אחות ותזונאית'!K24","v":0},{"$f":"IF(H122=0,\"\",'4 ציוד כללי'!L120)","v":""},{"$f":"'9 אחות ותזונאית'!M24","v":0}]
[{"$f":"'9 אחות ותזונאית'!C25","v":"כלים, אביזרים, חומרים (גלובלי)"},{"$f":"'9 אחות ותזונאית'!F25","v":0},{"$f":"'9 אחות ותזונאית'!G25","v":0},null,{"$f":"'9 אחות ותזונאית'!J25","v":0},{"$f":"'9 אחות ותזונאית'!K25","v":0},{"$f":"IF(H123=0,\"\",'4 ציוד כללי'!L121)","v":""},{"$f":"'9 אחות ותזונאית'!M25","v":0}]
[{"$f":"'9 אחות ותזונאית'!B26","v":"סה\"כ ציוד אחות ותזונאית (כולל מע\"מ)"},null,{"$f":"SUM(C105:C123)","v":0},null,{"$f":"A124","v":"סה\"כ ציוד אחות ותזונאית (כולל מע\"מ)"},null,null,{"$f":"SUM(H105:H123)","v":0}]
[{"$f":"'2 תוכן עניינים'!C21","v":"ציוד חצר"},null,null,null,{"$f":"A125","v":"ציוד חצר"}]
[{"$f":"'10 ציוד חצר'!C7","v":"ריצוף תקני"},{"$f":"'10 ציוד חצר'!F7","v":0},{"$f":"'10 ציוד חצר'!G7","v":0},null,{"$f":"'10 ציוד חצר'!J7","v":0},{"$f":"'10 ציוד חצר'!K7","v":0},{"$f":"IF(H126=0,\"\",'4 ציוד כללי'!L124)","v":""},{"$f":"'10 ציוד חצר'!M7","v":0}]
[{"$f":"'10 ציוד חצר'!C8","v":"הצללה"},{"$f":"'10 ציוד חצר'!F8","v":0},{"$f":"'10 ציוד חצר'!G8","v":0},null,{"$f":"'10 ציוד חצר'!J8","v":0},{"$f":"'10 ציוד חצר'!K8","v":0},{"$f":"IF(H127=0,\"\",'4 ציוד כללי'!L125)","v":""},{"$f":"'10 ציוד חצר'!M8","v":0}]
[{"$f":"'10 ציוד חצר'!C9","v":"מתקן נייח עם גירויים ויזואליים ו/או אודיטוריים"},{"$f":"'10 ציוד חצר'!F9","v":0},{"$f":"'10 ציוד חצר'!G9","v":0},null,{"$f":"'10 ציוד חצר'!J9","v":0},{"$f":"'10 ציוד חצר'!K9","v":0},{"$f":"IF(H128=0,\"\",'4 ציוד כללי'!L126)","v":""},{"$f":"'10 ציוד חצר'!M9","v":0}]
[{"$f":"'10 ציוד חצר'!C10","v":"מתקן משולב הכולל טיפוס, מנהרה, החלקה וגגון"},{"$f":"'10 ציוד חצר'!F10","v":0},{"$f":"'10 ציוד חצר'!G10","v":0},null,{"$f":"'10 ציוד חצר'!J10","v":0},{"$f":"'10 ציוד חצר'!K10","v":0},{"$f":"IF(H129=0,\"\",'4 ציוד כללי'!L127)","v":""},{"$f":"'10 ציוד חצר'!M10","v":0}]
[{"$f":"'10 ציוד חצר'!C11","v":"עלה ורד קפיצי"},{"$f":"'10 ציוד חצר'!F11","v":0},{"$f":"'10 ציוד חצר'!G11","v":0},null,{"$f":"'10 ציוד חצר'!J11","v":0},{"$f":"'10 ציוד חצר'!K11","v":0},{"$f":"IF(H130=0,\"\",'4 ציוד כללי'!L128)","v":""},{"$f":"'10 ציוד חצר'!M11","v":0}]
[{"$f":"'10 ציוד חצר'!C12","v":"בימבות/ אופניים/ מריצות"},{"$f":"'10 ציוד חצר'!F12","v":0},{"$f":"'10 ציוד חצר'!G12","v":0},null,{"$f":"'10 ציוד חצר'!J12","v":0},{"$f":"'10 ציוד חצר'!K12","v":0},{"$f":"IF(H131=0,\"\",'4 ציוד כללי'!L129)","v":""},{"$f":"'10 ציוד חצר'!M12","v":0}]
[{"$f":"'10 ציוד חצר'!C13","v":"ריצוף תקני"},{"$f":"'10 ציוד חצר'!F13","v":0},{"$f":"'10 ציוד חצר'!G13","v":0},null,{"$f":"'10 ציוד חצר'!J13","v":0},{"$f":"'10 ציוד חצר'!K13","v":0},{"$f":"IF(H132=0,\"\",'4 ציוד כללי'!L130)","v":""},{"$f":"'10 ציוד חצר'!M13","v":0}]
[{"$f":"'10 ציוד חצר'!C14","v":"הצללה"},{"$f":"'10 ציוד חצר'!F14","v":0},{"$f":"'10 ציוד חצר'!G14","v":0},null,{"$f":"'10 ציוד חצר'!J14","v":0},{"$f":"'10 ציוד חצר'!K14","v":0},{"$f":"IF(H133=0,\"\",'4 ציוד כללי'!L131)","v":""},{"$f":"'10 ציוד חצר'!M14","v":0}]
[{"$f":"'10 ציוד חצר'!C15","v":"מתקן נייח עם גירויים ויזואליים ו/או אודיטוריים"},{"$f":"'10 ציוד חצר'!F15","v":0},{"$f":"'10 ציוד חצר'!G15","v":0},null,{"$f":"'10 ציוד חצר'!J15","v":0},{"$f":"'10 ציוד חצר'!K15","v":0},{"$f":"IF(H134=0,\"\",'4 ציוד כללי'!L132)","v":""},{"$f":"'10 ציוד חצר'!M15","v":0}]
[{"$f":"'10 ציוד חצר'!C16","v":"מתקן משולב הכולל טיפוס, מנהרה, החלקה וגגון"},{"$f":"'10 ציוד חצר'!F16","v":0},{"$f":"'10 ציוד חצר'!G16","v":0},null,{"$f":"'10 ציוד חצר'!J16","v":0},{"$f":"'10 ציוד חצר'!K16","v":0},{"$f":"IF(H135=0,\"\",'4 ציוד כללי'!L133)","v":""},{"$f":"'10 ציוד חצר'!M16","v":0}]
[{"$f":"'10 ציוד חצר'!C17","v":"שולחן חול ומיים / ארגז חול + כיסוי"},{"$f":"'10 ציוד חצר'!F17","v":0},{"$f":"'10 ציוד חצר'!G17","v":0},null,{"$f":"'10 ציוד חצר'!J17","v":0},{"$f":"'10 ציוד חצר'!K17","v":0},{"$f":"IF(H136=0,\"\",'4 ציוד כללי'!L134)","v":""},{"$f":"'10 ציוד חצר'!M17","v":0}]
[{"$f":"'10 ציוד חצר'!C18","v":"עלה ורד קפיצי"},{"$f":"'10 ציוד חצר'!F18","v":0},{"$f":"'10 ציוד חצר'!G18","v":0},null,{"$f":"'10 ציוד חצר'!J18","v":0},{"$f":"'10 ציוד חצר'!K18","v":0},{"$f":"IF(H137=0,\"\",'4 ציוד כללי'!L135)","v":""},{"$f":"'10 ציוד חצר'!M18","v":0}]
[{"$f":"'10 ציוד חצר'!C19","v":"נדנדה (קן לציפור)"},{"$f":"'10 ציוד חצר'!F19","v":0},{"$f":"'10 ציוד חצר'!G19","v":0},null,{"$f":"'10 ציוד חצר'!J19","v":0},{"$f":"'10 ציוד חצר'!K19","v":0},{"$f":"IF(H138=0,\"\",'4 ציוד כללי'!L136)","v":""},{"$f":"'10 ציוד חצר'!M19","v":0}]
[{"$f":"'10 ציוד חצר'!C20","v":"מתקן נייד"},{"$f":"'10 ציוד חצר'!F20","v":0},{"$f":"'10 ציוד חצר'!G20","v":0},null,{"$f":"'10 ציוד חצר'!J20","v":0},{"$f":"'10 ציוד חצר'!K20","v":0},{"$f":"IF(H139=0,\"\",'4 ציוד כללי'!L137)","v":""},{"$f":"'10 ציוד חצר'!M20","v":0}]
[{"$f":"'10 ציוד חצר'!C21","v":"בימבות/ אופניים/ מריצות"},{"$f":"'10 ציוד חצר'!F21","v":0},{"$f":"'10 ציוד חצר'!G21","v":0},null,{"$f":"'10 ציוד חצר'!J21","v":0},{"$f":"'10 ציוד חצר'!K21","v":0},{"$f":"IF(H140=0,\"\",'4 ציוד כללי'!L138)","v":""},{"$f":"'10 ציוד חצר'!M21","v":0}]
[{"$f":"'10 ציוד חצר'!C22","v":"מחסן"},{"$f":"'10 ציוד חצר'!F22","v":0},{"$f":"'10 ציוד חצר'!G22","v":0},null,{"$f":"'10 ציוד חצר'!J22","v":0},{"$f":"'10 ציוד חצר'!K22","v":0},{"$f":"IF(H141=0,\"\",'4 ציוד כללי'!L139)","v":""},{"$f":"'10 ציוד חצר'!M22","v":0}]
[{"$f":"'10 ציוד חצר'!B23","v":"סה\"כ ציוד חצר (כולל מע\"מ)"},null,{"$f":"SUM(C126:C141)","v":0},null,{"$f":"A142","v":"סה\"כ ציוד חצר (כולל מע\"מ)"},null,null,{"$f":"SUM(H126:H141)","v":0}]
[{"$f":"'2 תוכן עניינים'!C22","v":"סנוזלן"},null,null,null,{"$f":"A143","v":"סנוזלן"}]
[{"$f":"'11 סנוזלן'!C7","v":"עמוד בועות"},{"$f":"'11 סנוזלן'!F7","v":0},{"$f":"'11 סנוזלן'!G7","v":0},null,{"$f":"'11 סנוזלן'!J7","v":0},{"$f":"'11 סנוזלן'!K7","v":0},{"$f":"IF(H144=0,\"\",'4 ציוד כללי'!L142)","v":""},{"$f":"'11 סנוזלן'!M7","v":0}]
[{"$f":"'11 סנוזלן'!C8","v":"מראות מחוסמות"},{"$f":"'11 סנוזלן'!F8","v":0},{"$f":"'11 סנוזלן'!G8","v":0},null,{"$f":"'11 סנוזלן'!J8","v":0},{"$f":"'11 סנוזלן'!K8","v":0},{"$f":"IF(H145=0,\"\",'4 ציוד כללי'!L143)","v":""},{"$f":"'11 סנוזלן'!M8","v":0}]
[{"$f":"'11 סנוזלן'!C9","v":"בסיס מרופד"},{"$f":"'11 סנוזלן'!F9","v":0},{"$f":"'11 סנוזלן'!G9","v":0},null,{"$f":"'11 סנוזלן'!J9","v":0},{"$f":"'11 סנוזלן'!K9","v":0},{"$f":"IF(H146=0,\"\",'4 ציוד כללי'!L144)","v":""},{"$f":"'11 סנוזלן'!M9","v":0}]
[{"$f":"'11 סנוזלן'!C10","v":"פרוג'קטור"},{"$f":"'11 סנוזלן'!F10","v":0},{"$f":"'11 סנוזלן'!G10","v":0},null,{"$f":"'11 סנוזלן'!J10","v":0},{"$f":"'11 סנוזלן'!K10","v":0},{"$f":"IF(H147=0,\"\",'4 ציוד כללי'!L145)","v":""},{"$f":"'11 סנוזלן'!M10","v":0}]
[{"$f":"'11 סנוזלן'!C11","v":"פופ"},{"$f":"'11 סנוזלן'!F11","v":0},{"$f":"'11 סנוזלן'!G11","v":0},null,{"$f":"'11 סנוזלן'!J11","v":0},{"$f":"'11 סנוזלן'!K11","v":0},{"$f":"IF(H148=0,\"\",'4 ציוד כללי'!L146)","v":""},{"$f":"'11 סנוזלן'!M11","v":0}]
[{"$f":"'11 סנוזלן'!C12","v":"מערכת מוסיקה"},{"$f":"'11 סנוזלן'!F12","v":0},{"$f":"'11 סנוזלן'!G12","v":0},null,{"$f":"'11 סנוזלן'!J12","v":0},{"$f":"'11 סנוזלן'!K12","v":0},{"$f":"IF(H149=0,\"\",'4 ציוד כללי'!L147)","v":""},{"$f":"'11 סנוזלן'!M12","v":0}]
[{"$f":"'11 סנוזלן'!C13","v":"ריפוד רצפה  וקירות ל 20 מ\"ר"},{"$f":"'11 סנוזלן'!F13","v":0},{"$f":"'11 סנוזלן'!G13","v":0},null,{"$f":"'11 סנוזלן'!J13","v":0},{"$f":"'11 סנוזלן'!K13","v":0},{"$f":"IF(H150=0,\"\",'4 ציוד כללי'!L148)","v":""},{"$f":"'11 סנוזלן'!M13","v":0}]
[{"$f":"'11 סנוזלן'!C14","v":"סיבים אופטיים"},{"$f":"'11 סנוזלן'!F14","v":0},{"$f":"'11 סנוזלן'!G14","v":0},null,{"$f":"'11 סנוזלן'!J14","v":0},{"$f":"'11 סנוזלן'!K14","v":0},{"$f":"IF(H151=0,\"\",'4 ציוד כללי'!L149)","v":""},{"$f":"'11 סנוזלן'!M14","v":0}]
[{"$f":"'11 סנוזלן'!C15","v":"כדור מראות+מקרן"},{"$f":"'11 סנוזלן'!F15","v":0},{"$f":"'11 סנוזלן'!G15","v":0},null,{"$f":"'11 סנוזלן'!J15","v":0},{"$f":"'11 סנוזלן'!K15","v":0},{"$f":"IF(H152=0,\"\",'4 ציוד כללי'!L150)","v":""},{"$f":"'11 סנוזלן'!M15","v":0}]
[{"$f":"'11 סנוזלן'!C16","v":"נדנדה"},{"$f":"'11 סנוזלן'!F16","v":0},{"$f":"'11 סנוזלן'!G16","v":0},null,{"$f":"'11 סנוזלן'!J16","v":0},{"$f":"'11 סנוזלן'!K16","v":0},{"$f":"IF(H153=0,\"\",'4 ציוד כללי'!L151)","v":""},{"$f":"'11 סנוזלן'!M16","v":0}]
[{"$f":"'11 סנוזלן'!C17","v":"מתרגם קול לאור"},{"$f":"'11 סנוזלן'!F17","v":0},{"$f":"'11 סנוזלן'!G17","v":0},null,{"$f":"'11 סנוזלן'!J17","v":0},{"$f":"'11 סנוזלן'!K17","v":0},{"$f":"IF(H154=0,\"\",'4 ציוד כללי'!L152)","v":""},{"$f":"'11 סנוזלן'!M17","v":0}]
[{"$f":"'11 סנוזלן'!C18","v":"מתקן גירוי תגובה"},{"$f":"'11 סנוזלן'!F18","v":0},{"$f":"'11 סנוזלן'!G18","v":0},null,{"$f":"'11 סנוזלן'!J18","v":0},{"$f":"'11 סנוזלן'!K18","v":0},{"$f":"IF(H155=0,\"\",'4 ציוד כללי'!L153)","v":""},{"$f":"'11 סנוזלן'!M18","v":0}]
[{"$f":"'11 סנוזלן'!C19","v":"אביזרי עיסוי"},{"$f":"'11 סנוזלן'!F19","v":0},{"$f":"'11 סנוזלן'!G19","v":0},null,{"$f":"'11 סנוזלן'!J19","v":0},{"$f":"'11 סנוזלן'!K19","v":0},{"$f":"IF(H156=0,\"\",'4 ציוד כללי'!L154)","v":""},{"$f":"'11 סנוזלן'!M19","v":0}]
[{"$f":"'11 סנוזלן'!C20","v":"אביזרי גריה קטנים"},{"$f":"'11 סנוזלן'!F20","v":0},{"$f":"'11 סנוזלן'!G20","v":0},null,{"$f":"'11 סנוזלן'!J20","v":0},{"$f":"'11 סנוזלן'!K20","v":0},{"$f":"IF(H157=0,\"\",'4 ציוד כללי'!L155)","v":""},{"$f":"'11 סנוזלן'!M20","v":0}]
[{"$f":"'11 סנוזלן'!C21","v":"ארון אחסון לעזרים"},{"$f":"'11 סנוזלן'!F21","v":0},{"$f":"'11 סנוזלן'!G21","v":0},null,{"$f":"'11 סנוזלן'!J21","v":0},{"$f":"'11 סנוזלן'!K21","v":0},{"$f":"IF(H158=0,\"\",'4 ציוד כללי'!L156)","v":""},{"$f":"'11 סנוזלן'!M21","v":0}]
[{"$f":"'11 סנוזלן'!B22","v":"סה\"כ ציוד סנוזלן (כולל מע\"מ)"},null,{"$f":"SUM(C144:C158)","v":0},null,{"$f":"A159","v":"סה\"כ ציוד סנוזלן (כולל מע\"מ)"},null,null,{"$f":"SUM(H144:H158)","v":0}]
[{"$f":"'2 תוכן עניינים'!C23","v":"מטבח מחמם"},null,null,null,{"$f":"A160","v":"מטבח מחמם"}]
[{"$f":"'12 מטבח מחמם'!C7","v":"כיריים חשמליות "},{"$f":"'12 מטבח מחמם'!F7","v":0},{"$f":"'12 מטבח מחמם'!G7","v":0},null,{"$f":"'12 מטבח מחמם'!J7","v":0},{"$f":"'12 מטבח מחמם'!K7","v":0},{"$f":"IF(H161=0,\"\",'4 ציוד כללי'!L159)","v":""},{"$f":"'12 מטבח מחמם'!M7","v":0}]
[{"$f":"'12 מטבח מחמם'!C8","v":"תנור אפיה וחימום "},{"$f":"'12 מטבח מחמם'!F8","v":0},{"$f":"'12 מטבח מחמם'!G8","v":0},null,{"$f":"'12 מטבח מחמם'!J8","v":0},{"$f":"'12 מטבח מחמם'!K8","v":0},{"$f":"IF(H162=0,\"\",'4 ציוד כללי'!L160)","v":""},{"$f":"'12 מטבח מחמם'!M8","v":0}]
[{"$f":"'12 מטבח מחמם'!C9","v":"תנור קומביסטימר"},{"$f":"'12 מטבח מחמם'!F9","v":0},{"$f":"'12 מטבח מחמם'!G9","v":0},null,{"$f":"'12 מטבח מחמם'!J9","v":0},{"$f":"'12 מטבח מחמם'!K9","v":0},{"$f":"IF(H163=0,\"\",'4 ציוד כללי'!L161)","v":""},{"$f":"'12 מטבח מחמם'!M9","v":0}]
[{"$f":"'12 מטבח מחמם'!C10","v":"מקרר ביתי / תעשייתי"},{"$f":"'12 מטבח מחמם'!F10","v":0},{"$f":"'12 מטבח מחמם'!G10","v":0},null,{"$f":"'12 מטבח מחמם'!J10","v":0},{"$f":"'12 מטבח מחמם'!K10","v":0},{"$f":"IF(H164=0,\"\",'4 ציוד כללי'!L162)","v":""},{"$f":"'12 מטבח מחמם'!M10","v":0}]
[{"$f":"'12 מטבח מחמם'!C11","v":"מקפיא"},{"$f":"'12 מטבח מחמם'!F11","v":0},{"$f":"'12 מטבח מחמם'!G11","v":0},null,{"$f":"'12 מטבח מחמם'!J11","v":0},{"$f":"'12 מטבח מחמם'!K11","v":0},{"$f":"IF(H165=0,\"\",'4 ציוד כללי'!L163)","v":""},{"$f":"'12 מטבח מחמם'!M11","v":0}]
[{"$f":"'12 מטבח מחמם'!C12","v":"מדיח כלים חצי תעשייתי / תעשייתי + מרכך מים"},{"$f":"'12 מטבח מחמם'!F12","v":0},{"$f":"'12 מטבח מחמם'!G12","v":0},null,{"$f":"'12 מטבח מחמם'!J12","v":0},{"$f":"'12 מטבח מחמם'!K12","v":0},{"$f":"IF(H166=0,\"\",'4 ציוד כללי'!L164)","v":""},{"$f":"'12 מטבח מחמם'!M12","v":0}]
[{"$f":"'12 מטבח מחמם'!C13","v":"מעבד מזון מקצועי"},{"$f":"'12 מטבח מחמם'!F13","v":0},{"$f":"'12 מטבח מחמם'!G13","v":0},null,{"$f":"'12 מטבח מחמם'!J13","v":0},{"$f":"'12 מטבח מחמם'!K13","v":0},{"$f":"IF(H167=0,\"\",'4 ציוד כללי'!L165)","v":""},{"$f":"'12 מטבח מחמם'!M13","v":0}]
[{"$f":"'12 מטבח מחמם'!C14","v":"מקסר / בלנדר - בייתי / תעשייתי"},{"$f":"'12 מטבח מחמם'!F14","v":0},{"$f":"'12 מטבח מחמם'!G14","v":0},null,{"$f":"'12 מטבח מחמם'!J14","v":0},{"$f":"'12 מטבח מחמם'!K14","v":0},{"$f":"IF(H168=0,\"\",'4 ציוד כללי'!L166)","v":""},{"$f":"'12 מטבח מחמם'!M14","v":0}]
[{"$f":"'12 מטבח מחמם'!C15","v":"מיקרוגל"},{"$f":"'12 מטבח מחמם'!F15","v":0},{"$f":"'12 מטבח מחמם'!G15","v":0},null,{"$f":"'12 מטבח מחמם'!J15","v":0},{"$f":"'12 מטבח מחמם'!K15","v":0},{"$f":"IF(H169=0,\"\",'4 ציוד כללי'!L167)","v":""},{"$f":"'12 מטבח מחמם'!M15","v":0}]
[{"$f":"'12 מטבח מחמם'!C16","v":"מתקן מים"},{"$f":"'12 מטבח מחמם'!F16","v":0},{"$f":"'12 מטבח מחמם'!G16","v":0},null,{"$f":"'12 מטבח מחמם'!J16","v":0},{"$f":"'12 מטבח מחמם'!K16","v":0},{"$f":"IF(H170=0,\"\",'4 ציוד כללי'!L168)","v":""},{"$f":"'12 מטבח מחמם'!M16","v":0}]
[{"$f":"'12 מטבח מחמם'!C17","v":"מחם אוטומטי  6 /  10ל'"},{"$f":"'12 מטבח מחמם'!F17","v":0},{"$f":"'12 מטבח מחמם'!G17","v":0},null,{"$f":"'12 מטבח מחמם'!J17","v":0},{"$f":"'12 מטבח מחמם'!K17","v":0},{"$f":"IF(H171=0,\"\",'4 ציוד כללי'!L169)","v":""},{"$f":"'12 מטבח מחמם'!M17","v":0}]
[{"$f":"'12 מטבח מחמם'!C18","v":"עגלת חימום / קרור"},{"$f":"'12 מטבח מחמם'!F18","v":0},{"$f":"'12 מטבח מחמם'!G18","v":0},null,{"$f":"'12 מטבח מחמם'!J18","v":0},{"$f":"'12 מטבח מחמם'!K18","v":0},{"$f":"IF(H172=0,\"\",'4 ציוד כללי'!L170)","v":""},{"$f":"'12 מטבח מחמם'!M18","v":0}]
[{"$f":"'12 מטבח מחמם'!C19","v":"שולחן כניסה ויציאה  למדיח כלים"},{"$f":"'12 מטבח מחמם'!F19","v":0},{"$f":"'12 מטבח מחמם'!G19","v":0},null,{"$f":"'12 מטבח מחמם'!J19","v":0},{"$f":"'12 מטבח מחמם'!K19","v":0},{"$f":"IF(H173=0,\"\",'4 ציוד כללי'!L171)","v":""},{"$f":"'12 מטבח מחמם'!M19","v":0}]
[{"$f":"'12 מטבח מחמם'!C20","v":"סוללה עם מתז עליון על שולחן"},{"$f":"'12 מטבח מחמם'!F20","v":0},{"$f":"'12 מטבח מחמם'!G20","v":0},null,{"$f":"'12 מטבח מחמם'!J20","v":0},{"$f":"'12 מטבח מחמם'!K20","v":0},{"$f":"IF(H174=0,\"\",'4 ציוד כללי'!L172)","v":""},{"$f":"'12 מטבח מחמם'!M20","v":0}]
[{"$f":"'12 מטבח מחמם'!C21","v":"ברז שולחני עם פיה מסתובבת לכיור עבודה"},{"$f":"'12 מטבח מחמם'!F21","v":0},{"$f":"'12 מטבח מחמם'!G21","v":0},null,{"$f":"'12 מטבח מחמם'!J21","v":0},{"$f":"'12 מטבח מחמם'!K21","v":0},{"$f":"IF(H175=0,\"\",'4 ציוד כללי'!L173)","v":""},{"$f":"'12 מטבח מחמם'!M21","v":0}]
[{"$f":"'12 מטבח מחמם'!C22","v":"ארון מדפים פתוחים"},{"$f":"'12 מטבח מחמם'!F22","v":0},{"$f":"'12 מטבח מחמם'!G22","v":0},null,{"$f":"'12 מטבח מחמם'!J22","v":0},{"$f":"'12 מטבח מחמם'!K22","v":0},{"$f":"IF(H176=0,\"\",'4 ציוד כללי'!L174)","v":""},{"$f":"'12 מטבח מחמם'!M22","v":0}]
[{"$f":"'12 מטבח מחמם'!C23","v":"מתלה ייבוש לצלחות עם מדף לספלים"},{"$f":"'12 מטבח מחמם'!F23","v":0},{"$f":"'12 מטבח מחמם'!G23","v":0},null,{"$f":"'12 מטבח מחמם'!J23","v":0},{"$f":"'12 מטבח מחמם'!K23","v":0},{"$f":"IF(H177=0,\"\",'4 ציוד כללי'!L175)","v":""},{"$f":"'12 מטבח מחמם'!M23","v":0}]
[{"$f":"'12 מטבח מחמם'!C24","v":"עגלת הגשה"},{"$f":"'12 מטבח מחמם'!F24","v":0},{"$f":"'12 מטבח מחמם'!G24","v":0},null,{"$f":"'12 מטבח מחמם'!J24","v":0},{"$f":"'12 מטבח מחמם'!K24","v":0},{"$f":"IF(H178=0,\"\",'4 ציוד כללי'!L176)","v":""},{"$f":"'12 מטבח מחמם'!M24","v":0}]
[{"$f":"'12 מטבח מחמם'!C25","v":"עגלת עבודה"},{"$f":"'12 מטבח מחמם'!F25","v":0},{"$f":"'12 מטבח מחמם'!G25","v":0},null,{"$f":"'12 מטבח מחמם'!J25","v":0},{"$f":"'12 מטבח מחמם'!K25","v":0},{"$f":"IF(H179=0,\"\",'4 ציוד כללי'!L177)","v":""},{"$f":"'12 מטבח מחמם'!M25","v":0}]
[{"$f":"'12 מטבח מחמם'!C26","v":"עגלה עם מיכל אשפה  80 ליטר"},{"$f":"'12 מטבח מחמם'!F26","v":0},{"$f":"'12 מטבח מחמם'!G26","v":0},null,{"$f":"'12 מטבח מחמם'!J26","v":0},{"$f":"'12 מטבח מחמם'!K26","v":0},{"$f":"IF(H180=0,\"\",'4 ציוד כללי'!L178)","v":""},{"$f":"'12 מטבח מחמם'!M26","v":0}]
[{"$f":"'12 מטבח מחמם'!C27","v":"משטחי עבודה"},{"$f":"'12 מטבח מחמם'!F27","v":0},{"$f":"'12 מטבח מחמם'!G27","v":0},null,{"$f":"'12 מטבח מחמם'!J27","v":0},{"$f":"'12 מטבח מחמם'!K27","v":0},{"$f":"IF(H181=0,\"\",'4 ציוד כללי'!L179)","v":""},{"$f":"'12 מטבח מחמם'!M27","v":0}]
[{"$f":"'12 מטבח מחמם'!C28","v":"שולחן כיור"},{"$f":"'12 מטבח מחמם'!F28","v":0},{"$f":"'12 מטבח מחמם'!G28","v":0},null,{"$f":"'12 מטבח מחמם'!J28","v":0},{"$f":"'12 מטבח מחמם'!K28","v":0},{"$f":"IF(H182=0,\"\",'4 ציוד כללי'!L180)","v":""},{"$f":"'12 מטבח מחמם'!M28","v":0}]
[{"$f":"'12 מטבח מחמם'!C29","v":"עגלה עם מיכל אשפה  80 ליטר"},{"$f":"'12 מטבח מחמם'!F29","v":0},{"$f":"'12 מטבח מחמם'!G29","v":0},null,{"$f":"'12 מטבח מחמם'!J29","v":0},{"$f":"'12 מטבח מחמם'!K29","v":0},{"$f":"IF(H183=0,\"\",'4 ציוד כללי'!L181)","v":""},{"$f":"'12 מטבח מחמם'!M29","v":0}]
[{"$f":"'12 מטבח מחמם'!C30","v":"ארון אחסון יבש "},{"$f":"'12 מטבח מחמם'!F30","v":0},{"$f":"'12 מטבח מחמם'!G30","v":0},null,{"$f":"'12 מטבח מחמם'!J30","v":0},{"$f":"'12 מטבח מחמם'!K30","v":0},{"$f":"IF(H184=0,\"\",'4 ציוד כללי'!L182)","v":""},{"$f":"'12 מטבח מחמם'!M30","v":0}]
[{"$f":"'12 מטבח מחמם'!C31","v":"כלי מטבח"},{"$f":"'12 מטבח מחמם'!F31","v":0},{"$f":"'12 מטבח מחמם'!G31","v":0},null,{"$f":"'12 מטבח מחמם'!J31","v":0},{"$f":"'12 מטבח מחמם'!K31","v":0},{"$f":"IF(H185=0,\"\",'4 ציוד כללי'!L183)","v":""},{"$f":"'12 מטבח מחמם'!M31","v":0}]
[{"$f":"'12 מטבח מחמם'!B32","v":"סה\"כ ציוד מטבח מחמם (כולל מע\"מ)"},null,{"$f":"SUM(C161:C185)","v":0},null,{"$f":"A186","v":"סה\"כ ציוד מטבח מחמם (כולל מע\"מ)"},null,null,{"$f":"SUM(H161:H185)","v":0}]
[{"$f":"'2 תוכן עניינים'!C24","v":"מטבח מבשל"},null,null,null,{"$f":"A187","v":"מטבח מבשל"}]
[{"$f":"'13 מטבח מבשל'!C7","v":"מקרר ארון חד רוחבי"},{"$f":"'13 מטבח מבשל'!F7","v":0},{"$f":"'13 מטבח מבשל'!G7","v":0},null,{"$f":"'13 מטבח מבשל'!J7","v":0},{"$f":"'13 מטבח מבשל'!K7","v":0},{"$f":"IF(H188=0,\"\",'4 ציוד כללי'!L186)","v":""},{"$f":"'13 מטבח מבשל'!M7","v":0}]
[{"$f":"'13 מטבח מבשל'!C8","v":"מקפיא ארון חד רוחבי"},{"$f":"'13 מטבח מבשל'!F8","v":0},{"$f":"'13 מטבח מבשל'!G8","v":0},null,{"$f":"'13 מטבח מבשל'!J8","v":0},{"$f":"'13 מטבח מבשל'!K8","v":0},{"$f":"IF(H189=0,\"\",'4 ציוד כללי'!L187)","v":""},{"$f":"'13 מטבח מבשל'!M8","v":0}]
[{"$f":"'13 מטבח מבשל'!C9","v":"מקרר דלפק"},{"$f":"'13 מטבח מבשל'!F9","v":0},{"$f":"'13 מטבח מבשל'!G9","v":0},null,{"$f":"'13 מטבח מבשל'!J9","v":0},{"$f":"'13 מטבח מבשל'!K9","v":0},{"$f":"IF(H190=0,\"\",'4 ציוד כללי'!L188)","v":""},{"$f":"'13 מטבח מבשל'!M9","v":0}]
[{"$f":"'13 מטבח מבשל'!C10","v":"מדיח כלים חצי תעשייתי / תעשייתי "},{"$f":"'13 מטבח מבשל'!F10","v":0},{"$f":"'13 מטבח מבשל'!G10","v":0},null,{"$f":"'13 מטבח מבשל'!J10","v":0},{"$f":"'13 מטבח מבשל'!K10","v":0},{"$f":"IF(H191=0,\"\",'4 ציוד כללי'!L189)","v":""},{"$f":"'13 מטבח מבשל'!M10","v":0}]
[{"$f":"'13 מטבח מבשל'!C11","v":"מרכך מים 230 ליטר/שעה"},{"$f":"'13 מטבח מבשל'!F11","v":0},{"$f":"'13 מטבח מבשל'!G11","v":0},null,{"$f":"'13 מטבח מבשל'!J11","v":0},{"$f":"'13 מטבח מבשל'!K11","v":0},{"$f":"IF(H192=0,\"\",'4 ציוד כללי'!L190)","v":""},{"$f":"'13 מטבח מבשל'!M11","v":0}]
[{"$f":"'13 מטבח מבשל'!C12","v":"כיריים חשמליות  / גז  6  להבות"},{"$f":"'13 מטבח מבשל'!F12","v":0},{"$f":"'13 מטבח מבשל'!G12","v":0},null,{"$f":"'13 מטבח מבשל'!J12","v":0},{"$f":"'13 מטבח מבשל'!K12","v":0},{"$f":"IF(H193=0,\"\",'4 ציוד כללי'!L191)","v":""},{"$f":"'13 מטבח מבשל'!M12","v":0}]
[{"$f":"'13 מטבח מבשל'!C13","v":"תנור קומביסטימר"},{"$f":"'13 מטבח מבשל'!F13","v":0},{"$f":"'13 מטבח מבשל'!G13","v":0},null,{"$f":"'13 מטבח מבשל'!J13","v":0},{"$f":"'13 מטבח מבשל'!K13","v":0},{"$f":"IF(H194=0,\"\",'4 ציוד כללי'!L192)","v":""},{"$f":"'13 מטבח מבשל'!M13","v":0}]
[{"$f":"'13 מטבח מבשל'!C14","v":"מקסר / בלנדר - בייתי / תעשייתי"},{"$f":"'13 מטבח מבשל'!F14","v":0},{"$f":"'13 מטבח מבשל'!G14","v":0},null,{"$f":"'13 מטבח מבשל'!J14","v":0},{"$f":"'13 מטבח מבשל'!K14","v":0},{"$f":"IF(H195=0,\"\",'4 ציוד כללי'!L193)","v":""},{"$f":"'13 מטבח מבשל'!M14","v":0}]
[{"$f":"'13 מטבח מבשל'!C15","v":"קוצץ ירקות שולחני"},{"$f":"'13 מטבח מבשל'!F15","v":0},{"$f":"'13 מטבח מבשל'!G15","v":0},null,{"$f":"'13 מטבח מבשל'!J15","v":0},{"$f":"'13 מטבח מבשל'!K15","v":0},{"$f":"IF(H196=0,\"\",'4 ציוד כללי'!L194)","v":""},{"$f":"'13 מטבח מבשל'!M15","v":0}]
[{"$f":"'13 מטבח מבשל'!C16","v":"מעבד מזון תעשייתי"},{"$f":"'13 מטבח מבשל'!F16","v":0},{"$f":"'13 מטבח מבשל'!G16","v":0},null,{"$f":"'13 מטבח מבשל'!J16","v":0},{"$f":"'13 מטבח מבשל'!K16","v":0},{"$f":"IF(H197=0,\"\",'4 ציוד כללי'!L195)","v":""},{"$f":"'13 מטבח מבשל'!M16","v":0}]
[{"$f":"'13 מטבח מבשל'!C17","v":"עגלת חימום / קרור"},{"$f":"'13 מטבח מבשל'!F17","v":0},{"$f":"'13 מטבח מבשל'!G17","v":0},null,{"$f":"'13 מטבח מבשל'!J17","v":0},{"$f":"'13 מטבח מבשל'!K17","v":0},{"$f":"IF(H198=0,\"\",'4 ציוד כללי'!L196)","v":""},{"$f":"'13 מטבח מבשל'!M17","v":0}]
[{"$f":"'13 מטבח מבשל'!C18","v":"מיחם אוטומטי  25 ליטר"},{"$f":"'13 מטבח מבשל'!F18","v":0},{"$f":"'13 מטבח מבשל'!G18","v":0},null,{"$f":"'13 מטבח מבשל'!J18","v":0},{"$f":"'13 מטבח מבשל'!K18","v":0},{"$f":"IF(H199=0,\"\",'4 ציוד כללי'!L197)","v":""},{"$f":"'13 מטבח מבשל'!M18","v":0}]
[{"$f":"'13 מטבח מבשל'!C19","v":"מיקרוגל לעומס בינוני"},{"$f":"'13 מטבח מבשל'!F19","v":0},{"$f":"'13 מטבח מבשל'!G19","v":0},null,{"$f":"'13 מטבח מבשל'!J19","v":0},{"$f":"'13 מטבח מבשל'!K19","v":0},{"$f":"IF(H200=0,\"\",'4 ציוד כללי'!L198)","v":""},{"$f":"'13 מטבח מבשל'!M19","v":0}]
[{"$f":"'13 מטבח מבשל'!C20","v":"מחבת מתהפך 50 ליטר"},{"$f":"'13 מטבח מבשל'!F20","v":0},{"$f":"'13 מטבח מבשל'!G20","v":0},null,{"$f":"'13 מטבח מבשל'!J20","v":0},{"$f":"'13 מטבח מבשל'!K20","v":0},{"$f":"IF(H201=0,\"\",'4 ציוד כללי'!L199)","v":""},{"$f":"'13 מטבח מבשל'!M20","v":0}]
[{"$f":"'13 מטבח מבשל'!C21","v":"ארון חימום תחתון/ מעמד לתנור"},{"$f":"'13 מטבח מבשל'!F21","v":0},{"$f":"'13 מטבח מבשל'!G21","v":0},null,{"$f":"'13 מטבח מבשל'!J21","v":0},{"$f":"'13 מטבח מבשל'!K21","v":0},{"$f":"IF(H202=0,\"\",'4 ציוד כללי'!L200)","v":""},{"$f":"'13 מטבח מבשל'!M21","v":0}]
[{"$f":"'13 מטבח מבשל'!C22","v":"שולחן כניסה ויציאה  למדיח כלים"},{"$f":"'13 מטבח מבשל'!F22","v":0},{"$f":"'13 מטבח מבשל'!G22","v":0},null,{"$f":"'13 מטבח מבשל'!J22","v":0},{"$f":"'13 מטבח מבשל'!K22","v":0},{"$f":"IF(H203=0,\"\",'4 ציוד כללי'!L201)","v":""},{"$f":"'13 מטבח מבשל'!M22","v":0}]
[{"$f":"'13 מטבח מבשל'!C23","v":"סוללה עם מתז עליון על שולחן"},{"$f":"'13 מטבח מבשל'!F23","v":0},{"$f":"'13 מטבח מבשל'!G23","v":0},null,{"$f":"'13 מטבח מבשל'!J23","v":0},{"$f":"'13 מטבח מבשל'!K23","v":0},{"$f":"IF(H204=0,\"\",'4 ציוד כללי'!L202)","v":""},{"$f":"'13 מטבח מבשל'!M23","v":0}]
[{"$f":"'13 מטבח מבשל'!C24","v":"ברז שולחני עם פיה מסתובבת לכיור עבודה"},{"$f":"'13 מטבח מבשל'!F24","v":0},{"$f":"'13 מטבח מבשל'!G24","v":0},null,{"$f":"'13 מטבח מבשל'!J24","v":0},{"$f":"'13 מטבח מבשל'!K24","v":0},{"$f":"IF(H205=0,\"\",'4 ציוד כללי'!L203)","v":""},{"$f":"'13 מטבח מבשל'!M24","v":0}]
[{"$f":"'13 מטבח מבשל'!C25","v":"מדף עליון כפול"},{"$f":"'13 מטבח מבשל'!F25","v":0},{"$f":"'13 מטבח מבשל'!G25","v":0},null,{"$f":"'13 מטבח מבשל'!J25","v":0},{"$f":"'13 מטבח מבשל'!K25","v":0},{"$f":"IF(H206=0,\"\",'4 ציוד כללי'!L204)","v":""},{"$f":"'13 מטבח מבשל'!M25","v":0}]
[{"$f":"'13 מטבח מבשל'!C26","v":"מתלה ייבוש לצלחות עם מדף לספלים"},{"$f":"'13 מטבח מבשל'!F26","v":0},{"$f":"'13 מטבח מבשל'!G26","v":0},null,{"$f":"'13 מטבח מבשל'!J26","v":0},{"$f":"'13 מטבח מבשל'!K26","v":0},{"$f":"IF(H207=0,\"\",'4 ציוד כללי'!L205)","v":""},{"$f":"'13 מטבח מבשל'!M26","v":0}]
[{"$f":"'13 מטבח מבשל'!C27","v":"עגלת עבודה"},{"$f":"'13 מטבח מבשל'!F27","v":0},{"$f":"'13 מטבח מבשל'!G27","v":0},null,{"$f":"'13 מטבח מבשל'!J27","v":0},{"$f":"'13 מטבח מבשל'!K27","v":0},{"$f":"IF(H208=0,\"\",'4 ציוד כללי'!L206)","v":""},{"$f":"'13 מטבח מבשל'!M27","v":0}]
[{"$f":"'13 מטבח מבשל'!C28","v":"עגלה עם מיכל אשפה  80 ליטר"},{"$f":"'13 מטבח מבשל'!F28","v":0},{"$f":"'13 מטבח מבשל'!G28","v":0},null,{"$f":"'13 מטבח מבשל'!J28","v":0},{"$f":"'13 מטבח מבשל'!K28","v":0},{"$f":"IF(H209=0,\"\",'4 ציוד כללי'!L207)","v":""},{"$f":"'13 מטבח מבשל'!M28","v":0}]
[{"$f":"'13 מטבח מבשל'!C29","v":"משטחי עבודה"},{"$f":"'13 מטבח מבשל'!F29","v":0},{"$f":"'13 מטבח מבשל'!G29","v":0},null,{"$f":"'13 מטבח מבשל'!J29","v":0},{"$f":"'13 מטבח מבשל'!K29","v":0},{"$f":"IF(H210=0,\"\",'4 ציוד כללי'!L208)","v":""},{"$f":"'13 מטבח מבשל'!M29","v":0}]
[{"$f":"'13 מטבח מבשל'!C30","v":"שולחן כיור"},{"$f":"'13 מטבח מבשל'!F30","v":0},{"$f":"'13 מטבח מבשל'!G30","v":0},null,{"$f":"'13 מטבח מבשל'!J30","v":0},{"$f":"'13 מטבח מבשל'!K30","v":0},{"$f":"IF(H211=0,\"\",'4 ציוד כללי'!L209)","v":""},{"$f":"'13 מטבח מבשל'!M30","v":0}]
[{"$f":"'13 מטבח מבשל'!C31","v":"עגלה עם מיכל אשפה  80 ליטר"},{"$f":"'13 מטבח מבשל'!F31","v":0},{"$f":"'13 מטבח מבשל'!G31","v":0},null,{"$f":"'13 מטבח מבשל'!J31","v":0},{"$f":"'13 מטבח מבשל'!K31","v":0},{"$f":"IF(H212=0,\"\",'4 ציוד כללי'!L210)","v":""},{"$f":"'13 מטבח מבשל'!M31","v":0}]
[{"$f":"'13 מטבח מבשל'!C32","v":"ארון אחסון יבש "},{"$f":"'13 מטבח מבשל'!F32","v":0},{"$f":"'13 מטבח מבשל'!G32","v":0},null,{"$f":"'13 מטבח מבשל'!J32","v":0},{"$f":"'13 מטבח מבשל'!K32","v":0},{"$f":"IF(H213=0,\"\",'4 ציוד כללי'!L211)","v":""},{"$f":"'13 מטבח מבשל'!M32","v":0}]
[{"$f":"'13 מטבח מבשל'!C33","v":"כלי מטבח"},{"$f":"'13 מטבח מבשל'!F33","v":0},{"$f":"'13 מטבח מבשל'!G33","v":0},null,{"$f":"'13 מטבח מבשל'!J33","v":0},{"$f":"'13 מטבח מבשל'!K33","v":0},{"$f":"IF(H214=0,\"\",'4 ציוד כללי'!L212)","v":""},{"$f":"'13 מטבח מבשל'!M33","v":0}]
[{"$f":"'13 מטבח מבשל'!B34","v":"סה\"כ ציוד מטבח מבשל (כולל מע\"מ)"},null,{"$f":"SUM(C188:C214)","v":0},null,{"$f":"A215","v":"סה\"כ ציוד מטבח מבשל (כולל מע\"מ)"},null,null,{"$f":"SUM(H188:H214)","v":0}]
[{"$f":"'2 תוכן עניינים'!C25","v":"ציוד לצוות"},null,null,null,{"$f":"A216","v":"ציוד לצוות"}]
[{"$f":"'14 ציוד לצוות'!C7","v":"ארון"},{"$f":"'14 ציוד לצוות'!F7","v":0},{"$f":"'14 ציוד לצוות'!G7","v":0},null,{"$f":"'14 ציוד לצוות'!J7","v":0},{"$f":"'14 ציוד לצוות'!K7","v":0},{"$f":"IF(H217=0,\"\",'4 ציוד כללי'!L215)","v":""},{"$f":"'14 ציוד לצוות'!M7","v":0}]
[{"$f":"'14 ציוד לצוות'!C8","v":"שולחן "},{"$f":"'14 ציוד לצוות'!F8","v":0},{"$f":"'14 ציוד לצוות'!G8","v":0},null,{"$f":"'14 ציוד לצוות'!J8","v":0},{"$f":"'14 ציוד לצוות'!K8","v":0},{"$f":"IF(H218=0,\"\",'4 ציוד כללי'!L216)","v":""},{"$f":"'14 ציוד לצוות'!M8","v":0}]
[{"$f":"'14 ציוד לצוות'!C9","v":"כיסא אישי"},{"$f":"'14 ציוד לצוות'!F9","v":0},{"$f":"'14 ציוד לצוות'!G9","v":0},null,{"$f":"'14 ציוד לצוות'!J9","v":0},{"$f":"'14 ציוד לצוות'!K9","v":0},{"$f":"IF(H219=0,\"\",'4 ציוד כללי'!L217)","v":""},{"$f":"'14 ציוד לצוות'!M9","v":0}]
[{"$f":"'14 ציוד לצוות'!C10","v":"כיסא אורחים/ עבודה"},{"$f":"'14 ציוד לצוות'!F10","v":0},{"$f":"'14 ציוד לצוות'!G10","v":0},null,{"$f":"'14 ציוד לצוות'!J10","v":0},{"$f":"'14 ציוד לצוות'!K10","v":0},{"$f":"IF(H220=0,\"\",'4 ציוד כללי'!L218)","v":""},{"$f":"'14 ציוד לצוות'!M10","v":0}]
[{"$f":"'14 ציוד לצוות'!C11","v":"מראה ווילון"},{"$f":"'14 ציוד לצוות'!F11","v":0},{"$f":"'14 ציוד לצוות'!G11","v":0},null,{"$f":"'14 ציוד לצוות'!J11","v":0},{"$f":"'14 ציוד לצוות'!K11","v":0},{"$f":"IF(H221=0,\"\",'4 ציוד כללי'!L219)","v":""},{"$f":"'14 ציוד לצוות'!M11","v":0}]
[{"$f":"'14 ציוד לצוות'!C12","v":"אביזרי עיצוב"},{"$f":"'14 ציוד לצוות'!F12","v":0},{"$f":"'14 ציוד לצוות'!G12","v":0},null,{"$f":"'14 ציוד לצוות'!J12","v":0},{"$f":"'14 ציוד לצוות'!K12","v":0},{"$f":"IF(H222=0,\"\",'4 ציוד כללי'!L220)","v":""},{"$f":"'14 ציוד לצוות'!M12","v":0}]
[{"$f":"'14 ציוד לצוות'!C13","v":"מחשב+תוכנות"},{"$f":"'14 ציוד לצוות'!F13","v":0},{"$f":"'14 ציוד לצוות'!G13","v":0},null,{"$f":"'14 ציוד לצוות'!J13","v":0},{"$f":"'14 ציוד לצוות'!K13","v":0},{"$f":"IF(H223=0,\"\",'4 ציוד כללי'!L221)","v":""},{"$f":"'14 ציוד לצוות'!M13","v":0}]
[{"$f":"'14 ציוד לצוות'!C14","v":"מדפסת משולבת"},{"$f":"'14 ציוד לצוות'!F14","v":0},{"$f":"'14 ציוד לצוות'!G14","v":0},null,{"$f":"'14 ציוד לצוות'!J14","v":0},{"$f":"'14 ציוד לצוות'!K14","v":0},{"$f":"IF(H224=0,\"\",'4 ציוד כללי'!L222)","v":""},{"$f":"'14 ציוד לצוות'!M14","v":0}]
[{"$f":"'14 ציוד לצוות'!C15","v":"ציוד תקשורת ומולטימדיה"},{"$f":"'14 ציוד לצוות'!F15","v":0},{"$f":"'14 ציוד לצוות'!G15","v":0},null,{"$f":"'14 ציוד לצוות'!J15","v":0},{"$f":"'14 ציוד לצוות'!K15","v":0},{"$f":"IF(H225=0,\"\",'4 ציוד כללי'!L223)","v":""},{"$f":"'14 ציוד לצוות'!M15","v":0}]
[{"$f":"'14 ציוד לצוות'!B16","v":"סה\"כ ציוד לצוות (כולל מע\"מ)"},null,{"$f":"SUM(C217:C225)","v":0},null,{"$f":"A226","v":"סה\"כ ציוד לצוות (כולל מע\"מ)"},null,null,{"$f":"SUM(H217:H225)","v":0}]
[{"$f":"'2 תוכן עניינים'!C26","v":"ציוד נוסף"},null,null,null,{"$f":"A227","v":"ציוד נוסף"}]
[{"$f":"'15 ציוד נוסף'!B8","v":"טרמפולךינה"},{"$f":"'15 ציוד נוסף'!C8","v":4},{"$f":"'15 ציוד נוסף'!L8","v":0},null,{"$f":"'15 ציוד נוסף'!N8","v":0},{"$f":"'15 ציוד נוסף'!O8","v":0},{"$f":"IF(H228=0,\"\",'4 ציוד כללי'!L226)","v":""},{"$f":"'15 ציוד נוסף'!Q8","v":0}]
[{"$f":"'15 ציוד נוסף'!B9","v":"עיצוב פנים "},{"$f":"'15 ציוד נוסף'!C9","v":1},{"$f":"'15 ציוד נוסף'!L9","v":0},null,{"$f":"'15 ציוד נוסף'!N9","v":0},{"$f":"'15 ציוד נוסף'!O9","v":0},{"$f":"IF(H229=0,\"\",'4 ציוד כללי'!L227)","v":""},{"$f":"'15 ציוד נוסף'!Q9","v":0}]
[{"$f":"'15 ציוד נוסף'!B10","v":0},{"$f":"'15 ציוד נוסף'!C10","v":0},{"$f":"'15 ציוד נוסף'!L10","v":0},null,{"$f":"'15 ציוד נוסף'!N10","v":0},{"$f":"'15 ציוד נוסף'!O10","v":0},{"$f":"IF(H230=0,\"\",'4 ציוד כללי'!L228)","v":""},{"$f":"'15 ציוד נוסף'!Q10","v":0}]
[{"$f":"'15 ציוד נוסף'!B11","v":0},{"$f":"'15 ציוד נוסף'!C11","v":0},{"$f":"'15 ציוד נוסף'!L11","v":0},null,{"$f":"'15 ציוד נוסף'!N11","v":0},{"$f":"'15 ציוד נוסף'!O11","v":0},{"$f":"IF(H231=0,\"\",'4 ציוד כללי'!L229)","v":""},{"$f":"'15 ציוד נוסף'!Q11","v":0}]
[{"$f":"'15 ציוד נוסף'!B12","v":0},{"$f":"'15 ציוד נוסף'!C12","v":0},{"$f":"'15 ציוד נוסף'!L12","v":0},null,{"$f":"'15 ציוד נוסף'!N12","v":0},{"$f":"'15 ציוד נוסף'!O12","v":0},{"$f":"IF(H232=0,\"\",'4 ציוד כללי'!L230)","v":""},{"$f":"'15 ציוד נוסף'!Q12","v":0}]
[{"$f":"'15 ציוד נוסף'!B13","v":0},{"$f":"'15 ציוד נוסף'!C13","v":0},{"$f":"'15 ציוד נוסף'!L13","v":0},null,{"$f":"'15 ציוד נוסף'!N13","v":0},{"$f":"'15 ציוד נוסף'!O13","v":0},{"$f":"IF(H233=0,\"\",'4 ציוד כללי'!L231)","v":""},{"$f":"'15 ציוד נוסף'!Q13","v":0}]
[{"$f":"'15 ציוד נוסף'!B14","v":0},{"$f":"'15 ציוד נוסף'!C14","v":0},{"$f":"'15 ציוד נוסף'!L14","v":0},null,{"$f":"'15 ציוד נוסף'!N14","v":0},{"$f":"'15 ציוד נוסף'!O14","v":0},{"$f":"IF(H234=0,\"\",'4 ציוד כללי'!L232)","v":""},{"$f":"'15 ציוד נוסף'!Q14","v":0}]
[{"$f":"'15 ציוד נוסף'!B15","v":0},{"$f":"'15 ציוד נוסף'!C15","v":0},{"$f":"'15 ציוד נוסף'!L15","v":0},null,{"$f":"'15 ציוד נוסף'!N15","v":0},{"$f":"'15 ציוד נוסף'!O15","v":0},{"$f":"IF(H235=0,\"\",'4 ציוד כללי'!L233)","v":""},{"$f":"'15 ציוד נוסף'!Q15","v":0}]
[{"$f":"'15 ציוד נוסף'!B16","v":0},{"$f":"'15 ציוד נוסף'!C16","v":0},{"$f":"'15 ציוד נוסף'!L16","v":0},null,{"$f":"'15 ציוד נוסף'!N16","v":0},{"$f":"'15 ציוד נוסף'!O16","v":0},{"$f":"IF(H236=0,\"\",'4 ציוד כללי'!L234)","v":""},{"$f":"'15 ציוד נוסף'!Q16","v":0}]
[{"$f":"'15 ציוד נוסף'!B17","v":0},{"$f":"'15 ציוד נוסף'!C17","v":0},{"$f":"'15 ציוד נוסף'!L17","v":0},null,{"$f":"'15 ציוד נוסף'!N17","v":0},{"$f":"'15 ציוד נוסף'!O17","v":0},{"$f":"IF(H237=0,\"\",'4 ציוד כללי'!L235)","v":""},{"$f":"'15 ציוד נוסף'!Q17","v":0}]
[{"$f":"'15 ציוד נוסף'!B18","v":0},{"$f":"'15 ציוד נוסף'!C18","v":0},{"$f":"'15 ציוד נוסף'!L18","v":0},null,{"$f":"'15 ציוד נוסף'!N18","v":0},{"$f":"'15 ציוד נוסף'!O18","v":0},{"$f":"IF(H238=0,\"\",'4 ציוד כללי'!L236)","v":""},{"$f":"'15 ציוד נוסף'!Q18","v":0}]
[{"$f":"'15 ציוד נוסף'!B19","v":0},{"$f":"'15 ציוד נוסף'!C19","v":0},{"$f":"'15 ציוד נוסף'!L19","v":0},null,{"$f":"'15 ציוד נוסף'!N19","v":0},{"$f":"'15 ציוד נוסף'!O19","v":0},{"$f":"IF(H239=0,\"\",'4 ציוד כללי'!L237)","v":""},{"$f":"'15 ציוד נוסף'!Q19","v":0}]
[{"$f":"'15 ציוד נוסף'!B20","v":0},{"$f":"'15 ציוד נוסף'!C20","v":0},{"$f":"'15 ציוד נוסף'!L20","v":0},null,{"$f":"'15 ציוד נוסף'!N20","v":0},{"$f":"'15 ציוד נוסף'!O20","v":0},{"$f":"IF(H240=0,\"\",'4 ציוד כללי'!L238)","v":""},{"$f":"'15 ציוד נוסף'!Q20","v":0}]
[{"$f":"'15 ציוד נוסף'!B21","v":0},{"$f":"'15 ציוד נוסף'!C21","v":0},{"$f":"'15 ציוד נוסף'!L21","v":0},null,{"$f":"'15 ציוד נוסף'!N21","v":0},{"$f":"'15 ציוד נוסף'!O21","v":0},{"$f":"IF(H241=0,\"\",'4 ציוד כללי'!L239)","v":""},{"$f":"'15 ציוד נוסף'!Q21","v":0}]
[{"$f":"'15 ציוד נוסף'!B22","v":0},{"$f":"'15 ציוד נוסף'!C22","v":0},{"$f":"'15 ציוד נוסף'!L22","v":0},null,{"$f":"'15 ציוד נוסף'!N22","v":0},{"$f":"'15 ציוד נוסף'!O22","v":0},{"$f":"IF(H242=0,\"\",'4 ציוד כללי'!L240)","v":""},{"$f":"'15 ציוד נוסף'!Q22","v":0}]
[{"$f":"'15 ציוד נוסף'!B23","v":0},{"$f":"'15 ציוד נוסף'!C23","v":0},{"$f":"'15 ציוד נוסף'!L23","v":0},null,{"$f":"'15 ציוד נוסף'!N23","v":0},{"$f":"'15 ציוד נוסף'!O23","v":0},{"$f":"IF(H243=0,\"\",'4 ציוד כללי'!L241)","v":""},{"$f":"'15 ציוד נוסף'!Q23","v":0}]
[{"$f":"'15 ציוד נוסף'!B24","v":0},{"$f":"'15 ציוד נוסף'!C24","v":0},{"$f":"'15 ציוד נוסף'!L24","v":0},null,{"$f":"'15 ציוד נוסף'!N24","v":0},{"$f":"'15 ציוד נוסף'!O24","v":0},{"$f":"IF(H244=0,\"\",'4 ציוד כללי'!L242)","v":""},{"$f":"'15 ציוד נוסף'!Q24","v":0}]
[{"$f":"'15 ציוד נוסף'!B25","v":0},{"$f":"'15 ציוד נוסף'!C25","v":0},{"$f":"'15 ציוד נוסף'!L25","v":0},null,{"$f":"'15 ציוד נוסף'!N25","v":0},{"$f":"'15 ציוד נוסף'!O25","v":0},{"$f":"IF(H245=0,\"\",'4 ציוד כללי'!L243)","v":""},{"$f":"'15 ציוד נוסף'!Q25","v":0}]
[{"$f":"'15 ציוד נוסף'!B26","v":0},{"$f":"'15 ציוד נוסף'!C26","v":0},{"$f":"'15 ציוד נוסף'!L26","v":0},null,{"$f":"'15 ציוד נוסף'!N26","v":0},{"$f":"'15 ציוד נוסף'!O26","v":0},{"$f":"IF(H246=0,\"\",'4 ציוד כללי'!L244)","v":""},{"$f":"'15 ציוד נוסף'!Q26","v":0}]
[{"$f":"'15 ציוד נוסף'!B27","v":0},{"$f":"'15 ציוד נוסף'!C27","v":0},{"$f":"'15 ציוד נוסף'!L27","v":0},null,{"$f":"'15 ציוד נוסף'!N27","v":0},{"$f":"'15 ציוד נוסף'!O27","v":0},{"$f":"IF(H247=0,\"\",'4 ציוד כללי'!L245)","v":""},{"$f":"'15 ציוד נוסף'!Q27","v":0}]
[{"$f":"'15 ציוד נוסף'!B28","v":0},{"$f":"'15 ציוד נוסף'!C28","v":0},{"$f":"'15 ציוד נוסף'!L28","v":0},null,{"$f":"'15 ציוד נוסף'!N28","v":0},{"$f":"'15 ציוד נוסף'!O28","v":0},{"$f":"IF(H248=0,\"\",'4 ציוד כללי'!L246)","v":""},{"$f":"'15 ציוד נוסף'!Q28","v":0}]
[{"$f":"'15 ציוד נוסף'!B29","v":"סה\"כ  ציוד נוסף(כולל מע\"מ)"},null,{"$f":"SUM(C228:C248)","v":0},null,{"$f":"A249","v":"סה\"כ  ציוד נוסף(כולל מע\"מ)"},null,null,{"$f":"SUM(H228:H248)","v":0}]
[]
["סה\"כ רכש כולל מע\"מ",null,{"$f":"C24+C47+C68+C91+C103+C124+C142+C159+C186+C215+C226+C249","v":0},null,{"$f":"A251","v":"סה\"כ רכש כולל מע\"מ"},null,null,{"$f":"H24+H47+H68+H91+H103+H124+H142+H159+H186+H215+H226+H249","v":0}]