Workbook
Name BedroomType: #REF!
Name BedroomType: #REF!

Sheet פתיח
B1: תקן ציוד כללי בסיסי למרכזי פעילות יומית לאנשים עם מוגבלות- מרחבים
B3: גירסה עדכנית לתאריך | E3: 1.9.2026
B5: רקע:
B6: בעשור האחרון חל פיתוח מואץ, בהקמת מסגרות יום בקהילה, עבור אנשים בוגרים (21+) עם מוגבלות, מתוך תפיסה הדוגלת בשילובם בקהילה, ובמתן פתרונות ומענים מגוונים, לבחירה של הפרט ובני משפחתו.
B7: מודל מרחבים, מיועד לאנשים עם מוגבלות הזקוקים לרמות תמיכה בינוניות וגבוהות, מגיל 21 ומעלה.
B8: במסגרת ניתנים: פעילות יומית, שירותי תמיכה וטיפול, העשרה ופנאי מגוונים בשעות היום.
B9: מסמך זה נועד לפשט את תהליך הגשת הבקשות לקרנות לסיוע במימון ציוד בסיסי למרכזי פעילות יומית- מרחבים.
B10: מטרת המסמך:
B11: קביעת תקן ריהוט וציוד כללי בסיסי, למרכזי פעילות יומית- מרחבים.
B12: מדובר באוכלוסייה הזקוקה לתמיכות רבות בחיי היום – יום. המסגרות מוכרות ומתוקצבות ע"י משרד העבודה והרווחה והשרותים החברתיים.
B13: המסמך נועד:
B14: א. להגדיר תחומי והיקף הסיוע של הקרן עבור הציוד הנדרש למסגרות.
B15: ב. לסייע לאנשי מקצוע למקד את הצרכים בציוד בעת הקמת מסגרת חדשה או בשדרוג מסגרת קיימת.
B16: ג. לקבוע מסגרת תקציבית בהתאם לגודל וסוג המסגרת.
... B20: * סדנאות - התקן מאפשר בחירה בין מגוון סדנאות ובהתאם לתוכנית ההפעלה של המסגרת.
C21: הציוד לסדנאות כולל ריהוט מתאים: כיסאות, שולחנות וארונות המותאמים לכמות האנשים בסדנה.
C22: הציוד לסדנאות לא יכלול ציוד מתכלה.
B24: הנחיות להגשת הבקשה:
B25: בקשת הריהוט והציוד תוגש באמצעות קובץ האקסל המצורף למסמך זה. יש לסמן את הריהוט והציוד המבוקש על גבי הטבלאות.
B26: * יש לתת עדיפות לרכישת פריטים מתוצרת הארץ.
B27: * ברכישת הציוד יש להיצמד למחירים המופיעים בתקן.
B28: * הטבלה כוללת עלויות הובלה והתקנת הציוד.
B29: * הציוד המבוקש צריך להיות מתאים למטרות ותפעול המסגרת, מספר האנשים, כמות ומידות החדרים והחללים, ולשטח החצרות.
B30: * בתכנון הרכש יש להתייחס לתקני איכות ובטיחות עדכניים.
B31: * התקן נקוב בש"ח וכולל מע"מ.
B33: מבקש הציוד מתבקש למלא רק את התאים הממורקרים בצהוב בלבד.
B34: מבקש הציוד מתבקש למלא תחילה את ה"שאלון למילוי מגיש הבקשה" במלואו.

Sheet שאלון למילוי הבקשה - חובה
B1: =פתיח!$B$1&": גירסת- "&פתיח!$E$3 -> תקן ציוד כללי בסיסי למרכזי פעילות יומית לאנשים עם מוגבלות- מרחבים: גירסת- 1.9.2026
B3: שאלון למילוי ע"י מגיש הבקשה:
B4: פרטי הגוף המבקש
C5: תאריך הגשת הבקשה: | F5: =IF(D5="","יש למלא","") -> יש למלא
C7: שם הגוף המבקש: | F7: =IF(D7="","יש למלא","") -> יש למלא
C9: כתובת הגוף המבקש: | F9: =IF(D9="","יש למלא","") -> יש למלא
C11: איש קשר בגוף המבקש: | F11: =IF(D11="","יש למלא","") -> יש למלא
C13: טלפון איש קשר בגוף המבקש: | F13: =IF(D13="","יש למלא","") -> יש למלא
C15: מייל איש קשר בגוף המבקש: | F15: =IF(D15="","יש למלא","") -> יש למלא
B17: פרטי המסגרת
C18: שם המסגרת: | F18: =IF(D18="","יש למלא","") -> יש למלא
C20: כתובת המסגרת: | F20: =IF(D20="","יש למלא","") -> יש למלא
C22: איש קשר במסגרת: | F22: =IF(D22="","יש למלא","") -> יש למלא
C24: טלפון איש קשר במסגרת: | F24: =IF(D24="","יש למלא","") -> יש למלא
C26: מייל איש קשר במסגרת: | F26: =IF(D26="","יש למלא","") -> יש למלא
B28: מאפייני המקום
C29: דירוג סוציואקונומי של הישוב: | E29: לא נקבע עפ"י זה- לתקן נוסחה | F29: =IF(D29="","יש לבחור מתוך רשימה","") -> יש לבחור מתוך רשימה
C31: קו עימות: | E31: לא נקבע עפ"י זה- לתקן נוסחה | F31: =IF(D31="","יש לבחור מתוך רשימה","") -> יש לבחור מתוך רשימה
C33: מספר האנשים שעבורם מיועד הפרויקט (בין 20 ל-25): | E33: =IF(D33<20,"מספר האנשים בין 20 ל 25",IF(D33>25,"מספר האנשים בין 20 ל 25","")) -> מספר האנשים בין 20 ל 25 | F33: =IF(D33="","יש למלא","") -> יש למלא
C35: מספר חדרי קבוצות כולל חדרי פעילות וסדנאות: | F35: =IF(D35="","יש למלא","") -> יש למלא
B37: הערות והסברים למילוי הבקשה:
C38: נא למלא את השאלון לעיל לפני מעבר לכתב הכמויות
C39: הגוף המבקש מתבקש למלא פרטים רק בתאים המסומנים בצבע צהוב. אין לגעת בתאים אחרים.
C40: כל המחירים והעלויות להלן נקובים בש"ח וכוללים מע"מ.
C41: התקנת חלק מהציוד דורשת עבודות פיתוח, תשתיות ושיפוץ. במסגרת התקן לא ינתן מימון לעבודות הנ"ל
C42: המחירים כוללים הובלה והתקנה של הציוד

Sheet ציוד לחדרי קבוצות
B1: ='שאלון למילוי הבקשה - חובה'!B1 -> תקן ציוד כללי בסיסי למרכזי פעילות יומית לאנשים עם מוגבלות- מרחבים: גירסת- 1.9.2026
B2: ='שאלון למילוי הבקשה - חובה'!$C$7 -> שם הגוף המבקש: | D2: ='שאלון למילוי הבקשה - חובה'!$D$7 -> 0
B3: ='שאלון למילוי הבקשה - חובה'!$C$18 -> שם המסגרת: | D3: ='שאלון למילוי הבקשה - חובה'!$D$18 -> 0
B4: ='שאלון למילוי הבקשה - חובה'!$C$33 -> מספר האנשים שעבורם מיועד הפרויקט (בין 20 ל-25): | D4: ='שאלון למילוי הבקשה - חובה'!$D$33 -> 0 | E4: =IF(D4<20,"מספר האנשים בין 20 ל 25",IF(D4>25,"מספר האנשים בין 20 ל 25","")) -> מספר האנשים בין 20 ל 25
B5: ='שאלון למילוי הבקשה - חובה'!$C$35 -> מספר חדרי קבוצות כולל חדרי פעילות וסדנאות: | D5: ='שאלון למילוי הבקשה - חובה'!$D$35 -> 0
B6: הנחיות והערות למילוי הבקשה
B7: כמויות התקן משתנות בהתאם למספר האנשים במסגרת ומספר חדרי קבוצות.
B8: מבקש הציוד מתבקש למלא רק את התאים הממורקרים בצהוב.
B9: כל המחירים והעלויות להלן נקובים בש"ח וכוללים מע"מ
A10: 1 | B10: ציוד וריהוט לחדרי קבוצות
A11: 1.1 | B11: ציוד וריהוט חדרי קבוצות - תקן | G11: ציוד חדרי קבוצות - בקשה | K11: שלב 1 | M11: דוח הוצאות כספי מפורט - שלבים 2 ואילך
A12: מס' | B12: ציוד | C12: הערות | D12: כמות תקן | E12: מחיר התקן ליחידה כולל מע"מ | F12: עלות ציוד התקן כולל מע"מ | G12: כמות הציוד המבוקש | H12: סך עלות הציוד המבוקש כולל מע"מ | I12: התראת חריגה | J12: הערות/ הסבר חריגות | K12: צפי עלות רכישה כולל מע"מ | L12: שם הספק | M12: פירוט מהות ההוצאה - הציוד שנרכש / השרות שניתן | N12: מס' חשבונית מס / קבלה | O12: תאריך הוצאה | P12: סכום הוצאה בש"ח וכולל מע"מ | Q12: סכום חריגה מהתקציב - הפרש בין הסכום שנרכש בפועל לעלות שאושרה בהסכם | R12: שיעור ההפרש | S12: הערות לחריגה | T12: בדיקה והערות של היועץ מתאריך | U12: נבדק בשלב 2/3
A13: 1 | B13: כסא | C13: לפי מספר מקבלי שירות והצוות הטיפולי | D13: =ROUNDUP('שאלון למילוי הבקשה - חובה'!$D$33*7/6,0) -> 0 | E13: 600 | F13: =D13*E13 -> 0 | H13: =E13*G13 -> 0 | I13: =IF(G13>D13,"נא להסביר חריגה","") | Q13: =IF(P13="",0,P13-H13) -> 0 | R13: =IF(H13=0,0,Q13/H13) -> 0
A14: 2 | B14: שולחן | C14: לפי 4 אנשים לשולחן כולל צוות טיפולי | D14: =ROUNDUP('שאלון למילוי הבקשה - חובה'!$D$33/4,0) -> 0 | E14: 4000 | F14: =D14*E14 -> 0 | H14: =E14*G14 -> 0 | I14: =IF(G14>D14,"נא להסביר חריגה","") | Q14: =IF(P14="",0,P14-H14) -> 0 | R14: =IF(H14=0,0,Q14/H14) -> 0
A15: 3 | B15: שולחן מחשב | C15: לפי מספר חדרים | D15: =ROUNDUP('שאלון למילוי הבקשה - חובה'!$D$33/10,0) -> 0 | E15: 1200 | F15: =D15*E15 -> 0 | H15: =E15*G15 -> 0 | I15: =IF(G15>D15,"נא להסביר חריגה","") | Q15: =IF(P15="",0,P15-H15) -> 0 | R15: =IF(H15=0,0,Q15/H15) -> 0
A16: 4 | B16: כורסא | C16: אחד לעשרה אנשים | D16: =ROUNDUP('שאלון למילוי הבקשה - חובה'!$D$33/10,0) -> 0 | E16: 3500 | F16: =D16*E16 -> 0 | H16: =E16*G16 -> 0 | I16: =IF(G16>D16,"נא להסביר חריגה","") | Q16: =IF(P16="",0,P16-H16) -> 0 | R16: =IF(H16=0,0,Q16/H16) -> 0
A17: 5 | B17: ארון איחסון | C17: אחד לעשרה אנשים | D17: =ROUNDUP('שאלון למילוי הבקשה - חובה'!$D$33/10,0) -> 0 | E17: 4500 | F17: =D17*E17 -> 0 | H17: =E17*G17 -> 0 | I17: =IF(G17>D17,"נא להסביר חריגה","") | Q17: =IF(P17="",0,P17-H17) -> 0 | R17: =IF(H17=0,0,Q17/H17) -> 0
A18: 6 | B18: מדפים | C18: יחידה לעשרה אנשים | D18: =ROUNDUP('שאלון למילוי הבקשה - חובה'!$D$33/10,0) -> 0 | E18: 1500 | F18: =D18*E18 -> 0 | H18: =E18*G18 -> 0 | I18: =IF(G18>D18,"נא להסביר חריגה","") | Q18: =IF(P18="",0,P18-H18) -> 0 | R18: =IF(H18=0,0,Q18/H18) -> 0
A19: 7 | B19: לוקרים | C19: כמות תאים לפי מס' אנשים בתוספת 10% | D19: =ROUNDUP('שאלון למילוי הבקשה - חובה'!$D$33*1.1,0) -> 0 | E19: 500 | F19: =D19*E19 -> 0 | H19: =E19*G19 -> 0 | I19: =IF(G19>D19,"נא להסביר חריגה","") | Q19: =IF(P19="",0,P19-H19) -> 0 | R19: =IF(H19=0,0,Q19/H19) -> 0
A20: 8 | B20: מראה | C20: לפי מספר חדרים בתוספת אחד לחללים משותפים | D20: ='שאלון למילוי הבקשה - חובה'!$D$35+1 -> 1 | E20: 400 | F20: =D20*E20 -> 400 | H20: =E20*G20 -> 0 | I20: =IF(G20>D20,"נא להסביר חריגה","") | Q20: =IF(P20="",0,P20-H20) -> 0 | R20: =IF(H20=0,0,Q20/H20) -> 0
A21: 9 | B21: שעון קיר | C21: לפי מספר חדרים בתוספת אחד לחללים משותפים | D21: ='שאלון למילוי הבקשה - חובה'!$D$35+1 -> 1 | E21: 200 | F21: =D21*E21 -> 200 | H21: =E21*G21 -> 0 | I21: =IF(G21>D21,"נא להסביר חריגה","") | Q21: =IF(P21="",0,P21-H21) -> 0 | R21: =IF(H21=0,0,Q21/H21) -> 0
A22: 10 | B22: וילונות חסיני אש | C22: לפי 6000 ש' לחדר פעילות ובתוספת 50% לחללים משותפים | D22: =ROUNDUP('שאלון למילוי הבקשה - חובה'!$D$35*1.5,0) -> 0 | E22: 6000 | F22: =D22*E22 -> 0 | H22: =E22*G22 -> 0 | I22: =IF(G22>D22,"נא להסביר חריגה","") | Q22: =IF(P22="",0,P22-H22) -> 0 | R22: =IF(H22=0,0,Q22/H22) -> 0
A23: 11 | B23: שילוט פנימי | C23: לפי מספר חדרים בתוספת 30% לחללים משותפים | D23: =ROUNDUP('שאלון למילוי הבקשה - חובה'!$D$35*1.3,0) -> 0 | E23: 300 | F23: =D23*E23 -> 0 | H23: =E23*G23 -> 0 | I23: =IF(G23>D23,"נא להסביר חריגה","") | Q23: =IF(P23="",0,P23-H23) -> 0 | R23: =IF(H23=0,0,Q23/H23) -> 0
B24: סך ציוד וריהוט לחדר קבוצה | F24: =SUM(F13:F23) -> 600 | H24: =SUM(H13:H23) -> 0 | K24: =SUM(K13:K23) -> 0 | P24: =SUM(P13:P23) -> 0 | Q24: =SUM(Q13:Q23) -> 0 | R24: =IF(H24=0,0,Q24/H24) -> 0
A26: 1.2 | B26: מחשבים וציוד מולטימדיה לחדרי קבוצות - תקן | G26: מחשבים וציוד מולטימדיה לחדרי קבוצות - בקשה | K26: שלב 1 | M26: דוח הוצאות כספי מפורט - שלבים 2 ואילך
A27: =A$12 -> מס' | B27: =B$12 -> ציוד | D27: =D$12 -> כמות תקן | E27: =E$12 -> מחיר התקן ליחידה כולל מע"מ | F27: =F$12 -> עלות ציוד התקן כולל מע"מ | G27: =G$12 -> כמות הציוד המבוקש | H27: =H$12 -> סך עלות הציוד המבוקש כולל מע"מ | I27: =I$12 -> התראת חריגה | J27: =J$12 -> הערות/ הסבר חריגות | K27: צפי עלות רכישה כולל מע"מ | L27: שם הספק | M27: פירוט מהות ההוצאה - הציוד שנרכש / השרות שניתן | N27: מס' חשבונית מס / קבלה | O27: תאריך הוצאה | P27: סכום הוצאה בש"ח וכולל מע"מ | Q27: סכום חריגה מהתקציב - הפרש בין הסכום שנרכש בפועל לעלות שאושרה בהסכם | R27: שיעור ההפרש | S27: הערות לחריגה | T27: בדיקה והערות של היועץ מתאריך | U27: נבדק בשלב 2/3
A28: 1 | B28: מחשב קומפלט | D28: 1 | E28: 5000 | F28: =D28*E28 -> 5000 | H28: =E28*G28 -> 0 | I28: =IF(G28>D28,"נא להסביר חריגה","") | Q28: =IF(P28="",0,P28-H28) -> 0 | R28: =IF(H28=0,0,Q28/H28) -> 0
A29: 2 | B29: מדפסת משולבת | D29: 1 | E29: 1500 | F29: =D29*E29 -> 1500 | H29: =E29*G29 -> 0 | I29: =IF(G29>D29,"נא להסביר חריגה","") | Q29: =IF(P29="",0,P29-H29) -> 0 | R29: =IF(H29=0,0,Q29/H29) -> 0
A30: 3 | B30: טלוויזיה כולל מגן | D30: 2 | E30: 6000 | F30: =D30*E30 -> 12000 | H30: =E30*G30 -> 0 | I30: =IF(G30>D30,"נא להסביר חריגה","") | Q30: =IF(P30="",0,P30-H30) -> 0 | R30: =IF(H30=0,0,Q30/H30) -> 0
B31: סך מחשבים וציוד מולטימדיה | F31: =SUM(F28:F30) -> 18500 | H31: =SUM(H28:H30) -> 0 | I31: =IF(G31>D31,"נא להסביר חריגה כאן","") | K31: =SUM(K28:K30) -> 0 | P31: =SUM(P28:P30) -> 0 | Q31: =SUM(Q28:Q30) -> 0 | R31: =IF(H31=0,0,Q31/H31) -> 0
A33: 1.3 | B33: ציוד גן, חצר ומרפסות - תקן | G33: ציוד גן, חצר ומרפסות - בקשה | K33: שלב 1 | M33: דוח הוצאות כספי מפורט - שלבים 2 ואילך
A34: =A$12 -> מס' | B34: =B$12 -> ציוד | D34: =D$12 -> כמות תקן | E34: =E$12 -> מחיר התקן ליחידה כולל מע"מ | F34: =F$12 -> עלות ציוד התקן כולל מע"מ | G34: =G$12 -> כמות הציוד המבוקש | H34: =H$12 -> סך עלות הציוד המבוקש כולל מע"מ | I34: =I$12 -> התראת חריגה | J34: =J$12 -> הערות/ הסבר חריגות | K34: צפי עלות רכישה כולל מע"מ | L34: שם הספק | M34: פירוט מהות ההוצאה - הציוד שנרכש / השרות שניתן | N34: מס' חשבונית מס / קבלה | O34: תאריך הוצאה | P34: סכום הוצאה בש"ח וכולל מע"מ | Q34: סכום חריגה מהתקציב - הפרש בין הסכום שנרכש בפועל לעלות שאושרה בהסכם | R34: שיעור ההפרש | S34: הערות לחריגה | T34: בדיקה והערות של היועץ מתאריך | U34: נבדק בשלב 2/3
A35: 1 | B35: שמשיה | C35: גודל כ- 3*2=6 מ"ר, כמות: אחד לעשרה אנשים | D35: =ROUNDUP('שאלון למילוי הבקשה - חובה'!$D$33/10,0) -> 0 | E35: 6000 | F35: =D35*E35 -> 0 | H35: =E35*G35 -> 0 | I35: =IF(G35>D35,"נא להסביר חריגה","") | Q35: =IF(P35="",0,P35-H35) -> 0 | R35: =IF(H35=0,0,Q35/H35) -> 0
A36: 2 | B36: פינת ישיבה למרפסת | C36: אחד לעשרה אנשים | D36: =ROUNDUP('שאלון למילוי הבקשה - חובה'!$D$33/10,0) -> 0 | E36: 5000 | F36: =D36*E36 -> 0 | H36: =E36*G36 -> 0 | I36: =IF(G36>D36,"נא להסביר חריגה","") | Q36: =IF(P36="",0,P36-H36) -> 0 | R36: =IF(H36=0,0,Q36/H36) -> 0
B37: סך ציוד גן, חצר ומרפסות | F37: =SUM(F35:F36) -> 0 | H37: =SUM(H35:H36) -> 0 | I37: =IF(G37>D37,"נא להסביר חריגה כאן","") | K37: =SUM(K35:K36) -> 0 | P37: =SUM(P35:P36) -> 0 | Q37: =SUM(Q35:Q36) -> 0 | R37: =IF(H37=0,0,Q37/H37) -> 0
A39: 1.4 | B39: ציוד סניטריה לחדרי שרותים - תקן | G39: ציוד סניטריה לחדרי שרותים - בקשה | K39: שלב 1 | M39: דוח הוצאות כספי מפורט - שלבים 2 ואילך
A40: =A$12 -> מס' | B40: =B$12 -> ציוד | D40: =D$12 -> כמות תקן | E40: =E$12 -> מחיר התקן ליחידה כולל מע"מ | F40: =F$12 -> עלות ציוד התקן כולל מע"מ | G40: =G$12 -> כמות הציוד המבוקש | H40: =H$12 -> סך עלות הציוד המבוקש כולל מע"מ | I40: =I$12 -> התראת חריגה | J40: =J$12 -> הערות/ הסבר חריגות | K40: צפי עלות רכישה כולל מע"מ | L40: שם הספק | M40: פירוט מהות ההוצאה - הציוד שנרכש / השרות שניתן | N40: מס' חשבונית מס / קבלה | O40: תאריך הוצאה | P40: סכום הוצאה בש"ח וכולל מע"מ | Q40: סכום חריגה מהתקציב - הפרש בין הסכום שנרכש בפועל לעלות שאושרה בהסכם | R40: שיעור ההפרש | S40: הערות לחריגה | T40: בדיקה והערות של היועץ מתאריך | U40: נבדק בשלב 2/3
A41: 1 | B41: אביזרים לחדרי שירותים או רחצה | C41: לפי מס' חדרים בתוספת 30% לחללים משותפים | D41: =ROUNDUP(1.3*D5,0) -> 0 | E41: 1500 | F41: =D41*E41 -> 0 | H41: =E41*G41 -> 0 | I41: =IF(G41>D41,"נא להסביר חריגה","") | Q41: =IF(P41="",0,P41-H41) -> 0 | R41: =IF(H41=0,0,Q41/H41) -> 0
A43: סך | B43: =B10 -> ציוד וריהוט לחדרי קבוצות
B44: =B43 -> ציוד וריהוט לחדרי קבוצות | F44: =F$12 -> עלות ציוד התקן כולל מע"מ | H44: =H$12 -> סך עלות הציוד המבוקש כולל מע"מ | K44: =K$12 -> צפי עלות רכישה כולל מע"מ | P44: =P$12 -> סכום הוצאה בש"ח וכולל מע"מ | Q44: =Q$12 -> סכום חריגה מהתקציב - הפרש בין הסכום שנרכש בפועל לעלות שאושרה בהסכם | R44: שיעור ההפרש
B45: סה"כ וכולל מע"מ | F45: =F24+F31+F37+F41 -> 19100 | H45: =H24+H31+H37+H41 -> 0 | K45: =K24+K31+K37+K41 -> 0 | P45: =P24+P31+P37+P41 -> 0 | Q45: =Q24+Q31+Q37+Q41 -> 0 | R45: =IF(H45=0,0,Q45/H45) -> 0

Sheet ציוד כללי
B1: ='שאלון למילוי הבקשה - חובה'!B1 -> תקן ציוד כללי בסיסי למרכזי פעילות יומית לאנשים עם מוגבלות- מרחבים: גירסת- 1.9.2026
B2: ='שאלון למילוי הבקשה - חובה'!$C$7 -> שם הגוף המבקש: | D2: ='שאלון למילוי הבקשה - חובה'!$D$7 -> 0
B3: ='שאלון למילוי הבקשה - חובה'!$C$18 -> שם המסגרת: | D3: ='שאלון למילוי הבקשה - חובה'!$D$18 -> 0
B4: ='שאלון למילוי הבקשה - חובה'!$C$33 -> מספר האנשים שעבורם מיועד הפרויקט (בין 20 ל-25): | D4: ='שאלון למילוי הבקשה - חובה'!$D$33 -> 0 | E4: =IF(D4<20,"מספר האנשים בין 20 ל 25",IF(D4>25,"מספר האנשים בין 20 ל 25","")) -> מספר האנשים בין 20 ל 25
B5: ='שאלון למילוי הבקשה - חובה'!$C$35 -> מספר חדרי קבוצות כולל חדרי פעילות וסדנאות: | D5: ='שאלון למילוי הבקשה - חובה'!$D$35 -> 0
B6: הנחיות והערות למילוי הבקשה
B7: ='ציוד לחדרי קבוצות'!B7 -> כמויות התקן משתנות בהתאם למספר האנשים במסגרת ומספר חדרי קבוצות.
B8: ='ציוד לחדרי קבוצות'!B8 -> מבקש הציוד מתבקש למלא רק את התאים הממורקרים בצהוב.
B9: ='ציוד לחדרי קבוצות'!B9 -> כל המחירים והעלויות להלן נקובים בש"ח וכוללים מע"מ
A10: 2 | B10: ציוד כללי לחללים משותפים וציוד נוסף
A11: 2.1 | B11: ריהוט וציוד חללים משותפים - תקן | G11: ריהוט וציוד חללים משותפים - בקשה | K11: שלב 1 | M11: דוח הוצאות כספי מפורט - שלבים 2 ואילך
A12: מס' | B12: ציוד | D12: כמות | E12: מחיר ליחידה | F12: עלות הציוד | G12: כמות הציוד המבוקש | H12: סך עלות הציוד המבוקש | I12: התראת חריגה | J12: הערות/ הסבר חריגות | K12: צפי עלות רכישה כולל מע"מ | L12: שם הספק | M12: פירוט מהות ההוצאה - הציוד שנרכש / השרות שניתן | N12: מס' חשבונית מס / קבלה | O12: תאריך הוצאה | P12: סכום הוצאה בש"ח וכולל מע"מ | Q12: סכום חריגה מהתקציב - הפרש בין הסכום שנרכש בפועל לעלות שאושרה בהסכם | R12: שיעור ההפרש | S12: הערות לחריגה | T12: בדיקה והערות של היועץ מתאריך | U12: נבדק בשלב 2/3
A13: 1 | B13: פינת ישיבה | D13: =IF('שאלון למילוי הבקשה - חובה'!$D$33<31,1,IF('שאלון למילוי הבקשה - חובה'!$D$33<61,2,3)) -> 1 | E13: 12000 | F13: =D13*E13 -> 12000 | H13: =E13*G13 -> 0 | I13: =IF(G13>D13,"נא להסביר חריגה","") | Q13: =IF(P13="",0,P13-H13) -> 0 | R13: =IF(H13=0,0,Q13/H13) -> 0
A14: 2 | B14: מדפים | D14: =IF('שאלון למילוי הבקשה - חובה'!$D$33<31,3,IF('שאלון למילוי הבקשה - חובה'!$D$33<61,6,8)) -> 3 | E14: 1500 | F14: =D14*E14 -> 4500 | H14: =E14*G14 -> 0 | I14: =IF(G14>D14,"נא להסביר חריגה","") | Q14: =IF(P14="",0,P14-H14) -> 0 | R14: =IF(H14=0,0,Q14/H14) -> 0
A15: 3 | B15: אביזרי עיצוב | D15: 1 | E15: =IF('שאלון למילוי הבקשה - חובה'!$D$33<31,25000,IF('שאלון למילוי הבקשה - חובה'!$D$33<61,30000,40000)) -> 25000 | F15: =D15*E15 -> 25000 | H15: =E15*G15 -> 0 | I15: =IF(G15>D15,"נא להסביר חריגה","") | Q15: =IF(P15="",0,P15-H15) -> 0 | R15: =IF(H15=0,0,Q15/H15) -> 0
B16: סך ריהוט וציוד חללים משותפים | F16: =SUM(F13:F15) -> 41500 | H16: =SUM(H13:H15) -> 0 | K16: =SUM(K13:K15) -> 0 | P16: =SUM(P13:P15) -> 0 | Q16: =SUM(Q13:Q15) -> 0 | R16: =IF(H16=0,0,Q16/H16) -> 0
A18: 2.2 | B18: שירותי אדריכלות ועיצוב פנים - תקן | G18: שירותי אדריכלות ועיצוב פנים - בקשה | K18: שלב 1 | M18: דוח הוצאות כספי מפורט - שלבים 2 ואילך
A19: מס' | B19: ציוד | D19: כמות | E19: מחיר ליחידה | F19: עלות הציוד | G19: כמות הציוד המבוקש | H19: סך עלות הציוד המבוקש | I19: התראת חריגה | J19: הערות/ הסבר חריגות | K19: צפי עלות רכישה כולל מע"מ | L19: שם הספק | M19: פירוט מהות ההוצאה - הציוד שנרכש / השרות שניתן | N19: מס' חשבונית מס / קבלה | O19: תאריך הוצאה | P19: סכום הוצאה בש"ח וכולל מע"מ | Q19: סכום חריגה מהתקציב - הפרש בין הסכום שנרכש בפועל לעלות שאושרה בהסכם | R19: שיעור ההפרש | S19: הערות לחריגה | T19: בדיקה והערות של היועץ מתאריך | U19: נבדק בשלב 2/3
A20: 1 | B20: שירותי עיצוב פנים | D20: 1 | E20: =IF('שאלון למילוי הבקשה - חובה'!$D$33<31,25000,IF('שאלון למילוי הבקשה - חובה'!$D$33<61,50000,70000)) -> 25000 | F20: =D20*E20 -> 25000 | H20: =E20*G20 -> 0 | I20: =IF(G20>D20,"נא להסביר חריגה","") | Q20: =IF(P20="",0,P20-H20) -> 0 | R20: =IF(H20=0,0,Q20/H20) -> 0
A22: 2.3 | B22: ציוד מולטימדיה כללי - תקן | G22: ציוד מולטימדיה כללי - בקשה | K22: שלב 1 | M22: דוח הוצאות כספי מפורט - שלבים 2 ואילך
A23: מס' | B23: ציוד | D23: כמות | E23: מחיר ליחידה | F23: עלות הציוד | G23: כמות הציוד המבוקש | H23: סך עלות הציוד המבוקש | I23: התראת חריגה | J23: הערות/ הסבר חריגות | K23: צפי עלות רכישה כולל מע"מ | L23: שם הספק | M23: פירוט מהות ההוצאה - הציוד שנרכש / השרות שניתן | N23: מס' חשבונית מס / קבלה | O23: תאריך הוצאה | P23: סכום הוצאה בש"ח וכולל מע"מ | Q23: סכום חריגה מהתקציב - הפרש בין הסכום שנרכש בפועל לעלות שאושרה בהסכם | R23: שיעור ההפרש | S23: הערות לחריגה | T23: בדיקה והערות של היועץ מתאריך | U23: נבדק בשלב 2/3
A24: 1 | B24: מערכת הקרנה ומסך חשמלי | D24: 1 | E24: =IF('שאלון למילוי הבקשה - חובה'!$D$33<31,8000,IF('שאלון למילוי הבקשה - חובה'!$D$33<61,12000,15000)) -> 8000 | F24: =D24*E24 -> 8000 | H24: =E24*G24 -> 0 | I24: =IF(G24>D24,"נא להסביר חריגה","") | Q24: =IF(P24="",0,P24-H24) -> 0 | R24: =IF(H24=0,0,Q24/H24) -> 0
A25: 2 | B25: מחשב קומפלט | D25: =IF('שאלון למילוי הבקשה - חובה'!$D$33<31,1,IF('שאלון למילוי הבקשה - חובה'!$D$33<61,2,3)) -> 1 | E25: 5000 | F25: =D25*E25 -> 5000 | H25: =E25*G25 -> 0 | I25: =IF(G25>D25,"נא להסביר חריגה","") | Q25: =IF(P25="",0,P25-H25) -> 0 | R25: =IF(H25=0,0,Q25/H25) -> 0
A26: 3 | B26: ציוד הגברה | D26: 1 | E26: =IF('שאלון למילוי הבקשה - חובה'!$D$33<31,7000,IF('שאלון למילוי הבקשה - חובה'!$D$33<61,10000,15000)) -> 7000 | F26: =D26*E26 -> 7000 | H26: =E26*G26 -> 0 | I26: =IF(G26>D26,"נא להסביר חריגה","") | Q26: =IF(P26="",0,P26-H26) -> 0 | R26: =IF(H26=0,0,Q26/H26) -> 0
B27: סך ציוד מולטימדיה | F27: =SUM(F24:F26) -> 20000 | H27: =SUM(H24:H26) -> 0 | K27: =SUM(K24:K26) -> 0 | P27: =SUM(P24:P26) -> 0 | Q27: =SUM(Q24:Q26) -> 0 | R27: =IF(H27=0,0,Q27/H27) -> 0
A29: 2.4 | B29: ציוד אחזקת המתחם - תקן | G29: ציוד אחזקת המתחם - בקשה | K29: שלב 1 | M29: דוח הוצאות כספי מפורט - שלבים 2 ואילך
A30: מס' | B30: ציוד | D30: כמות | E30: מחיר ליחידה | F30: עלות הציוד | G30: כמות הציוד המבוקש | H30: סך עלות הציוד המבוקש | I30: התראת חריגה | J30: הערות/ הסבר חריגות | K30: צפי עלות רכישה כולל מע"מ | L30: שם הספק | M30: פירוט מהות ההוצאה - הציוד שנרכש / השרות שניתן | N30: מס' חשבונית מס / קבלה | O30: תאריך הוצאה | P30: סכום הוצאה בש"ח וכולל מע"מ | Q30: סכום חריגה מהתקציב - הפרש בין הסכום שנרכש בפועל לעלות שאושרה בהסכם | R30: שיעור ההפרש | S30: הערות לחריגה | T30: בדיקה והערות של היועץ מתאריך | U30: נבדק בשלב 2/3
A31: 1 | B31: מכונת שטיפת רצפות | D31: 1 | E31: =IF('שאלון למילוי הבקשה - חובה'!$D$33<31,18000,IF('שאלון למילוי הבקשה - חובה'!$D$33<61,22000,30000)) -> 18000 | F31: =D31*E31 -> 18000 | H31: =E31*G31 -> 0 | I31: =IF(G31>D31,"נא להסביר חריגה","") | Q31: =IF(P31="",0,P31-H31) -> 0 | R31: =IF(H31=0,0,Q31/H31) -> 0
A32: 2 | B32: שואב אבק תעשייתי | D32: 1 | E32: 5000 | F32: =D32*E32 -> 5000 | H32: =E32*G32 -> 0 | I32: =IF(G32>D32,"נא להסביר חריגה","") | Q32: =IF(P32="",0,P32-H32) -> 0 | R32: =IF(H32=0,0,Q32/H32) -> 0
A33: 3 | B33: מכונת כביסה | D33: 1 | E33: 5000 | F33: =D33*E33 -> 5000 | H33: =E33*G33 -> 0 | I33: =IF(G33>D33,"נא להסביר חריגה","") | Q33: =IF(P33="",0,P33-H33) -> 0 | R33: =IF(H33=0,0,Q33/H33) -> 0
A34: 4 | B34: מייבש כביסה | D34: 1 | E34: 5000 | F34: =D34*E34 -> 5000 | H34: =E34*G34 -> 0 | I34: =IF(G34>D34,"נא להסביר חריגה","") | Q34: =IF(P34="",0,P34-H34) -> 0 | R34: =IF(H34=0,0,Q34/H34) -> 0
A35: 5 | B35: סולם | D35: 1 | E35: 1500 | F35: =D35*E35 -> 1500 | H35: =E35*G35 -> 0 | I35: =IF(G35>D35,"נא להסביר חריגה","") | Q35: =IF(P35="",0,P35-H35) -> 0 | R35: =IF(H35=0,0,Q35/H35) -> 0
A36: 6 | B36: ארגז כלי עבודה | C36: אחד לעשרה אנשים | D36: =ROUNDUP('שאלון למילוי הבקשה - חובה'!$D$33/10,0) -> 0 | E36: =IF('שאלון למילוי הבקשה - חובה'!$D$33<31,2500,4000) -> 2500 | F36: =D36*E36 -> 0 | H36: =E36*G36 -> 0 | I36: =IF(G36>D36,"נא להסביר חריגה","") | Q36: =IF(P36="",0,P36-H36) -> 0 | R36: =IF(H36=0,0,Q36/H36) -> 0
A37: 7 | B37: עגלה עם מיכל אשפה | C37: אחד לעשרה אנשים | D37: =ROUNDUP('שאלון למילוי הבקשה - חובה'!$D$33/10,0) -> 0 | E37: 500 | F37: =D37*E37 -> 0 | H37: =E37*G37 -> 0 | I37: =IF(G37>D37,"נא להסביר חריגה","") | Q37: =IF(P37="",0,P37-H37) -> 0 | R37: =IF(H37=0,0,Q37/H37) -> 0
A38: 8 | B38: סט כלים לתחזוקת גינה | C38: אחד לעשרה אנשים | D38: =ROUNDUP('שאלון למילוי הבקשה - חובה'!$D$33/10,0) -> 0 | E38: =IF('שאלון למילוי הבקשה - חובה'!$D$33<31,3000,6000) -> 3000 | F38: =D38*E38 -> 0 | H38: =E38*G38 -> 0 | I38: =IF(G38>D38,"נא להסביר חריגה","") | Q38: =IF(P38="",0,P38-H38) -> 0 | R38: =IF(H38=0,0,Q38/H38) -> 0
B39: סך ציוד אחזקת המתחם | F39: =SUM(F31:F38) -> 34500 | H39: =SUM(H31:H38) -> 0 | K39: =SUM(K31:K38) -> 0 | P39: =SUM(P31:P38) -> 0 | Q39: =SUM(Q31:Q38) -> 0 | R39: =IF(H39=0,0,Q39/H39) -> 0
A41: 2.5 | B41: ציוד אבטחה ובטיחות - תקן | G41: ציוד אבטחה ובטיחות - בקשה | K41: שלב 1 | M41: דוח הוצאות כספי מפורט - שלבים 2 ואילך
A42: מס' | B42: ציוד | D42: כמות | E42: מחיר ליחידה | F42: עלות הציוד | G42: כמות הציוד המבוקש | H42: סך עלות הציוד המבוקש | I42: התראת חריגה | J42: הערות/ הסבר חריגות | K42: צפי עלות רכישה כולל מע"מ | L42: שם הספק | M42: פירוט מהות ההוצאה - הציוד שנרכש / השרות שניתן | N42: מס' חשבונית מס / קבלה | O42: תאריך הוצאה | P42: סכום הוצאה בש"ח וכולל מע"מ | Q42: סכום חריגה מהתקציב - הפרש בין הסכום שנרכש בפועל לעלות שאושרה בהסכם | R42: שיעור ההפרש | S42: הערות לחריגה | T42: בדיקה והערות של היועץ מתאריך | U42: נבדק בשלב 2/3
A43: 1 | B43: מצלמות אבטחה | C43: מערכת קומפלט כולל ציוד ועבודה. התחשיב: הוצאות קבועות 10,000 ₪ + מספר כיתות כפול 1,500 ₪ כפול 3 לשטחים ציבוריים | D43: 1 | E43: =10000+'שאלון למילוי הבקשה - חובה'!$D$35*1500*3 -> 10000 | F43: =D43*E43 -> 10000 | H43: =E43*G43 -> 0 | I43: =IF(G43>D43,"נא להסביר חריגה","") | Q43: =IF(P43="",0,P43-H43) -> 0 | R43: =IF(H43=0,0,Q43/H43) -> 0
A45: 2.6 | B45: ציוד עזרה ראשונה, ציוד מציל חיים וציוד חרום - תקן | G45: ציוד עזרה ראשונה, ציוד מציל חיים וציוד חרום - בקשה | K45: שלב 1 | M45: דוח הוצאות כספי מפורט - שלבים 2 ואילך
A46: מס' | B46: ציוד | D46: כמות | E46: מחיר ליחידה | F46: עלות הציוד | G46: כמות הציוד המבוקש | H46: סך עלות הציוד המבוקש | I46: התראת חריגה | J46: הערות/ הסבר חריגות | K46: צפי עלות רכישה כולל מע"מ | L46: שם הספק | M46: פירוט מהות ההוצאה - הציוד שנרכש / השרות שניתן | N46: מס' חשבונית מס / קבלה | O46: תאריך הוצאה | P46: סכום הוצאה בש"ח וכולל מע"מ | Q46: סכום חריגה מהתקציב - הפרש בין הסכום שנרכש בפועל לעלות שאושרה בהסכם | R46: שיעור ההפרש | S46: הערות לחריגה | T46: בדיקה והערות של היועץ מתאריך | U46: נבדק בשלב 2/3
A47: 1 | B47: דיפיבריליאטור | D47: 1 | E47: 5000 | F47: =D47*E47 -> 5000 | H47: =E47*G47 -> 0 | I47: =IF(G47>D47,"נא להסביר חריגה","") | Q47: =IF(P47="",0,P47-H47) -> 0 | R47: =IF(H47=0,0,Q47/H47) -> 0
A48: 2 | B48: תיק עזרה ראשונה | C48: אחד לעשרה אנשים | D48: =ROUNDUP('שאלון למילוי הבקשה - חובה'!$D$33/10,0) -> 0 | E48: 700 | F48: =D48*E48 -> 0 | H48: =E48*G48 -> 0 | I48: =IF(G48>D48,"נא להסביר חריגה","") | Q48: =IF(P48="",0,P48-H48) -> 0 | R48: =IF(H48=0,0,Q48/H48) -> 0
A49: 3 | B49: ארון תרופות | D49: =IF('שאלון למילוי הבקשה - חובה'!$D$33<31,1,IF('שאלון למילוי הבקשה - חובה'!$D$33<61,2,3)) -> 1 | E49: 1300 | F49: =D49*E49 -> 1300 | H49: =E49*G49 -> 0 | I49: =IF(G49>D49,"נא להסביר חריגה","") | Q49: =IF(P49="",0,P49-H49) -> 0 | R49: =IF(H49=0,0,Q49/H49) -> 0
B50: סך ציוד עזרה ראשונה, מציל חיים וציוד חרום | F50: =SUM(F47:F49) -> 6300 | H50: =SUM(H47:H49) -> 0 | K50: =SUM(K47:K49) -> 0 | P50: =SUM(P47:P49) -> 0 | Q50: =SUM(Q47:Q49) -> 0 | R50: =IF(H50=0,0,Q50/H50) -> 0
A52: סך | B52: =B10 -> ציוד כללי לחללים משותפים וציוד נוסף
B53: =B10 -> ציוד כללי לחללים משותפים וציוד נוסף | F53: עלות ציוד התקן | H53: עלות הציוד המבוקש | K53: =K$12 -> צפי עלות רכישה כולל מע"מ | P53: =P$12 -> סכום הוצאה בש"ח וכולל מע"מ | Q53: =Q$12 -> סכום חריגה מהתקציב - הפרש בין הסכום שנרכש בפועל לעלות שאושרה בהסכם | R53: שיעור ההפרש
B54: ='ציוד לחדרי קבוצות'!B45 -> סה"כ וכולל מע"מ | F54: =F16+F20+F27+F39+F43+F50 -> 137300 | H54: =H16+H20+H27+H39+H43+H50 -> 0 | K54: =K16+K20+K27+K39+K43+K50 -> 0 | P54: =P16+P20+P27+P39+P43+P50 -> 0 | Q54: =Q16+Q20+Q27+Q39+Q43+Q50 -> 0 | R54: =IF(H54=0,0,Q54/H54) -> 0

Sheet ציוד תעסוקה וסדנאות
B1: ='שאלון למילוי הבקשה - חובה'!B1 -> תקן ציוד כללי בסיסי למרכזי פעילות יומית לאנשים עם מוגבלות- מרחבים: גירסת- 1.9.2026
B2: ='שאלון למילוי הבקשה - חובה'!$C$7 -> שם הגוף המבקש: | D2: ='שאלון למילוי הבקשה - חובה'!$D$7 -> 0
B3: ='שאלון למילוי הבקשה - חובה'!$C$18 -> שם המסגרת: | D3: ='שאלון למילוי הבקשה - חובה'!$D$18 -> 0
B4: ='שאלון למילוי הבקשה - חובה'!$C$33 -> מספר האנשים שעבורם מיועד הפרויקט (בין 20 ל-25): | D4: ='שאלון למילוי הבקשה - חובה'!$D$33 -> 0
B5: ='שאלון למילוי הבקשה - חובה'!$C$35 -> מספר חדרי קבוצות כולל חדרי פעילות וסדנאות: | D5: ='שאלון למילוי הבקשה - חובה'!$D$35 -> 0
B6: ציוד תעסוקה / סדנאות
B7: עבור הסדנאות, במסגרת דוח הפעילות נדרש להעביר פירוט הכולל: שם הסדנה, תכנים, תדירות הפעילות, כמות משתתפים מתוכננת וכמות והכשרת הצוות המפעיל.
B8: כאן עליך לדווח את שמות הסדנאות בלבד
B9: הציוד לסדנאות כולל ריהוט מתאים - כיסאות, שולחנות, מדפים | D9: סדנאת חובה -פעילות גופנית ועוד 1-2 לבחירתכם. והסכום הכולל עד | J9: 50000
A10: 4 | B10: ציוד תעסוקה/ סדנאות - תקן | G10: ציוד תעסוקה/ סדנאות - בקשה | K10: שלב 1 | M10: דוח הוצאות כספי מפורט - שלבים 2 ואילך
A11: מס' | B11: ציוד | D11: כמות | E11: מחיר ליחידה | F11: עלות הציוד | G11: כמות הציוד המבוקש | H11: סך עלות הציוד המבוקש | I11: התראת חריגה | J11: שם הסדנאות | K11: צפי עלות רכישה כולל מע"מ | L11: שם הספק | M11: פירוט מהות ההוצאה - הציוד שנרכש / השרות שניתן | N11: מס' חשבונית מס / קבלה | O11: תאריך הוצאה | P11: סכום הוצאה בש"ח וכולל מע"מ | Q11: סכום חריגה מהתקציב - הפרש בין הסכום שנרכש בפועל לעלות שאושרה בהסכם | R11: שיעור ההפרש | S11: הערות לחריגה | T11: בדיקה והערות של היועץ מתאריך | U11: נבדק בשלב 2/3
A12: 4.1 | B12: ציוד סדנאות | C12: סט ציוד לסדנאות: סדנאות חובה-פעילות גופנית ועוד 1-2 לבחירתכם. (לפי גודל המסגרת) * | D12: 1 | E12: 30000 | F12: =D12*E12 -> 30000 | H12: =E12*G12 -> 0 | I12: =IF(G12>D12,"נא להסביר חריגה","")
K23: =SUM(K12:K22) -> 0 | P23: =SUM(P12:P22) -> 0 | Q23: =P23-H12 -> 0 | R23: =IF(H12=0,0,Q23/H12) -> 0
A24: 4.2 | B24: ציוד סדנאות | C24: סט ציוד לסדנאות: סדנאות חובה-פעילות גופנית ועוד 1-2 לבחירתכם. (לפי גודל המסגרת) * | D24: 1 | E24: 10000 | F24: =D24*E24 -> 10000 | H24: =E24*G24 -> 0 | I24: =IF(G24>D24,"נא להסביר חריגה","")
K35: =SUM(K24:K34) -> 0 | P35: =SUM(P24:P34) -> 0 | Q35: =P35-H24 -> 0 | R35: =IF(H24=0,0,Q35/H24) -> 0
A36: 4.3 | B36: ציוד סדנאות | C36: סט ציוד לסדנאות: סדנאות חובה-פעילות גופנית ועוד 1-2 לבחירתכם. (לפי גודל המסגרת) * | D36: 1 | E36: 10000 | F36: =D36*E36 -> 10000 | H36: =E36*G36 -> 0 | I36: =IF(G36>D36,"נא להסביר חריגה","")
K47: =SUM(K36:K46) -> 0 | P47: =SUM(P36:P46) -> 0 | Q47: =P47-H36 -> 0 | R47: =IF(H36=0,0,Q47/H36) -> 0
A48: סך | B48: =B6 -> ציוד תעסוקה / סדנאות
B49: =B6 -> ציוד תעסוקה / סדנאות | F49: עלות ציוד התקן לפי מטבח מבשל | H49: צפי עלות רכישה כולל מע"מ | K49: צפי עלות רכישה כולל מע"מ | P49: סכום הוצאה בש"ח וכולל מע"מ | Q49: סכום חריגה | R49: שיעור ההפרש
B50: סה"כ כולל מע"מ | F50: =F12+F24+F36 -> 50000 | H50: =IF(H12+H24+H36>J9,J9,H12+H24+H36) -> 0 | K50: =K23+K35+K47 -> 0 | P50: =P23+P35+P47 -> 0 | Q50: =P50-H50 -> 0 | R50: =IF(H50=0,0,Q50/H50) -> 0
A51: * | B51: הערות: | H51: =IF(H12+H24+H35>J9,"בקשה חורגת","")
B52: עבור הסדנאות, נדרש להעביר פירוט הכולל: שם הסדנה, תכנים, תדירות הפעילות, כמות משתתפים מתוכננת וכמות והכשרת הצוות המפעיל.
B53: הציוד לסדנאות כולל ריהוט מתאים - כיסאות, שולחנות, מדפים

Sheet מטבח ואזור אכילה
B1: ='שאלון למילוי הבקשה - חובה'!B1 -> תקן ציוד כללי בסיסי למרכזי פעילות יומית לאנשים עם מוגבלות- מרחבים: גירסת- 1.9.2026
B2: ='שאלון למילוי הבקשה - חובה'!$C$7 -> שם הגוף המבקש: | D2: ='שאלון למילוי הבקשה - חובה'!$D$7 -> 0
B3: ='שאלון למילוי הבקשה - חובה'!$C$18 -> שם המסגרת: | D3: ='שאלון למילוי הבקשה - חובה'!$D$18 -> 0
B4: ='שאלון למילוי הבקשה - חובה'!$C$33 -> מספר האנשים שעבורם מיועד הפרויקט (בין 20 ל-25): | D4: ='שאלון למילוי הבקשה - חובה'!$D$33 -> 0 | E4: =IF(D4<20,"מספר האנשים בין 20 ל 25",IF(D4>25,"מספר האנשים בין 20 ל 25","")) -> מספר האנשים בין 20 ל 25
B5: ='שאלון למילוי הבקשה - חובה'!$C$35 -> מספר חדרי קבוצות כולל חדרי פעילות וסדנאות: | D5: ='שאלון למילוי הבקשה - חובה'!$D$35 -> 0
B6: הנחיות והערות למילוי הבקשה
B7: ='ציוד לחדרי קבוצות'!B7 -> כמויות התקן משתנות בהתאם למספר האנשים במסגרת ומספר חדרי קבוצות.
B8: ='ציוד לחדרי קבוצות'!B8 -> מבקש הציוד מתבקש למלא רק את התאים הממורקרים בצהוב.
B9: ='ציוד לחדרי קבוצות'!B9 -> כל המחירים והעלויות להלן נקובים בש"ח וכוללים מע"מ
A10: 3 | B10: ציוד מטבח מחמם ואזור אכילה
A11: 3 | B11: ציוד מטבח מחמם ואזור אכילה - תקן | G11: ציוד מטבח מחמם - בקשה | K11: שלב 1 | M11: דוח הוצאות כספי מפורט - שלבים 2 ואילך
A12: מס' | B12: ציוד: במידה והמטבח אינו בחלל נפרד, ניתן לבקש ציוד רק בהיקף של מחצית מהעלות לעיל | C12: הערות | D12: כמות תקן | E12: מחיר התקן ליחידה כולל מע"מ | F12: עלות ציוד התקן כולל מע"מ | G12: כמות הציוד המבוקש | H12: סך עלות הציוד המבוקש כולל מע"מ | I12: התראת חריגה | J12: הערות/ הסבר חריגות | K12: צפי עלות רכישה כולל מע"מ | L12: שם הספק | M12: פירוט מהות ההוצאה - הציוד שנרכש / השרות שניתן | N12: מס' חשבונית מס / קבלה | O12: תאריך הוצאה | P12: סכום הוצאה בש"ח וכולל מע"מ | Q12: סכום חריגה מהתקציב - הפרש בין הסכום שנרכש בפועל לעלות שאושרה בהסכם | R12: שיעור ההפרש | S12: הערות לחריגה | T12: בדיקה והערות של היועץ מתאריך | U12: נבדק בשלב 2/3
A13: 1 | B13: כיריים חשמליות 4 להבות | D13: 1 | E13: =IF('שאלון למילוי הבקשה - חובה'!$D$33<31,6000,IF('שאלון למילוי הבקשה - חובה'!$D$33<61,8000,15000)) -> 6000 | F13: =D13*E13 -> 6000 | H13: =E13*G13 -> 0 | I13: =IF(G13>D13,"נא להסביר חריגה","") | Q13: =IF(P13="",0,P13-H13) -> 0 | R13: =IF(H13=0,0,Q13/H13) -> 0
A14: 2 | B14: תנור אפייה וחימום | D14: 1 | E14: =IF('שאלון למילוי הבקשה - חובה'!$D$33<31,6000,IF('שאלון למילוי הבקשה - חובה'!$D$33<61,8000,15000)) -> 6000 | F14: =D14*E14 -> 6000 | H14: =E14*G14 -> 0 | I14: =IF(G14>D14,"נא להסביר חריגה","") | Q14: =IF(P14="",0,P14-H14) -> 0 | R14: =IF(H14=0,0,Q14/H14) -> 0
A15: 3 | B15: קומביסטימר | D15: 1 | E15: =IF('שאלון למילוי הבקשה - חובה'!$D$33<31,20000,IF('שאלון למילוי הבקשה - חובה'!$D$33<61,30000,40000)) -> 20000 | F15: =D15*E15 -> 20000 | H15: =E15*G15 -> 0 | I15: =IF(G15>D15,"נא להסביר חריגה","") | Q15: =IF(P15="",0,P15-H15) -> 0 | R15: =IF(H15=0,0,Q15/H15) -> 0
A16: 4 | B16: מנדף | D16: 1 | E16: =IF('שאלון למילוי הבקשה - חובה'!$D$33<31,12000,IF('שאלון למילוי הבקשה - חובה'!$D$33<61,18000,24000)) -> 12000 | F16: =D16*E16 -> 12000 | H16: =E16*G16 -> 0 | I16: =IF(G16>D16,"נא להסביר חריגה","") | Q16: =IF(P16="",0,P16-H16) -> 0 | R16: =IF(H16=0,0,Q16/H16) -> 0
A17: 5 | B17: מקרר תעשייתי | D17: 1 | E17: =IF('שאלון למילוי הבקשה - חובה'!$D$33<31,12000,IF('שאלון למילוי הבקשה - חובה'!$D$33<61,15000,25000)) -> 12000 | F17: =D17*E17 -> 12000 | H17: =E17*G17 -> 0 | I17: =IF(G17>D17,"נא להסביר חריגה","") | Q17: =IF(P17="",0,P17-H17) -> 0 | R17: =IF(H17=0,0,Q17/H17) -> 0
A18: 6 | B18: מקפיא | D18: 1 | E18: 5000 | F18: =D18*E18 -> 5000 | H18: =E18*G18 -> 0 | I18: =IF(G18>D18,"נא להסביר חריגה","") | Q18: =IF(P18="",0,P18-H18) -> 0 | R18: =IF(H18=0,0,Q18/H18) -> 0
A19: 7 | B19: מדיח כלים תעשייתי | D19: 1 | E19: =IF('שאלון למילוי הבקשה - חובה'!$D$33<31,15000,IF('שאלון למילוי הבקשה - חובה'!$D$33<61,20000,30000)) -> 15000 | F19: =D19*E19 -> 15000 | H19: =E19*G19 -> 0 | I19: =IF(G19>D19,"נא להסביר חריגה","") | Q19: =IF(P19="",0,P19-H19) -> 0 | R19: =IF(H19=0,0,Q19/H19) -> 0
A20: 8 | B20: מרכך מים אוטומטי | D20: 1 | E20: 6000 | F20: =D20*E20 -> 6000 | H20: =E20*G20 -> 0 | I20: =IF(G20>D20,"נא להסביר חריגה","") | Q20: =IF(P20="",0,P20-H20) -> 0 | R20: =IF(H20=0,0,Q20/H20) -> 0
A21: 9 | B21: מעבד מזון מקצועי | D21: 1 | E21: 4000 | F21: =D21*E21 -> 4000 | H21: =E21*G21 -> 0 | I21: =IF(G21>D21,"נא להסביר חריגה","") | Q21: =IF(P21="",0,P21-H21) -> 0 | R21: =IF(H21=0,0,Q21/H21) -> 0
A22: 10 | B22: משטחי עבודה למטבח | D22: 4 | E22: 2000 | F22: =D22*E22 -> 8000 | H22: =E22*G22 -> 0 | I22: =IF(G22>D22,"נא להסביר חריגה","") | Q22: =IF(P22="",0,P22-H22) -> 0 | R22: =IF(H22=0,0,Q22/H22) -> 0
A23: 11 | B23: מיקסר מקצועי | D23: 1 | E23: =IF('שאלון למילוי הבקשה - חובה'!$D$33<31,6000,IF('שאלון למילוי הבקשה - חובה'!$D$33<61,9000,12000)) -> 6000 | F23: =D23*E23 -> 6000 | H23: =E23*G23 -> 0 | I23: =IF(G23>D23,"נא להסביר חריגה","") | Q23: =IF(P23="",0,P23-H23) -> 0 | R23: =IF(H23=0,0,Q23/H23) -> 0
A24: 12 | B24: מיקרוגל | D24: 1 | E24: 3000 | F24: =D24*E24 -> 3000 | H24: =E24*G24 -> 0 | I24: =IF(G24>D24,"נא להסביר חריגה","") | Q24: =IF(P24="",0,P24-H24) -> 0 | R24: =IF(H24=0,0,Q24/H24) -> 0
A25: 13 | B25: מתקן/ בר מים | D25: =IF('שאלון למילוי הבקשה - חובה'!$D$33<31,1,IF('שאלון למילוי הבקשה - חובה'!$D$33<61,2,3)) -> 1 | E25: 4000 | F25: =D25*E25 -> 4000 | H25: =E25*G25 -> 0 | I25: =IF(G25>D25,"נא להסביר חריגה","") | Q25: =IF(P25="",0,P25-H25) -> 0 | R25: =IF(H25=0,0,Q25/H25) -> 0
A26: 14 | B26: עגלת הגשה | D26: =IF('שאלון למילוי הבקשה - חובה'!$D$33<31,1,IF('שאלון למילוי הבקשה - חובה'!$D$33<61,2,3)) -> 1 | E26: 1500 | F26: =D26*E26 -> 1500 | H26: =E26*G26 -> 0 | I26: =IF(G26>D26,"נא להסביר חריגה","") | Q26: =IF(P26="",0,P26-H26) -> 0 | R26: =IF(H26=0,0,Q26/H26) -> 0
A27: 15 | B27: מיחם מוסדי אוטומטי | D27: 1 | E27: 3500 | F27: =D27*E27 -> 3500 | H27: =E27*G27 -> 0 | I27: =IF(G27>D27,"נא להסביר חריגה","") | Q27: =IF(P27="",0,P27-H27) -> 0 | R27: =IF(H27=0,0,Q27/H27) -> 0
A28: 16 | B28: עגלת חימום / קרור | D28: =IF('שאלון למילוי הבקשה - חובה'!$D$33<31,1,IF('שאלון למילוי הבקשה - חובה'!$D$33<61,2,3)) -> 1 | E28: 20000 | F28: =D28*E28 -> 20000 | H28: =E28*G28 -> 0 | I28: =IF(G28>D28,"נא להסביר חריגה","") | Q28: =IF(P28="",0,P28-H28) -> 0 | R28: =IF(H28=0,0,Q28/H28) -> 0
A29: 17 | B29: ארון אחסון | D29: =IF('שאלון למילוי הבקשה - חובה'!$D$33<31,2,IF('שאלון למילוי הבקשה - חובה'!$D$33<61,3,4)) -> 2 | E29: 4500 | F29: =D29*E29 -> 9000 | H29: =E29*G29 -> 0 | I29: =IF(G29>D29,"נא להסביר חריגה","") | Q29: =IF(P29="",0,P29-H29) -> 0 | R29: =IF(H29=0,0,Q29/H29) -> 0
A30: 18 | B30: עגלה עם מיכל אשפה | D30: 1 | E30: 500 | F30: =D30*E30 -> 500 | H30: =E30*G30 -> 0 | I30: =IF(G30>D30,"נא להסביר חריגה","") | Q30: =IF(P30="",0,P30-H30) -> 0 | R30: =IF(H30=0,0,Q30/H30) -> 0
A31: 19 | B31: סט כלי מטבח | C31: לפי 500 ₪ לאדם כולל צוות טיפולי | D31: =ROUNDUP('שאלון למילוי הבקשה - חובה'!$D$33*1.2*7/6,0) -> 0 | E31: 500 | F31: =D31*E31 -> 0 | H31: =E31*G31 -> 0 | I31: =IF(G31>D31,"נא להסביר חריגה","") | Q31: =IF(P31="",0,P31-H31) -> 0 | R31: =IF(H31=0,0,Q31/H31) -> 0
A32: 20 | B32: סט כלי אוכל | C32: בהתאם לכמות האנשים במסגרת כולל צוות טיפולי בתוספת 20% | D32: =ROUNDUP('שאלון למילוי הבקשה - חובה'!$D$33*7/6*1.2,0) -> 0 | E32: 300 | F32: =D32*E32 -> 0 | H32: =E32*G32 -> 0 | I32: =IF(G32>D32,"נא להסביר חריגה","") | Q32: =IF(P32="",0,P32-H32) -> 0 | R32: =IF(H32=0,0,Q32/H32) -> 0
A33: 21 | B33: כסא | C33: בהתאם לכמות האנשים במסגרת כולל צוות טיפולי | D33: =ROUNDUP('שאלון למילוי הבקשה - חובה'!$D$33*7/6,0) -> 0 | E33: 600 | F33: =D33*E33 -> 0 | H33: =E33*G33 -> 0 | I33: =IF(G33>D33,"נא להסביר חריגה","") | Q33: =IF(P33="",0,P33-H33) -> 0 | R33: =IF(H33=0,0,Q33/H33) -> 0
A34: 22 | B34: שולחן | C34: לפי 4 אנשים לשולחן כולל צוות טיפולי | D34: =ROUNDUP('שאלון למילוי הבקשה - חובה'!$D$33*7/6/4,0) -> 0 | E34: 3500 | F34: =D34*E34 -> 0 | H34: =E34*G34 -> 0 | I34: =IF(G34>D34,"נא להסביר חריגה","") | Q34: =IF(P34="",0,P34-H34) -> 0 | R34: =IF(H34=0,0,Q34/H34) -> 0
B35: סה"כ ציוד מטבח מחמם ואזור אכילה | F35: =SUM(F13:F34) -> 141500 | H35: =SUM(H13:H34) -> 0 | K35: =SUM(K13:K34) -> 0 | P35: =SUM(P13:P34) -> 0 | Q35: =SUM(Q13:Q34) -> 0 | R35: =IF(H35=0,0,Q35/H35) -> 0

Sheet ציוד צוות
B1: ='שאלון למילוי הבקשה - חובה'!B1 -> תקן ציוד כללי בסיסי למרכזי פעילות יומית לאנשים עם מוגבלות- מרחבים: גירסת- 1.9.2026
B2: ='שאלון למילוי הבקשה - חובה'!$C$7 -> שם הגוף המבקש: | D2: ='שאלון למילוי הבקשה - חובה'!$D$7 -> 0
B3: ='שאלון למילוי הבקשה - חובה'!$C$18 -> שם המסגרת: | D3: ='שאלון למילוי הבקשה - חובה'!$D$18 -> 0
B4: ='שאלון למילוי הבקשה - חובה'!$C$33 -> מספר האנשים שעבורם מיועד הפרויקט (בין 20 ל-25): | D4: ='שאלון למילוי הבקשה - חובה'!$D$33 -> 0
B5: ='שאלון למילוי הבקשה - חובה'!$C$35 -> מספר חדרי קבוצות כולל חדרי פעילות וסדנאות: | D5: ='שאלון למילוי הבקשה - חובה'!$D$35 -> 0
A6: 5 | B6: ציוד צוות
A7: 5.1 | B7: ציוד חדר מנהל/ת - תקן | G7: ציוד חדר מנהל/ת - בקשה | K7: שלב 1 | M7: דוח הוצאות כספי מפורט - שלבים 2 ואילך
A8: מס' | B8: ציוד | C8: הערות | D8: כמות | E8: מחיר ליחידה | F8: עלות הציוד | G8: כמות הציוד המבוקש | H8: סך עלות הציוד המבוקש | I8: התראת חריגה | J8: הערות/ הסבר חריגות | K8: צפי עלות רכישה כולל מע"מ | L8: שם הספק | M8: פירוט מהות ההוצאה - הציוד שנרכש / השרות שניתן | N8: מס' חשבונית מס / קבלה | O8: תאריך הוצאה | P8: סכום הוצאה בש"ח וכולל מע"מ | Q8: סכום חריגה מהתקציב - הפרש בין הסכום שנרכש בפועל לעלות שאושרה בהסכם | R8: שיעור ההפרש | S8: הערות לחריגה | T8: בדיקה והערות של היועץ מתאריך | U8: נבדק בשלב 2/3
A9: 1 | B9: כיסא מתכוונן | C9: לפי מספר חדרים | D9: =D$25 -> 3 | E9: 1000 | F9: =E9*D9 -> 3000 | H9: =E9*G9 -> 0 | I9: =IF(G9>D9,"נא להסביר חריגה","") | Q9: =IF(P9="",0,P9-H9) -> 0 | R9: =IF(H9=0,0,Q9/H9) -> 0
A10: 2 | B10: שולחן משרדי | C10: לפי מספר חדרים | D10: =D$25 -> 3 | E10: 2500 | F10: =E10*D10 -> 7500 | H10: =E10*G10 -> 0 | I10: =IF(G10>D10,"נא להסביר חריגה","") | Q10: =IF(P10="",0,P10-H10) -> 0 | R10: =IF(H10=0,0,Q10/H10) -> 0
A11: 3 | B11: ארון איחסון | C11: לפי מספר חדרים | D11: =D$25 -> 3 | E11: 4500 | F11: =E11*D11 -> 13500 | H11: =E11*G11 -> 0 | I11: =IF(G11>D11,"נא להסביר חריגה","") | Q11: =IF(P11="",0,P11-H11) -> 0 | R11: =IF(H11=0,0,Q11/H11) -> 0
A12: 4 | B12: מחשב קומפלט | C12: לפי מספר חדרים | D12: =D$25 -> 3 | E12: 5000 | F12: =E12*D12 -> 15000 | H12: =E12*G12 -> 0 | I12: =IF(G12>D12,"נא להסביר חריגה","") | Q12: =IF(P12="",0,P12-H12) -> 0 | R12: =IF(H12=0,0,Q12/H12) -> 0
A13: 5 | B13: מדפסת משולבת | C13: לפי מספר חדרים | D13: =D$25 -> 3 | E13: 1500 | F13: =E13*D13 -> 4500 | H13: =E13*G13 -> 0 | I13: =IF(G13>D13,"נא להסביר חריגה","") | Q13: =IF(P13="",0,P13-H13) -> 0 | R13: =IF(H13=0,0,Q13/H13) -> 0
A14: 6 | B14: מגרסת נייר | D14: 1 | E14: 1500 | F14: =E14*D14 -> 1500 | H14: =E14*G14 -> 0 | I14: =IF(G14>D14,"נא להסביר חריגה","") | Q14: =IF(P14="",0,P14-H14) -> 0 | R14: =IF(H14=0,0,Q14/H14) -> 0
A15: 7 | B15: מקרר קטן | D15: 1 | E15: 2000 | F15: =E15*D15 -> 2000 | H15: =E15*G15 -> 0 | I15: =IF(G15>D15,"נא להסביר חריגה","") | Q15: =IF(P15="",0,P15-H15) -> 0 | R15: =IF(H15=0,0,Q15/H15) -> 0
A16: 8 | B16: אביזרים לחדר משרדי | C16: לפי מספר חדרים | D16: =D$25 -> 3 | E16: 700 | F16: =E16*D16 -> 2100 | H16: =E16*G16 -> 0 | I16: =IF(G16>D16,"נא להסביר חריגה","") | Q16: =IF(P16="",0,P16-H16) -> 0 | R16: =IF(H16=0,0,Q16/H16) -> 0
A17: 9 | B17: כיסא | C17: כיסא אורחים, לפי מספר חדרים | D17: =D$25 -> 3 | E17: 600 | F17: =E17*D17 -> 1800 | H17: =E17*G17 -> 0 | I17: =IF(G17>D17,"נא להסביר חריגה","") | Q17: =IF(P17="",0,P17-H17) -> 0 | R17: =IF(H17=0,0,Q17/H17) -> 0
B18: סה"כ ציוד צוות כולל מע"מ | F18: =SUM(F9:F17) -> 50900 | H18: =SUM(H9:H17) -> 0 | K18: =SUM(K9:K17) -> 0 | P18: =SUM(P9:P17) -> 0 | Q18: =IF(P18="",0,P18-H18) -> 0 | R18: =IF(H18=0,0,Q18/H18) -> 0
B20: טבלת עזר לחדרי הצוות/ הנחת יסוד לפי גודל המתחם
A21: מס' | B21: פירוט חדרי המשרד כולל עמדת מזכירות | D21: מס' חדרי המשרד
A22: 1 | B22: חדר המנהל/ ת | D22: 1
A23: 2 | B23: עמדת מזכירות | D23: 1
A24: 3 | B24: חדר צוות טיפולי | D24: =IF('שאלון למילוי הבקשה - חובה'!$D$35<31,1,IF('שאלון למילוי הבקשה - חובה'!$D$35<61,2,3)) -> 1
B25: סה"כ חדרי צוות במסגרת | D25: =SUM(D22:D24) -> 3

Sheet ציוד יעודי שלא נמצא בתקן
B1: ='שאלון למילוי הבקשה - חובה'!B1 -> תקן ציוד כללי בסיסי למרכזי פעילות יומית לאנשים עם מוגבלות- מרחבים: גירסת- 1.9.2026
B2: ='שאלון למילוי הבקשה - חובה'!$C$7 -> שם הגוף המבקש: | C2: ='שאלון למילוי הבקשה - חובה'!$D$7 -> 0 | D2: יש לרשום 2 הצעות מחיר לציוד בעלות עד 20,000 ₪ ו-3 הצעות מחיר לסכום גבוה יותר
B3: ='שאלון למילוי הבקשה - חובה'!$C$18 -> שם המסגרת: | C3: ='שאלון למילוי הבקשה - חובה'!$D$18 -> 0 | D3: ראה הערות בסוף הטבלה
A4: 6 | B4: ציוד יעודי שלא נמצא בתקן | N4: אישור מנהל/ ת התוכנית | Q4: שלב 1 | S4: דוח הוצאות כספי מפורט - שלבים 2 ואילך
A5: 6 | B5: תחום פעילות/ קבוצת ההוצאות | C5: פירוט הציוד/הפריט | D5: תיאור הצורך בפריט/בציוד | E5: כמות מבוקשת | F5: הצעת מחיר א' | G5: הצעת מחיר ב' | H5: הצעת מחיר ג' | I5: סך עלות הבקשה | J5: בקשת מחיר חריג | K5: הערות הגוף המבקש | L5: אישור כמות | M5: כמות מאושרת | N5: אישור מחיר חריג | O5: תקציב מאושר | P5: הערות מנהל/ת התוכנית | Q5: צפי עלות רכישה כולל מע"מ | R5: שם הספק | S5: פירוט מהות ההוצאה - הציוד שנרכש / השרות שניתן | T5: מס' חשבונית מס / קבלה | U5: תאריך הוצאה | V5: סכום הוצאה בש"ח וכולל מע"מ | W5: סכום חריגה מהתקציב - הפרש בין הסכום שנרכש בפועל לעלות שאושרה בהסכם | X5: שיעור ההפרש | Y5: הערות לחריגה | Z5: בדיקה והערות של היועץ מתאריך | AA5: נבדק בשלב 2/3
A6: 1 | I6: =IF(J6="",(MIN($F6:$H6))*E6,IF(J6="הצעה א",F6*E6,IF(J6="הצעה ב",G6*E6,H6*E6))) -> 0 | K6: =IF(J6="","","יש להסביר חריגה") | M6: =IF(ISBLANK(L6),"",IF(L6="מאשר",E6,0)) | O6: =IFERROR(IF(N6="מאושר",M6*I6/E6,M6*MIN(F6:H6)),0) -> 0 | W6: =IF(V6="",0,V6-O6) -> 0 | X6: =IF(O6=0,0,W6/O6) -> 0
A7: 2 | I7: =IF(J7="",(MIN($F7:$H7))*E7,IF(J7="הצעה א",F7*E7,IF(J7="הצעה ב",G7*E7,H7*E7))) -> 0 | K7: =IF(J7="","","יש להסביר חריגה") | M7: =IF(ISBLANK(L7),"",IF(L7="מאשר",E7,0)) | O7: =IFERROR(IF(N7="מאושר",M7*I7/E7,M7*MIN(F7:H7)),0) -> 0 | W7: =IF(V7="",0,V7-O7) -> 0 | X7: =IF(O7=0,0,W7/O7) -> 0
A8: 3 | I8: =IF(J8="",(MIN($F8:$H8))*E8,IF(J8="הצעה א",F8*E8,IF(J8="הצעה ב",G8*E8,H8*E8))) -> 0 | K8: =IF(J8="","","יש להסביר חריגה") | M8: =IF(ISBLANK(L8),"",IF(L8="מאשר",E8,0)) | O8: =IFERROR(IF(N8="מאושר",M8*I8/E8,M8*MIN(F8:H8)),0) -> 0 | W8: =IF(V8="",0,V8-O8) -> 0 | X8: =IF(O8=0,0,W8/O8) -> 0
A9: 4 | I9: =IF(J9="",(MIN($F9:$H9))*E9,IF(J9="הצעה א",F9*E9,IF(J9="הצעה ב",G9*E9,H9*E9))) -> 0 | K9: =IF(J9="","","יש להסביר חריגה") | M9: =IF(ISBLANK(L9),"",IF(L9="מאשר",E9,0)) | O9: =IFERROR(IF(N9="מאושר",M9*I9/E9,M9*MIN(F9:H9)),0) -> 0 | W9: =IF(V9="",0,V9-O9) -> 0 | X9: =IF(O9=0,0,W9/O9) -> 0
A10: 5 | I10: =IF(J10="",(MIN($F10:$H10))*E10,IF(J10="הצעה א",F10*E10,IF(J10="הצעה ב",G10*E10,H10*E10))) -> 0 | K10: =IF(J10="","","יש להסביר חריגה") | M10: =IF(ISBLANK(L10),"",IF(L10="מאשר",E10,0)) | O10: =IFERROR(IF(N10="מאושר",M10*I10/E10,M10*MIN(F10:H10)),0) -> 0 | W10: =IF(V10="",0,V10-O10) -> 0 | X10: =IF(O10=0,0,W10/O10) -> 0
A11: 6 | I11: =IF(J11="",(MIN($F11:$H11))*E11,IF(J11="הצעה א",F11*E11,IF(J11="הצעה ב",G11*E11,H11*E11))) -> 0 | K11: =IF(J11="","","יש להסביר חריגה") | M11: =IF(ISBLANK(L11),"",IF(L11="מאשר",E11,0)) | O11: =IFERROR(IF(N11="מאושר",M11*I11/E11,M11*MIN(F11:H11)),0) -> 0 | W11: =IF(V11="",0,V11-O11) -> 0 | X11: =IF(O11=0,0,W11/O11) -> 0
A12: 7 | I12: =IF(J12="",(MIN($F12:$H12))*E12,IF(J12="הצעה א",F12*E12,IF(J12="הצעה ב",G12*E12,H12*E12))) -> 0 | K12: =IF(J12="","","יש להסביר חריגה") | M12: =IF(ISBLANK(L12),"",IF(L12="מאשר",E12,0)) | O12: =IFERROR(IF(N12="מאושר",M12*I12/E12,M12*MIN(F12:H12)),0) -> 0 | W12: =IF(V12="",0,V12-O12) -> 0 | X12: =IF(O12=0,0,W12/O12) -> 0
A13: 8 | I13: =IF(J13="",(MIN($F13:$H13))*E13,IF(J13="הצעה א",F13*E13,IF(J13="הצעה ב",G13*E13,H13*E13))) -> 0 | K13: =IF(J13="","","יש להסביר חריגה") | M13: =IF(ISBLANK(L13),"",IF(L13="מאשר",E13,0)) | O13: =IFERROR(IF(N13="מאושר",M13*I13/E13,M13*MIN(F13:H13)),0) -> 0 | W13: =IF(V13="",0,V13-O13) -> 0 | X13: =IF(O13=0,0,W13/O13) -> 0
A14: 9 | I14: =IF(J14="",(MIN($F14:$H14))*E14,IF(J14="הצעה א",F14*E14,IF(J14="הצעה ב",G14*E14,H14*E14))) -> 0 | K14: =IF(J14="","","יש להסביר חריגה") | M14: =IF(ISBLANK(L14),"",IF(L14="מאשר",E14,0)) | O14: =IFERROR(IF(N14="מאושר",M14*I14/E14,M14*MIN(F14:H14)),0) -> 0 | W14: =IF(V14="",0,V14-O14) -> 0 | X14: =IF(O14=0,0,W14/O14) -> 0
A15: 10 | I15: =IF(J15="",(MIN($F15:$H15))*E15,IF(J15="הצעה א",F15*E15,IF(J15="הצעה ב",G15*E15,H15*E15))) -> 0 | K15: =IF(J15="","","יש להסביר חריגה") | M15: =IF(ISBLANK(L15),"",IF(L15="מאשר",E15,0)) | O15: =IFERROR(IF(N15="מאושר",M15*I15/E15,M15*MIN(F15:H15)),0) -> 0 | W15: =IF(V15="",0,V15-O15) -> 0 | X15: =IF(O15=0,0,W15/O15) -> 0
A16: 11 | I16: =IF(J16="",(MIN($F16:$H16))*E16,IF(J16="הצעה א",F16*E16,IF(J16="הצעה ב",G16*E16,H16*E16))) -> 0 | K16: =IF(J16="","","יש להסביר חריגה") | M16: =IF(ISBLANK(L16),"",IF(L16="מאשר",E16,0)) | O16: =IFERROR(IF(N16="מאושר",M16*I16/E16,M16*MIN(F16:H16)),0) -> 0 | W16: =IF(V16="",0,V16-O16) -> 0 | X16: =IF(O16=0,0,W16/O16) -> 0
A17: 12 | I17: =IF(J17="",(MIN($F17:$H17))*E17,IF(J17="הצעה א",F17*E17,IF(J17="הצעה ב",G17*E17,H17*E17))) -> 0 | K17: =IF(J17="","","יש להסביר חריגה") | M17: =IF(ISBLANK(L17),"",IF(L17="מאשר",E17,0)) | O17: =IFERROR(IF(N17="מאושר",M17*I17/E17,M17*MIN(F17:H17)),0) -> 0 | W17: =IF(V17="",0,V17-O17) -> 0 | X17: =IF(O17=0,0,W17/O17) -> 0
... A30: 25 | I30: =IF(J30="",(MIN($F30:$H30))*E30,IF(J30="הצעה א",F30*E30,IF(J30="הצעה ב",G30*E30,H30*E30))) -> 0 | K30: =IF(J30="","","יש להסביר חריגה") | M30: =IF(ISBLANK(L30),"",IF(L30="מאשר",E30,0)) | O30: =IFERROR(IF(N30="מאושר",M30*I30/E30,M30*MIN(F30:H30)),0) -> 0 | W30: =IF(V30="",0,V30-O30) -> 0 | X30: =IF(O30=0,0,W30/O30) -> 0
A31: 26 | I31: =IF(J31="",(MIN($F31:$H31))*E31,IF(J31="הצעה א",F31*E31,IF(J31="הצעה ב",G31*E31,H31*E31))) -> 0 | K31: =IF(J31="","","יש להסביר חריגה") | M31: =IF(ISBLANK(L31),"",IF(L31="מאשר",E31,0)) | O31: =IFERROR(IF(N31="מאושר",M31*I31/E31,M31*MIN(F31:H31)),0) -> 0 | V31: =O31*1.5 -> 0 | W31: =IF(V31="",0,V31-O31) -> 0 | X31: =IF(O31=0,0,W31/O31) -> 0
A32: 27 | I32: =IF(J32="",(MIN($F32:$H32))*E32,IF(J32="הצעה א",F32*E32,IF(J32="הצעה ב",G32*E32,H32*E32))) -> 0 | K32: =IF(J32="","","יש להסביר חריגה") | M32: =IF(ISBLANK(L32),"",IF(L32="מאשר",E32,0)) | O32: =IFERROR(IF(N32="מאושר",M32*I32/E32,M32*MIN(F32:H32)),0) -> 0 | V32: =O32*1.5 -> 0 | W32: =IF(V32="",0,V32-O32) -> 0 | X32: =IF(O32=0,0,W32/O32) -> 0
A33: 28 | I33: =IF(J33="",(MIN($F33:$H33))*E33,IF(J33="הצעה א",F33*E33,IF(J33="הצעה ב",G33*E33,H33*E33))) -> 0 | K33: =IF(J33="","","יש להסביר חריגה") | M33: =IF(ISBLANK(L33),"",IF(L33="מאשר",E33,0)) | O33: =IFERROR(IF(N33="מאושר",M33*I33/E33,M33*MIN(F33:H33)),0) -> 0 | V33: =O33*1.5 -> 0 | W33: =IF(V33="",0,V33-O33) -> 0 | X33: =IF(O33=0,0,W33/O33) -> 0
A34: 29 | I34: =IF(J34="",(MIN($F34:$H34))*E34,IF(J34="הצעה א",F34*E34,IF(J34="הצעה ב",G34*E34,H34*E34))) -> 0 | K34: =IF(J34="","","יש להסביר חריגה") | M34: =IF(ISBLANK(L34),"",IF(L34="מאשר",E34,0)) | O34: =IFERROR(IF(N34="מאושר",M34*I34/E34,M34*MIN(F34:H34)),0) -> 0 | V34: =O34*1.5 -> 0 | W34: =IF(V34="",0,V34-O34) -> 0 | X34: =IF(O34=0,0,W34/O34) -> 0
A35: 30 | I35: =IF(J35="",(MIN($F35:$H35))*E35,IF(J35="הצעה א",F35*E35,IF(J35="הצעה ב",G35*E35,H35*E35))) -> 0 | K35: =IF(J35="","","יש להסביר חריגה") | M35: =IF(ISBLANK(L35),"",IF(L35="מאשר",E35,0)) | O35: =IFERROR(IF(N35="מאושר",M35*I35/E35,M35*MIN(F35:H35)),0) -> 0 | V35: =O35*1.5 -> 0 | W35: =IF(V35="",0,V35-O35) -> 0 | X35: =IF(O35=0,0,W35/O35) -> 0
A36: 31 | I36: =IF(J36="",(MIN($F36:$H36))*E36,IF(J36="הצעה א",F36*E36,IF(J36="הצעה ב",G36*E36,H36*E36))) -> 0 | K36: =IF(J36="","","יש להסביר חריגה") | M36: =IF(ISBLANK(L36),"",IF(L36="מאשר",E36,0)) | O36: =IFERROR(IF(N36="מאושר",M36*I36/E36,M36*MIN(F36:H36)),0) -> 0 | V36: =O36*1.5 -> 0 | W36: =IF(V36="",0,V36-O36) -> 0 | X36: =IF(O36=0,0,W36/O36) -> 0
A37: 32 | I37: =IF(J37="",(MIN($F37:$H37))*E37,IF(J37="הצעה א",F37*E37,IF(J37="הצעה ב",G37*E37,H37*E37))) -> 0 | K37: =IF(J37="","","יש להסביר חריגה") | M37: =IF(ISBLANK(L37),"",IF(L37="מאשר",E37,0)) | O37: =IFERROR(IF(N37="מאושר",M37*I37/E37,M37*MIN(F37:H37)),0) -> 0 | V37: =O37*1.5 -> 0 | W37: =IF(V37="",0,V37-O37) -> 0 | X37: =IF(O37=0,0,W37/O37) -> 0
A38: 33 | I38: =IF(J38="",(MIN($F38:$H38))*E38,IF(J38="הצעה א",F38*E38,IF(J38="הצעה ב",G38*E38,H38*E38))) -> 0 | K38: =IF(J38="","","יש להסביר חריגה") | M38: =IF(ISBLANK(L38),"",IF(L38="מאשר",E38,0)) | O38: =IFERROR(IF(N38="מאושר",M38*I38/E38,M38*MIN(F38:H38)),0) -> 0 | V38: =O38*1.5 -> 0 | W38: =IF(V38="",0,V38-O38) -> 0 | X38: =IF(O38=0,0,W38/O38) -> 0
A39: 34 | I39: =IF(J39="",(MIN($F39:$H39))*E39,IF(J39="הצעה א",F39*E39,IF(J39="הצעה ב",G39*E39,H39*E39))) -> 0 | K39: =IF(J39="","","יש להסביר חריגה") | M39: =IF(ISBLANK(L39),"",IF(L39="מאשר",E39,0)) | O39: =IFERROR(IF(N39="מאושר",M39*I39/E39,M39*MIN(F39:H39)),0) -> 0 | V39: =O39*1.5 -> 0 | W39: =IF(V39="",0,V39-O39) -> 0 | X39: =IF(O39=0,0,W39/O39) -> 0
A40: 35 | I40: =IF(J40="",(MIN($F40:$H40))*E40,IF(J40="הצעה א",F40*E40,IF(J40="הצעה ב",G40*E40,H40*E40))) -> 0 | K40: =IF(J40="","","יש להסביר חריגה") | M40: =IF(ISBLANK(L40),"",IF(L40="מאשר",E40,0)) | O40: =IFERROR(IF(N40="מאושר",M40*I40/E40,M40*MIN(F40:H40)),0) -> 0 | V40: =O40*1.5 -> 0 | W40: =IF(V40="",0,V40-O40) -> 0 | X40: =IF(O40=0,0,W40/O40) -> 0
A41: 36 | I41: =IF(J41="",(MIN($F41:$H41))*E41,IF(J41="הצעה א",F41*E41,IF(J41="הצעה ב",G41*E41,H41*E41))) -> 0 | K41: =IF(J41="","","יש להסביר חריגה") | M41: =IF(ISBLANK(L41),"",IF(L41="מאשר",E41,0)) | O41: =IFERROR(IF(N41="מאושר",M41*I41/E41,M41*MIN(F41:H41)),0) -> 0 | V41: =O41*1.5 -> 0 | W41: =IF(V41="",0,V41-O41) -> 0 | X41: =IF(O41=0,0,W41/O41) -> 0
A42: 37 | I42: =IF(J42="",(MIN($F42:$H42))*E42,IF(J42="הצעה א",F42*E42,IF(J42="הצעה ב",G42*E42,H42*E42))) -> 0 | K42: =IF(J42="","","יש להסביר חריגה") | M42: =IF(ISBLANK(L42),"",IF(L42="מאשר",E42,0)) | O42: =IFERROR(IF(N42="מאושר",M42*I42/E42,M42*MIN(F42:H42)),0) -> 0 | V42: =O42*1.5 -> 0 | W42: =IF(V42="",0,V42-O42) -> 0 | X42: =IF(O42=0,0,W42/O42) -> 0
... A65: 60 | I65: =IF(J65="",(MIN($F65:$H65))*E65,IF(J65="הצעה א",F65*E65,IF(J65="הצעה ב",G65*E65,H65*E65))) -> 0 | K65: =IF(J65="","","יש להסביר חריגה") | M65: =IF(ISBLANK(L65),"",IF(L65="מאשר",E65,0)) | O65: =IFERROR(IF(N65="מאושר",M65*I65/E65,M65*MIN(F65:H65)),0) -> 0 | V65: =O65*1.5 -> 0 | W65: =IF(V65="",0,V65-O65) -> 0 | X65: =IF(O65=0,0,W65/O65) -> 0
B66: סה"כ ציוד יעודי | I66: =SUM(I6:I65) -> 0 | O66: =SUM(O6:O65) -> 0 | Q66: =SUM(Q6:Q65) -> 0 | V66: =SUM(V6:V65) -> 0 | W66: =SUM(W6:W65) -> 0 | X66: =IF(O66=0,0,W66/O66) -> 0
B68: הערות והסברים לגוף המבקש: | L68: הערות והסברים למנהל/ת התכנית:
B69: יש לרשום 2 הצעות מחיר לציוד בעלות עד 20,000 ₪ ו-3 הצעות מחיר לסכום גבוה יותר. | L69: בשלב הראשון מאשרים את כמות הציוד: אם בוחרים "מאושר" הכמות תתעדכן לפי כמות הבקשה, במקרים אחרים - 0. במקרה בחירת "מאושר חלקי" יש לרשום את הכמות המאושרת.
B70: התוכנה באופן אוטומטי מחשבת את עלות הציוד לפי ההצעה הזולה. | L70: חשוב לציין שכאשר בכל מקום בעמודה "כמות מאושרת" מעדכנים מספרים באופן ידני הנוסחה שרשומה בתא הנבחר נמחקת.
B71: אם יש צורך בהזמנת ציוד יקר יותר נא לבחור את ההצעה הרצויה בעמודה "בקשת מחיר חריג" ועלות הציוד תחושב לפי ההצעה הנבחרת. | L71: בשלב השני מאשרים מחירים חריגים: אם הגוף בוחר הצעה זולה אין להתייחס לעמודה הזאת. אם ישנה בקשה חריגה אישור הבקשה בוחר מחיר מבוקש. חוסר אישור בוחר את ההצעה הזולה.
B72: אם בוחרים ציוד לפי ההצעה הגבוה מהמינימלית יש לתת הסבר בשדה הערות.

Sheet סיכום לוועדה
B1: ='שאלון למילוי הבקשה - חובה'!B1 -> תקן ציוד כללי בסיסי למרכזי פעילות יומית לאנשים עם מוגבלות- מרחבים: גירסת- 1.9.2026
D6: ='שאלון למילוי הבקשה - חובה'!C29 -> דירוג סוציואקונומי של הישוב: | E6: ='שאלון למילוי הבקשה - חובה'!D29 -> 0
D7: ='שאלון למילוי הבקשה - חובה'!C31 -> קו עימות: | E7: ='שאלון למילוי הבקשה - חובה'!D31 -> 0
B8: דו"ח סיכום פרויקט בקשת הצטיידות | D8: מימון מקסימלי של ביטוח לאומי עד | E8: 200000
B9: ='שאלון למילוי הבקשה - חובה'!C5 -> תאריך הגשת הבקשה: | C9: ='שאלון למילוי הבקשה - חובה'!D5 -> 0 | D9: מימון מקסימלי של קרן שלם עד | E9: 200000
B10: ='שאלון למילוי הבקשה - חובה'!$C$7 -> שם הגוף המבקש: | C10: ='שאלון למילוי הבקשה - חובה'!D7 -> 0 | D10: השתתפות עצמית מינימלית | E10: 0.1
B11: ='שאלון למילוי הבקשה - חובה'!$C$18 -> שם המסגרת: | C11: ='שאלון למילוי הבקשה - חובה'!D18 -> 0
B12: ='שאלון למילוי הבקשה - חובה'!$C$33 -> מספר האנשים שעבורם מיועד הפרויקט (בין 20 ל-25): | C12: ='שאלון למילוי הבקשה - חובה'!D33 -> 0
B13: ='שאלון למילוי הבקשה - חובה'!$C$35 -> מספר חדרי קבוצות כולל חדרי פעילות וסדנאות: | C13: ='שאלון למילוי הבקשה - חובה'!D35 -> 0
B15: קטגוריית ציוד | C15: סך בקשת הגוף שאושרה ע"י מנהל/ת התכנית כולל מע"מ | F15: סך בקשת הגוף בשלב 1 | G15: סך הוצאה בפועל
B16: ='ציוד לחדרי קבוצות'!B10 -> ציוד וריהוט לחדרי קבוצות | C16: ='ציוד לחדרי קבוצות'!H45 -> 0 | F16: ='ציוד לחדרי קבוצות'!K45 -> 0 | G16: ='ציוד לחדרי קבוצות'!P45 -> 0
B17: ='ציוד כללי'!B10 -> ציוד כללי לחללים משותפים וציוד נוסף | C17: ='ציוד כללי'!H54 -> 0 | F17: ='ציוד כללי'!K54 -> 0 | G17: ='ציוד כללי'!P54 -> 0
B18: ='ציוד תעסוקה וסדנאות'!B6 -> ציוד תעסוקה / סדנאות | C18: ='ציוד תעסוקה וסדנאות'!H50 -> 0 | F18: ='ציוד תעסוקה וסדנאות'!K50 -> 0 | G18: ='ציוד תעסוקה וסדנאות'!P50 -> 0
B19: ='מטבח ואזור אכילה'!B10 -> ציוד מטבח מחמם ואזור אכילה | C19: ='מטבח ואזור אכילה'!H35 -> 0 | F19: ='מטבח ואזור אכילה'!K35 -> 0 | G19: ='מטבח ואזור אכילה'!P35 -> 0
B20: ='ציוד צוות'!B6 -> ציוד צוות | C20: ='ציוד צוות'!H18 -> 0 | F20: ='ציוד צוות'!K18 -> 0 | G20: ='ציוד צוות'!P18 -> 0
B21: ='ציוד יעודי שלא נמצא בתקן'!B4 -> ציוד יעודי שלא נמצא בתקן | C21: ='ציוד יעודי שלא נמצא בתקן'!O66 -> 0 | F21: ='ציוד יעודי שלא נמצא בתקן'!Q66 -> 0 | G21: ='ציוד יעודי שלא נמצא בתקן'!V66 -> 0
B22: סה"כ לפרוייקט | C22: =SUM(C16:C21) -> 0 | F22: =SUM(F16:F21) -> 0 | G22: =SUM(G16:G21) -> 0
B24: מימון לפי אחוז השתתפות עצמית מינימלית
B25: גורם מממן | C25: אחוז מימון | D25: סכום מימון
B26: אחוז מימון מקסימלי: ביטוח לאומי וקרן שלם | C26: =C28-C27 -> 0.9 | D26: =$C$22*C26 -> 0
B27: מימון עצמי | C27: =E10 -> 0.1 | D27: =$C$22*C27 -> 0
B28: סה"כ | C28: 1 | D28: =SUM(D26:D27) -> 0
B30: מימון לפי תקציב מוסדות מקסימלי
B31: גורם מממן | C31: אחוז מימון | D31: סכום מימון
B32: השתתפות מקסימלית של ביטוח לאומי וקרן שלם | C32: =IF(D$34=0,"",D32/D$34) | D32: =IF(D26>E8+E9,E8+E9,D26) -> 0
B33: מימון עצמי | C33: =IF(D$34=0,"",D33/D$34) | D33: =D34-D32 -> 0
B34: סה"כ | C34: =SUM(C32:C33) -> 0 | D34: =C22 -> 0
B36: פירוט מימון הפרויקט
B37: גורם מממן | C37: אחוז מימון | D37: סכום מימון
B38: השתתפות ביטוח לאומי | C38: =IF(D$41=0,"",D38/D$41) | D38: =IF(D32>E8,E8,D32) -> 0
B39: השתתפות קרן שלם | C39: =IF(D$41=0,"",D39/D$41) | D39: =IF(D32<E8,0,D32-E9) -> 0
B40: מימון עצמי | C40: =IF(D$41=0,"",D40/D$41) | D40: =D41-D38-D39 -> 0
B41: סה"כ | C41: =SUM(C38:C40) -> 0 | D41: =C22 -> 0
